BEGIN:VCALENDAR
VERSION:2.0
PRODID:-//Unione Sportiva Bormiese - ECPv6.8.2.1//NONSGML v1.0//EN
CALSCALE:GREGORIAN
METHOD:PUBLISH
X-WR-CALNAME:Unione Sportiva Bormiese
X-ORIGINAL-URL:https://www.usbormiese.com
X-WR-CALDESC:Eventi per Unione Sportiva Bormiese
REFRESH-INTERVAL;VALUE=DURATION:PT1H
X-Robots-Tag:noindex
X-PUBLISHED-TTL:PT1H
BEGIN:VTIMEZONE
TZID:Europe/Rome
BEGIN:DAYLIGHT
TZOFFSETFROM:+0100
TZOFFSETTO:+0200
TZNAME:CEST
DTSTART:20160327T010000
END:DAYLIGHT
BEGIN:STANDARD
TZOFFSETFROM:+0200
TZOFFSETTO:+0100
TZNAME:CET
DTSTART:20161030T010000
END:STANDARD
END:VTIMEZONE
BEGIN:VEVENT
DTSTART;VALUE=DATE:20161106
DTEND;VALUE=DATE:20161107
DTSTAMP:20260420T015813
CREATED:20160923T085759Z
LAST-MODIFIED:20160923T085759Z
UID:14961-1478390400-1478476799@www.usbormiese.com
SUMMARY:Calcio\, giovanissimi: campionato provinciale 2016/2017
DESCRIPTION:GIOVANISSIMI\nSTAGIONE 2016/2017 \n\nFASE AUTUNNALE \n6^ GIORNATA \nA Bormio\, 06/11/2016\nBORMIESE – TIRANESE
URL:https://www.usbormiese.com/event/calcio-giovanissimi-campionato-provinciale-20162017-6/
CATEGORIES:CALCIO
ATTACH;FMTTYPE=image/jpeg:https://www.usbormiese.com/wp-content/uploads/2015/10/calcio4.jpg
END:VEVENT
BEGIN:VEVENT
DTSTART;VALUE=DATE:20161106
DTEND;VALUE=DATE:20161107
DTSTAMP:20260420T015813
CREATED:20160923T075454Z
LAST-MODIFIED:20160923T075454Z
UID:14917-1478390400-1478476799@www.usbormiese.com
SUMMARY:Calcio\, prima squadra: campionato provinciale di 3^ categoria 2016/2017
DESCRIPTION:3^ CATEGORIA – PRIMA SQUADRA\nSTAGIONE 2016/2017 \n\nGIRONE D’ANDATA \n8^ GIORNATA \nA Bormio\, 06/11/2016\nBORMIESE – TRESENDA
URL:https://www.usbormiese.com/event/calcio-prima-squadra-campionato-provinciale-di-3-categoria-20162017-8/
CATEGORIES:CALCIO
ATTACH;FMTTYPE=image/jpeg:https://www.usbormiese.com/wp-content/uploads/2015/08/calcioSquadra.jpg
END:VEVENT
BEGIN:VEVENT
DTSTART;VALUE=DATE:20161106
DTEND;VALUE=DATE:20161107
DTSTAMP:20260420T015813
CREATED:20160722T124043Z
LAST-MODIFIED:20160722T124043Z
UID:14453-1478390400-1478476799@www.usbormiese.com
SUMMARY:Atletica: 3° Mini VALTELLINA WINE TRAIL
DESCRIPTION:DOMENICA 6 NOVEMBRE 2016 spazio ai giovanissimi con il Wine Trail \n \nStrada Provinciale\nSONDRIO – Piazza Garibaldi \nCategorie: E/R/C/A \n3° MINI WINETRAIL\nRitrovo ore 9.00\nChiusura Iscrizioni ore 9.30\nInizio gare ore 10.00.\nOrg. ATL. ALTA VALTELLINA 3479234630\nResp. Org. Thomas Gianoli thomas.gianoli@tiscali.it
URL:https://www.usbormiese.com/event/atletica-3-mini-valtellina-wine-trail/
CATEGORIES:ATLETICA
ATTACH;FMTTYPE=image/jpeg:https://www.usbormiese.com/wp-content/uploads/2016/07/winetrailrep.jpg
END:VEVENT
BEGIN:VEVENT
DTSTART;VALUE=DATE:20161105
DTEND;VALUE=DATE:20161107
DTSTAMP:20260420T015813
CREATED:20161103T172135Z
LAST-MODIFIED:20161103T172135Z
UID:15735-1478304000-1478476799@www.usbormiese.com
SUMMARY:Bormio Ghiaccio\, short track: Trofeo Giovanissimi a Pieve di Cadore
DESCRIPTION:Sabato 5 e domenica 6 novembre 2016\, Trofeo Giovanissimi \nShort Track\, Naz. Pieve di Cadore\nPrima tappa della manifestazione riservata alle categorie Junior D-E-F
URL:https://www.usbormiese.com/event/bormio-ghiaccio-short-track-trofeo-giovanissimi-a-pieve-di-cadore/
CATEGORIES:SHORT TRACK
ATTACH;FMTTYPE=image/jpeg:https://www.usbormiese.com/wp-content/uploads/2016/10/avt16-bann-01.jpg
END:VEVENT
BEGIN:VEVENT
DTSTART;VALUE=DATE:20161105
DTEND;VALUE=DATE:20161106
DTSTAMP:20260420T015813
CREATED:20160923T084143Z
LAST-MODIFIED:20160923T084143Z
UID:14948-1478304000-1478390399@www.usbormiese.com
SUMMARY:Calcio\, allievi: campionato provinciale 2016/2017
DESCRIPTION:ALLIEVI – STAGIONE 2016/2017 \n\nFASE AUTUNNALE \n8^ GIORNATA \nA Albosaggia\, 05/11/2016\nALBOSAGGIA – BORMIESE
URL:https://www.usbormiese.com/event/calcio-allievi-campionato-provinciale-20162017-8/
CATEGORIES:CALCIO
ATTACH;FMTTYPE=image/jpeg:https://www.usbormiese.com/wp-content/uploads/2016/05/calcio3.jpg
END:VEVENT
BEGIN:VEVENT
DTSTART;VALUE=DATE:20161105
DTEND;VALUE=DATE:20161106
DTSTAMP:20260420T015813
CREATED:20160722T123803Z
LAST-MODIFIED:20160722T123803Z
UID:14451-1478304000-1478390399@www.usbormiese.com
SUMMARY:Atletica: 3° Valtellina Wine Trail
DESCRIPTION:SABATO 5 NOVEMBRE 2016 appuntamento con il Trail Internazionale \n \nSONDRIO – Piazza Garibaldi \nCategorie: J/P/S/M \n3° VALTELLINA WINE TRAIL \nOrg. ATL. ALTA VALTELLINA \n3479234630 thomas.gianoli@tiscali.it\nRes.De Gasperi Marco 3475625173 marcodg77@hotmail.it
URL:https://www.usbormiese.com/event/atletica-3-valtellina-wine-trail/
CATEGORIES:ATLETICA
ATTACH;FMTTYPE=image/jpeg:https://www.usbormiese.com/wp-content/uploads/2016/07/winetrailrep.jpg
END:VEVENT
BEGIN:VEVENT
DTSTART;VALUE=DATE:20161104
DTEND;VALUE=DATE:20161107
DTSTAMP:20260420T015813
CREATED:20161103T171848Z
LAST-MODIFIED:20161103T171848Z
UID:15732-1478217600-1478476799@www.usbormiese.com
SUMMARY:Bormio Ghiaccio\, Short Track: Star Class ad Asker in Norvegia
DESCRIPTION:Dal 4 al 6 novembre 2016 tappa di Star Class per Senior\, Junior A/B \nGara di Short Track Internazionale ad Asker (NOR)\nPer le categorie Sen./Jun A/B \nwww.shorttrackonline.info
URL:https://www.usbormiese.com/event/bormio-ghiaccio-short-track-star-class-ad-asker-in-norvegia/
CATEGORIES:SHORT TRACK
ATTACH;FMTTYPE=image/jpeg:https://www.usbormiese.com/wp-content/uploads/2016/11/shorttrack16b.jpg
END:VEVENT
BEGIN:VEVENT
DTSTART;VALUE=DATE:20161104
DTEND;VALUE=DATE:20161107
DTSTAMP:20260420T015813
CREATED:20161103T171448Z
LAST-MODIFIED:20161103T171505Z
UID:15726-1478217600-1478476799@www.usbormiese.com
SUMMARY:Short track\, stagione 2016/2017: Coppa del mondo a Calgary
DESCRIPTION:Dal 4 al 6 ottobre 2016 ISU World Cup Short Track \nGara internazionale a Calgary (CAN)\nPartecipa la Squadra Nazionale \nwww.isu.org
URL:https://www.usbormiese.com/event/short-track-stagione-20162017-coppa-del-mondo-a-calgary/
CATEGORIES:SHORT TRACK
ATTACH;FMTTYPE=image/jpeg:https://www.usbormiese.com/wp-content/uploads/2016/11/shorttrack16a.jpg
END:VEVENT
BEGIN:VEVENT
DTSTART;VALUE=DATE:20161030
DTEND;VALUE=DATE:20161031
DTSTAMP:20260420T015813
CREATED:20160923T074756Z
LAST-MODIFIED:20160923T074756Z
UID:14914-1477785600-1477871999@www.usbormiese.com
SUMMARY:Calcio\, prima squadra: campionato provinciale di 3^ categoria 2016/2017
DESCRIPTION:3^ CATEGORIA – PRIMA SQUADRA\nSTAGIONE 2016/2017 \n\nGIRONE D’ANDATA \n7^ GIORNATA\nA Sondalo\, 30/10/2016\nSONDALO – BORMIESE
URL:https://www.usbormiese.com/event/calcio-prima-squadra-campionato-provinciale-di-3-categoria-20162017-7/
CATEGORIES:CALCIO
ATTACH;FMTTYPE=image/jpeg:https://www.usbormiese.com/wp-content/uploads/2015/08/calcioSquadra.jpg
END:VEVENT
BEGIN:VEVENT
DTSTART;VALUE=DATE:20161030
DTEND;VALUE=DATE:20161031
DTSTAMP:20260420T015813
CREATED:20160722T123112Z
LAST-MODIFIED:20160722T123112Z
UID:14450-1477785600-1477871999@www.usbormiese.com
SUMMARY:Corsa in montagna: a Grosio il Giro dei 5 Campanili
DESCRIPTION:DOMENICA 30 OTTOBRE 2016 gara di Corsa in Montagna Provinciale a GROSIO \n \nCategorie: J/P/S/M \n12^ Ed. GIRO DEI 5 CAMPANILI \nRitrovo ore 7.30\,\nChiusura iscrizioni 9.00\nInizio gare ore 9.30.\nOrg.. G.P. Rupe Magna\nResponsabile Organizz: Pini Paolo cell. 349/6699383
URL:https://www.usbormiese.com/event/corsa-in-montagna-a-grosio-il-giro-dei-5-campanili/
CATEGORIES:ATLETICA
ATTACH;FMTTYPE=image/jpeg:https://www.usbormiese.com/wp-content/uploads/2015/06/corsainmontagna.jpg
END:VEVENT
BEGIN:VEVENT
DTSTART;VALUE=DATE:20161029
DTEND;VALUE=DATE:20161030
DTSTAMP:20260420T015813
CREATED:20160923T085540Z
LAST-MODIFIED:20160923T085540Z
UID:14959-1477699200-1477785599@www.usbormiese.com
SUMMARY:Calcio\, giovanissimi: campionato provinciale 2016/2017
DESCRIPTION:GIOVANISSIMI\nSTAGIONE 2016/2017 \n\nFASE AUTUNNALE \n5^ GIORNATA\nA Sondrio\, 29/10/2016\nALBOSAGGIA – BORMIESE
URL:https://www.usbormiese.com/event/calcio-giovanissimi-campionato-provinciale-20162017-5/
CATEGORIES:CALCIO
ATTACH;FMTTYPE=image/jpeg:https://www.usbormiese.com/wp-content/uploads/2015/10/calcio4.jpg
END:VEVENT
BEGIN:VEVENT
DTSTART;VALUE=DATE:20161029
DTEND;VALUE=DATE:20161030
DTSTAMP:20260420T015813
CREATED:20160923T083906Z
LAST-MODIFIED:20160923T083906Z
UID:14946-1477699200-1477785599@www.usbormiese.com
SUMMARY:Calcio\, allievi: campionato provinciale 2016/2017
DESCRIPTION:ALLIEVI – STAGIONE 2016/2017 \n\nFASE AUTUNNALE \n7^ GIORNATA \nA Bormio\, 29/10/2016\nBORMIESE – TIRANESE
URL:https://www.usbormiese.com/event/calcio-allievi-campionato-provinciale-20162017-7/
CATEGORIES:CALCIO
ATTACH;FMTTYPE=image/jpeg:https://www.usbormiese.com/wp-content/uploads/2016/05/calcio3.jpg
END:VEVENT
BEGIN:VEVENT
DTSTART;VALUE=DATE:20161023
DTEND;VALUE=DATE:20161024
DTSTAMP:20260420T015813
CREATED:20160923T085346Z
LAST-MODIFIED:20160923T085346Z
UID:14957-1477180800-1477267199@www.usbormiese.com
SUMMARY:Calcio\, giovanissimi: campionato provinciale 2016/2017
DESCRIPTION:GIOVANISSIMI\nSTAGIONE 2016/2017 \n\nFASE AUTUNNALE \n4^ GIORNATA\nA Bormio\, 23/10/2016\nBORMIESE – PENTA PIATEDA
URL:https://www.usbormiese.com/event/calcio-giovanissimi-campionato-provinciale-20162017-4/
CATEGORIES:CALCIO
ATTACH;FMTTYPE=image/jpeg:https://www.usbormiese.com/wp-content/uploads/2015/10/calcio4.jpg
END:VEVENT
BEGIN:VEVENT
DTSTART;VALUE=DATE:20161023
DTEND;VALUE=DATE:20161024
DTSTAMP:20260420T015813
CREATED:20160923T074020Z
LAST-MODIFIED:20160923T074020Z
UID:14913-1477180800-1477267199@www.usbormiese.com
SUMMARY:Calcio\, prima squadra: campionato provinciale di 3^ categoria 2016/2017
DESCRIPTION:3^ CATEGORIA – PRIMA SQUADRA\nSTAGIONE 2016/2017 \n\nGIRONE D’ANDATA \n6^ GIORNATA \nA Bormio\, 23/10/2016\nBORMIESE – POL. VALMALENCO
URL:https://www.usbormiese.com/event/calcio-prima-squadra-campionato-provinciale-di-3-categoria-20162017-6/
CATEGORIES:CALCIO
ATTACH;FMTTYPE=image/jpeg:https://www.usbormiese.com/wp-content/uploads/2015/08/calcioSquadra.jpg
END:VEVENT
BEGIN:VEVENT
DTSTART;VALUE=DATE:20161023
DTEND;VALUE=DATE:20161024
DTSTAMP:20260420T015813
CREATED:20160914T084258Z
LAST-MODIFIED:20160914T084258Z
UID:14887-1477180800-1477267199@www.usbormiese.com
SUMMARY:Short track\, Bormio Ghiaccio: corso di avviamento
DESCRIPTION:CORSO DI AVVIAMENTO AL PATTINAGGIO\nSTAGIONE 2016-2017 \nLa Bormio Ghiaccio organizza\, per i bambini e le bambine dell’ultimo anno della scuola dell’infanzia e le prime tre classi della scuola primaria (1^\, 2^ e 3^ elementare) il consueto corso di avviamento alla pratica del pattinaggio su ghiaccio \nLA SCHEDA DI ADESIONE (presso gli uffici dell’US Bormiese) DEVE ESSERE COMPILATA ENTRO IL 24 SETTEMBRE 2016 \nIl costo di partecipazione al corso  è di 50 euro da versare all’atto dell’iscrizione \nL’associazione Bormio Ghiaccio declina ogni responsabilità per incidenti o danni che dovessero verificarsi prima\, durante e dopo il corso di avviamento al pattinaggio. \nSCARICA LA BROCHURE \nProgramma \n\nDOMENICA 25 settembre 2016\ndalle 18.00 alle 19.00\nSABATO 1 ottobre 2016\ndalle 18.00 alle 19.00\nDOMENICA 2 ottobre 2016\ndalle 18.00 alle 19.00\nSABATO 8 ottobre 2016\ndalle 18.00 alle 19.00\nDOMENICA 9 ottobre 2016\ndalle 18.00 alle 19.00\nSABATO 15 ottobre 2016\ndalle 18.00 alle 19.00\nDOMENICA 16 ottobre 2016\ndalle 18.00 alle 19.00\nDOMENICA 23 ottobre 2016\ndalle 18.00 alle 19.00\n\nLa Bormio Ghiaccio fornirà sia i pattini e il casco a chi ne fosse sprovvisto. I ragazzi che già hanno un casco anche da bici o mtb sono invitati a portarlo.
URL:https://www.usbormiese.com/event/short-track-bormio-ghiaccio-corso-di-avviamento-8/
CATEGORIES:SHORT TRACK
ATTACH;FMTTYPE=image/jpeg:https://www.usbormiese.com/wp-content/uploads/2015/09/short-track-1.jpg
END:VEVENT
BEGIN:VEVENT
DTSTART;VALUE=DATE:20161023
DTEND;VALUE=DATE:20161024
DTSTAMP:20260420T015813
CREATED:20160722T122855Z
LAST-MODIFIED:20160722T122855Z
UID:14449-1477180800-1477267199@www.usbormiese.com
SUMMARY:Corsa in monagna: a Morbegno il Trofeo Vanoni 2016
DESCRIPTION:DOMENICA 23 OTTOBRE 2016 va in scena il Trofeo Vanoni\, classicissima della Corsa in Montagna  \nGara Internazionale\,\nMORBEGNO – Via Vanoni \nCategorie: TUTTE \n59° TROFEO EZIO VANONI\ngara internazionale TOP di corsa in montagna a staffetta a 3 elementi maschile (7 km)\n34° VANONI FEMMINILE\ngara internazionale di corsa in montagna individuale femminile (5 km)\n39° MINIVANONI\ngara nazionale di corsa in montagna individuale giovanile m/f\nCampionati Provinciali Individuali Corsa in Montagna\ncategorie Ragazzi/e e Cadetti/e \nIscrizioni entro le ore 12 di giovedì 20 ottobre\nOre 9.00 partenza gare Es A/rag/cad/all m/f\nOre 11.00 partenza gara a individuale Donne (jun/pro/sen/mas f)\nOre 14.00 partenza gara a staffetta Uomini (jun/pro/sen/mas m)\nOre 17.30 premiazioni\nOrg. G.S. CSI Morbegno IVC Rovagnati Autotorino – tel e fax 0342-637225\,\nResp. Org. Giovanni Ruffoni (cell. 340/4606881)\,\ninformazioni: cell. 333-3902190 (Marco) e cell. 333-3903071 (Matteo)\ne-mail: info@gscsimorbegno.org\ninfo: www.gscsimorbegno.org
URL:https://www.usbormiese.com/event/corsa-in-monagna-a-morbegno-il-trofeo-vanoni-2016/
CATEGORIES:ATLETICA
ATTACH;FMTTYPE=image/jpeg:https://www.usbormiese.com/wp-content/uploads/2015/10/bormieseVanoni2015_06.jpg
END:VEVENT
BEGIN:VEVENT
DTSTART;VALUE=DATE:20161022
DTEND;VALUE=DATE:20161023
DTSTAMP:20260420T015813
CREATED:20160923T083718Z
LAST-MODIFIED:20160923T083718Z
UID:14944-1477094400-1477180799@www.usbormiese.com
SUMMARY:Calcio\, allievi: campionato provinciale 2016/2017
DESCRIPTION:ALLIEVI – STAGIONE 2016/2017 \n\nFASE AUTUNNALE \n6^ GIORNATA \nA Stazzona\, 22/10/2016\nPOLISPORTIVA VILLA – BORMIESE
URL:https://www.usbormiese.com/event/calcio-allievi-campionato-provinciale-20162017-6/
CATEGORIES:CALCIO
ATTACH;FMTTYPE=image/jpeg:https://www.usbormiese.com/wp-content/uploads/2016/05/calcio3.jpg
END:VEVENT
BEGIN:VEVENT
DTSTART;VALUE=DATE:20161016
DTEND;VALUE=DATE:20161017
DTSTAMP:20260420T015813
CREATED:20160923T085205Z
LAST-MODIFIED:20160923T085205Z
UID:14955-1476576000-1476662399@www.usbormiese.com
SUMMARY:Calcio\, giovanissimi: campionato provinciale 2016/2017
DESCRIPTION:GIOVANISSIMI\nSTAGIONE 2016/2017 \n\nFASE AUTUNNALE \n3^ GIORNATA \nA Grosio\, 16/10/2016\nGROSIO – BORMIESE
URL:https://www.usbormiese.com/event/calcio-giovanissimi-campionato-provinciale-20162017-3/
CATEGORIES:CALCIO
ATTACH;FMTTYPE=image/jpeg:https://www.usbormiese.com/wp-content/uploads/2015/10/calcio4.jpg
END:VEVENT
BEGIN:VEVENT
DTSTART;VALUE=DATE:20161016
DTEND;VALUE=DATE:20161017
DTSTAMP:20260420T015813
CREATED:20160923T073820Z
LAST-MODIFIED:20160923T073820Z
UID:14912-1476576000-1476662399@www.usbormiese.com
SUMMARY:Calcio\, prima squadra: campionato provinciale di 3^ categoria 2016/2017
DESCRIPTION:3^ CATEGORIA – PRIMA SQUADRA\nSTAGIONE 2016/2017 \n\nGIRONE D’ANDATA \n5^ GIORNATA\nA Livigno\, 16/10/2016\nSPORT.CLUB LIVIGNO – BORMIESE
URL:https://www.usbormiese.com/event/calcio-prima-squadra-campionato-provinciale-di-3-categoria-20162017-5/
CATEGORIES:CALCIO
ATTACH;FMTTYPE=image/jpeg:https://www.usbormiese.com/wp-content/uploads/2015/08/calcioSquadra.jpg
END:VEVENT
BEGIN:VEVENT
DTSTART;VALUE=DATE:20161016
DTEND;VALUE=DATE:20161017
DTSTAMP:20260420T015813
CREATED:20160914T084127Z
LAST-MODIFIED:20160914T084127Z
UID:14886-1476576000-1476662399@www.usbormiese.com
SUMMARY:Short track\, Bormio Ghiaccio: corso di avviamento
DESCRIPTION:CORSO DI AVVIAMENTO AL PATTINAGGIO\nSTAGIONE 2016-2017 \nLa Bormio Ghiaccio organizza\, per i bambini e le bambine dell’ultimo anno della scuola dell’infanzia e le prime tre classi della scuola primaria (1^\, 2^ e 3^ elementare) il consueto corso di avviamento alla pratica del pattinaggio su ghiaccio \nLA SCHEDA DI ADESIONE (presso gli uffici dell’US Bormiese) DEVE ESSERE COMPILATA ENTRO IL 24 SETTEMBRE 2016 \nIl costo di partecipazione al corso  è di 50 euro da versare all’atto dell’iscrizione \nL’associazione Bormio Ghiaccio declina ogni responsabilità per incidenti o danni che dovessero verificarsi prima\, durante e dopo il corso di avviamento al pattinaggio. \nSCARICA LA BROCHURE \nProgramma \n\nDOMENICA 25 settembre 2016\ndalle 18.00 alle 19.00\nSABATO 1 ottobre 2016\ndalle 18.00 alle 19.00\nDOMENICA 2 ottobre 2016\ndalle 18.00 alle 19.00\nSABATO 8 ottobre 2016\ndalle 18.00 alle 19.00\nDOMENICA 9 ottobre 2016\ndalle 18.00 alle 19.00\nSABATO 15 ottobre 2016\ndalle 18.00 alle 19.00\nDOMENICA 16 ottobre 2016\ndalle 18.00 alle 19.00\nDOMENICA 23 ottobre 2016\ndalle 18.00 alle 19.00\n\nLa Bormio Ghiaccio fornirà sia i pattini e il casco a chi ne fosse sprovvisto. I ragazzi che già hanno un casco anche da bici o mtb sono invitati a portarlo.
URL:https://www.usbormiese.com/event/short-track-bormio-ghiaccio-corso-di-avviamento-7/
CATEGORIES:SHORT TRACK
ATTACH;FMTTYPE=image/jpeg:https://www.usbormiese.com/wp-content/uploads/2015/09/short-track-1.jpg
END:VEVENT
BEGIN:VEVENT
DTSTART;VALUE=DATE:20161015
DTEND;VALUE=DATE:20161016
DTSTAMP:20260420T015813
CREATED:20160923T083550Z
LAST-MODIFIED:20160923T083550Z
UID:14942-1476489600-1476575999@www.usbormiese.com
SUMMARY:Calcio\, allievi: campionato provinciale 2016/2017
DESCRIPTION:ALLIEVI – STAGIONE 2016/2017 \n\nFASE AUTUNNALE \n5^ GIORNATA\nA Bormio\, 15/10/2016\nBORMIESE – PENTA PIATEDA
URL:https://www.usbormiese.com/event/calcio-allievi-campionato-provinciale-20162017-5/
CATEGORIES:CALCIO
ATTACH;FMTTYPE=image/jpeg:https://www.usbormiese.com/wp-content/uploads/2016/05/calcio3.jpg
END:VEVENT
BEGIN:VEVENT
DTSTART;VALUE=DATE:20161015
DTEND;VALUE=DATE:20161016
DTSTAMP:20260420T015813
CREATED:20160914T084009Z
LAST-MODIFIED:20160914T084009Z
UID:14885-1476489600-1476575999@www.usbormiese.com
SUMMARY:Short track\, Bormio Ghiaccio: corso di avviamento
DESCRIPTION:CORSO DI AVVIAMENTO AL PATTINAGGIO\nSTAGIONE 2016-2017 \nLa Bormio Ghiaccio organizza\, per i bambini e le bambine dell’ultimo anno della scuola dell’infanzia e le prime tre classi della scuola primaria (1^\, 2^ e 3^ elementare) il consueto corso di avviamento alla pratica del pattinaggio su ghiaccio \nLA SCHEDA DI ADESIONE (presso gli uffici dell’US Bormiese) DEVE ESSERE COMPILATA ENTRO IL 24 SETTEMBRE 2016 \nIl costo di partecipazione al corso  è di 50 euro da versare all’atto dell’iscrizione \nL’associazione Bormio Ghiaccio declina ogni responsabilità per incidenti o danni che dovessero verificarsi prima\, durante e dopo il corso di avviamento al pattinaggio. \nSCARICA LA BROCHURE \nProgramma \n\nDOMENICA 25 settembre 2016\ndalle 18.00 alle 19.00\nSABATO 1 ottobre 2016\ndalle 18.00 alle 19.00\nDOMENICA 2 ottobre 2016\ndalle 18.00 alle 19.00\nSABATO 8 ottobre 2016\ndalle 18.00 alle 19.00\nDOMENICA 9 ottobre 2016\ndalle 18.00 alle 19.00\nSABATO 15 ottobre 2016\ndalle 18.00 alle 19.00\nDOMENICA 16 ottobre 2016\ndalle 18.00 alle 19.00\nDOMENICA 23 ottobre 2016\ndalle 18.00 alle 19.00\n\nLa Bormio Ghiaccio fornirà sia i pattini e il casco a chi ne fosse sprovvisto. I ragazzi che già hanno un casco anche da bici o mtb sono invitati a portarlo.
URL:https://www.usbormiese.com/event/short-track-bormio-ghiaccio-corso-di-avviamento-6/
CATEGORIES:SHORT TRACK
ATTACH;FMTTYPE=image/jpeg:https://www.usbormiese.com/wp-content/uploads/2015/09/short-track-1.jpg
END:VEVENT
BEGIN:VEVENT
DTSTART;VALUE=DATE:20161015
DTEND;VALUE=DATE:20161016
DTSTAMP:20260420T015813
CREATED:20160722T122513Z
LAST-MODIFIED:20160722T122513Z
UID:14448-1476489600-1476575999@www.usbormiese.com
SUMMARY:Atletica: a Lanzada il Trofeo del Magnan
DESCRIPTION:SABATO 15 OTTOBRE 2016 appuntamento a LANZADA per la manifestazione provinciale su strada \n \nCategorie: TUTTE \nTROFEO DEL MAGNAN gara su strada a staffetta di 2 elementi\nCampionato provinciale individuale di corsa su strada a staffetta di 2 elementi \ncategorie Rag/Cad\nIscrizioni entro le 22 di venerdì 14 ottobre 2016 \nRitrovo ore 15.00\nInizio gare ore 15.30.\nOrg. Org ASD Sportiva Lanzada – Nana Fabiano tel. 3293513685 e-mail info@sportivalanzada.it
URL:https://www.usbormiese.com/event/atletica-a-lanzada-il-trofeo-del-magnan/
CATEGORIES:ATLETICA
ATTACH;FMTTYPE=image/jpeg:https://www.usbormiese.com/wp-content/uploads/2015/06/corsainmontagna.jpg
END:VEVENT
BEGIN:VEVENT
DTSTART;VALUE=DATE:20161009
DTEND;VALUE=DATE:20161010
DTSTAMP:20260420T015813
CREATED:20160923T073653Z
LAST-MODIFIED:20161003T153543Z
UID:14911-1475971200-1476057599@www.usbormiese.com
SUMMARY:Calcio\, prima squadra: campionato provinciale di 3^ categoria 2016/2017
DESCRIPTION:3^ CATEGORIA – PRIMA SQUADRA\nSTAGIONE 2016/2017 \n\nGIRONE D’ANDATA \n4^ GIORNATA\nA Dongo\, 09/10/2016\nSPORT.CLUB DONGO – BORMIESE
URL:https://www.usbormiese.com/event/calcio-prima-squadra-campionato-provinciale-di-3-categoria-20162017-4/
CATEGORIES:CALCIO
ATTACH;FMTTYPE=image/jpeg:https://www.usbormiese.com/wp-content/uploads/2015/08/calcioSquadra.jpg
END:VEVENT
BEGIN:VEVENT
DTSTART;VALUE=DATE:20161009
DTEND;VALUE=DATE:20161010
DTSTAMP:20260420T015813
CREATED:20160914T083727Z
LAST-MODIFIED:20160914T083727Z
UID:14884-1475971200-1476057599@www.usbormiese.com
SUMMARY:Short track\, Bormio Ghiaccio: corso di avviamento
DESCRIPTION:CORSO DI AVVIAMENTO AL PATTINAGGIO\nSTAGIONE 2016-2017 \nLa Bormio Ghiaccio organizza\, per i bambini e le bambine dell’ultimo anno della scuola dell’infanzia e le prime tre classi della scuola primaria (1^\, 2^ e 3^ elementare) il consueto corso di avviamento alla pratica del pattinaggio su ghiaccio \nLA SCHEDA DI ADESIONE (presso gli uffici dell’US Bormiese) DEVE ESSERE COMPILATA ENTRO IL 24 SETTEMBRE 2016 \nIl costo di partecipazione al corso  è di 50 euro da versare all’atto dell’iscrizione \nL’associazione Bormio Ghiaccio declina ogni responsabilità per incidenti o danni che dovessero verificarsi prima\, durante e dopo il corso di avviamento al pattinaggio. \nSCARICA LA BROCHURE \nProgramma \n\nDOMENICA 25 settembre 2016\ndalle 18.00 alle 19.00\nSABATO 1 ottobre 2016\ndalle 18.00 alle 19.00\nDOMENICA 2 ottobre 2016\ndalle 18.00 alle 19.00\nSABATO 8 ottobre 2016\ndalle 18.00 alle 19.00\nDOMENICA 9 ottobre 2016\ndalle 18.00 alle 19.00\nSABATO 15 ottobre 2016\ndalle 18.00 alle 19.00\nDOMENICA 16 ottobre 2016\ndalle 18.00 alle 19.00\nDOMENICA 23 ottobre 2016\ndalle 18.00 alle 19.00\n\nLa Bormio Ghiaccio fornirà sia i pattini e il casco a chi ne fosse sprovvisto. I ragazzi che già hanno un casco anche da bici o mtb sono invitati a portarlo.
URL:https://www.usbormiese.com/event/short-track-bormio-ghiaccio-corso-di-avviamento-5/
CATEGORIES:SHORT TRACK
ATTACH;FMTTYPE=image/jpeg:https://www.usbormiese.com/wp-content/uploads/2015/09/short-track-1.jpg
END:VEVENT
BEGIN:VEVENT
DTSTART;VALUE=DATE:20161009
DTEND;VALUE=DATE:20161010
DTSTAMP:20260420T015813
CREATED:20160722T122208Z
LAST-MODIFIED:20160722T122208Z
UID:14447-1475971200-1476057599@www.usbormiese.com
SUMMARY:Corsa in montagna: Chiavenna - Lagunch
DESCRIPTION:DOMENICA 9 OTTOBRE 2016 gara di Corsa in Montagna Internazionale a CHIAVENNA \n \nCategorie: P/S/M \n17° KILOMETRO VERTICALE CHIAVENNA LAGUNCH\n31° Trofeo Amici Madonna della Neve\nCampionato Regionale Individuale Km Verticale Assoluto e Master \nRitrovo ore 7.00\nInizio gare ore 8.15. \nOrg G.P. Valchiavenna Tel 0343.35657\nCell Del Curto Nicola 3356469671 – Fax 178.2271775\nE-mail: info@kilometroverticalelagunc.it – INFO www.gpvalchiavenna.it
URL:https://www.usbormiese.com/event/corsa-in-montagna-chiavenna-lagunch/
CATEGORIES:ATLETICA
ATTACH;FMTTYPE=image/jpeg:https://www.usbormiese.com/wp-content/uploads/2015/06/corsainmontagna.jpg
END:VEVENT
BEGIN:VEVENT
DTSTART;VALUE=DATE:20161008
DTEND;VALUE=DATE:20161009
DTSTAMP:20260420T015813
CREATED:20161004T183250Z
LAST-MODIFIED:20161004T183250Z
UID:15008-1475884800-1475971199@www.usbormiese.com
SUMMARY:Atletica\, Sondalo: gare in pista per esordienti
DESCRIPTION:Sabato 8 ottobre 2016\, SONDALO\, GARE IN PISTA PER ESORDIENTI  \nCATEGORIE: ESORDIENTI A/B/C \nRitrovo ore 15:30 \nInizio gare ore 16:30 \nProgramma Gare: \nEs B/C M/F: percorso-vortex \nEs A M/F: 50-lungo-vortex \nOrg. ATL ALTA VALTELLINA \nResp. Org. Thomas Gianoli (347/9234630)
URL:https://www.usbormiese.com/event/atletica-sondalo-gare-in-pista-per-esordienti/
CATEGORIES:ATLETICA
ATTACH;FMTTYPE=image/jpeg:https://www.usbormiese.com/wp-content/uploads/2015/06/atletica1.jpg
END:VEVENT
BEGIN:VEVENT
DTSTART;VALUE=DATE:20161008
DTEND;VALUE=DATE:20161009
DTSTAMP:20260420T015813
CREATED:20160923T085044Z
LAST-MODIFIED:20160923T085044Z
UID:14953-1475884800-1475971199@www.usbormiese.com
SUMMARY:Calcio\, giovanissimi: campionato provinciale 2016/2017
DESCRIPTION:GIOVANISSIMI\nSTAGIONE 2016/2017 \n\nFASE AUTUNNALE \n2^ GIORNATA \nA Livigno\, 08/10/2016\nSPORTING CLUB LIVIGNO – BORMIESE
URL:https://www.usbormiese.com/event/calcio-giovanissimi-campionato-provinciale-20162017-2/
CATEGORIES:CALCIO
ATTACH;FMTTYPE=image/jpeg:https://www.usbormiese.com/wp-content/uploads/2015/10/calcio4.jpg
END:VEVENT
BEGIN:VEVENT
DTSTART;VALUE=DATE:20161008
DTEND;VALUE=DATE:20161009
DTSTAMP:20260420T015813
CREATED:20160923T083425Z
LAST-MODIFIED:20160923T083425Z
UID:14940-1475884800-1475971199@www.usbormiese.com
SUMMARY:Calcio\, allievi: campionato provinciale 2016/2017
DESCRIPTION:ALLIEVI – STAGIONE 2016/2017 \n\nFASE AUTUNNALE \n4^ GIORNATA\nA Bormio\, 08/10/2016\nBORMIESE – POL. VALMALENCO
URL:https://www.usbormiese.com/event/calcio-allievi-campionato-provinciale-20162017-4/
CATEGORIES:CALCIO
ATTACH;FMTTYPE=image/jpeg:https://www.usbormiese.com/wp-content/uploads/2016/05/calcio3.jpg
END:VEVENT
BEGIN:VEVENT
DTSTART;VALUE=DATE:20161008
DTEND;VALUE=DATE:20161009
DTSTAMP:20260420T015813
CREATED:20160914T083423Z
LAST-MODIFIED:20160914T083423Z
UID:14883-1475884800-1475971199@www.usbormiese.com
SUMMARY:Short track\, Bormio Ghiaccio: corso di avviamento
DESCRIPTION:CORSO DI AVVIAMENTO AL PATTINAGGIO\nSTAGIONE 2016-2017 \nLa Bormio Ghiaccio organizza\, per i bambini e le bambine dell’ultimo anno della scuola dell’infanzia e le prime tre classi della scuola primaria (1^\, 2^ e 3^ elementare) il consueto corso di avviamento alla pratica del pattinaggio su ghiaccio \nLA SCHEDA DI ADESIONE (presso gli uffici dell’US Bormiese) DEVE ESSERE COMPILATA ENTRO IL 24 SETTEMBRE 2016 \nIl costo di partecipazione al corso  è di 50 euro da versare all’atto dell’iscrizione \nL’associazione Bormio Ghiaccio declina ogni responsabilità per incidenti o danni che dovessero verificarsi prima\, durante e dopo il corso di avviamento al pattinaggio. \nSCARICA LA BROCHURE \nProgramma \n\nDOMENICA 25 settembre 2016\ndalle 18.00 alle 19.00\nSABATO 1 ottobre 2016\ndalle 18.00 alle 19.00\nDOMENICA 2 ottobre 2016\ndalle 18.00 alle 19.00\nSABATO 8 ottobre 2016\ndalle 18.00 alle 19.00\nDOMENICA 9 ottobre 2016\ndalle 18.00 alle 19.00\nSABATO 15 ottobre 2016\ndalle 18.00 alle 19.00\nDOMENICA 16 ottobre 2016\ndalle 18.00 alle 19.00\nDOMENICA 23 ottobre 2016\ndalle 18.00 alle 19.00\n\nLa Bormio Ghiaccio fornirà sia i pattini e il casco a chi ne fosse sprovvisto. I ragazzi che già hanno un casco anche da bici o mtb sono invitati a portarlo.
URL:https://www.usbormiese.com/event/short-track-bormio-ghiaccio-corso-di-avviamento-2/
CATEGORIES:SHORT TRACK
ATTACH;FMTTYPE=image/jpeg:https://www.usbormiese.com/wp-content/uploads/2015/09/short-track-1.jpg
END:VEVENT
END:VCALENDAR