BEGIN:VCALENDAR
VERSION:2.0
PRODID:-//Unione Sportiva Bormiese - ECPv6.8.2.1//NONSGML v1.0//EN
CALSCALE:GREGORIAN
METHOD:PUBLISH
X-WR-CALNAME:Unione Sportiva Bormiese
X-ORIGINAL-URL:https://www.usbormiese.com
X-WR-CALDESC:Eventi per Unione Sportiva Bormiese
REFRESH-INTERVAL;VALUE=DURATION:PT1H
X-Robots-Tag:noindex
X-PUBLISHED-TTL:PT1H
BEGIN:VTIMEZONE
TZID:Europe/Rome
BEGIN:DAYLIGHT
TZOFFSETFROM:+0100
TZOFFSETTO:+0200
TZNAME:CEST
DTSTART:20160327T010000
END:DAYLIGHT
BEGIN:STANDARD
TZOFFSETFROM:+0200
TZOFFSETTO:+0100
TZNAME:CET
DTSTART:20161030T010000
END:STANDARD
END:VTIMEZONE
BEGIN:VEVENT
DTSTART;VALUE=DATE:20160522
DTEND;VALUE=DATE:20160523
DTSTAMP:20260420T180012
CREATED:20160419T131803Z
LAST-MODIFIED:20160419T131803Z
UID:13245-1463875200-1463961599@www.usbormiese.com
SUMMARY:Circuito provinciale 2016 di minivolley e super minivolley
DESCRIPTION:Circuito provinciale 2016 di minivolley e super minivolley \nLe società Us Bormiese\, Pallavolo Altavalle\, Us Delebio e Gs Gordona\, in collaborazione con il Comitato Provinciale Fipav di Sondrio\, organizzano il 31° Circuito Provinciale di Minivolley e di Superminivolley 2016. \nIl Circuito sarà composto da n° 4 tappe che avranno luogo a: \n\nGrosio – 24 aprile 2016\nGordona – 1 maggio 2016\nDelebio – 15 maggio 2016\nBormio/Valdidentro – 22 maggio 2016\n\ninfo@usbormiese.com
URL:https://www.usbormiese.com/event/circuito-provinciale-2016-di-minivolley-e-super-minivolley-4/
CATEGORIES:PALLAVOLO
ATTACH;FMTTYPE=image/jpeg:https://www.usbormiese.com/wp-content/uploads/2016/04/minivolley.jpg
END:VEVENT
BEGIN:VEVENT
DTSTART;VALUE=DATE:20160522
DTEND;VALUE=DATE:20160523
DTSTAMP:20260420T180012
CREATED:20160407T164416Z
LAST-MODIFIED:20160407T164416Z
UID:13105-1463875200-1463961599@www.usbormiese.com
SUMMARY:Atletica: campionati provinciali ragazzi e cadetti a Chiuro
DESCRIPTION:DOMENICA 22 MAGGIO 2016\nCampionati provinciali individuali ragazzi cadetti \nPista Provinciale\nCHIURO – centro sportivo comunale \nCategorie: TUTTE\nRIUNIONE PROVINCIALE SU PISTA\nCampionati provinciali individuali ragazzi cadetti\nprova Circuito Giovanile Credito Valtellinese.\nRitrovo ore 9.00\nChiusura Iscrizioni ore 9\,30\nInizio gare ore 10.00\nProgramma Gare: RAG M/F: alto – peso – 60 – 1000 CAD M/F: lungo – peso – disco – 80 – 1000\nOrg Pentacom – fax 0342482355 Informazioni: Raffaella Riva 3383611126\ne-mail: a.s.pentacom@libero.it sito web: www.aspentacom.it
URL:https://www.usbormiese.com/event/atletica-campionati-provinciali-ragazzi-e-cadetti-a-chiuro/
CATEGORIES:ATLETICA
ATTACH;FMTTYPE=image/jpeg:https://www.usbormiese.com/wp-content/uploads/2015/06/atletica1.jpg
END:VEVENT
BEGIN:VEVENT
DTSTART;VALUE=DATE:20160521
DTEND;VALUE=DATE:20160523
DTSTAMP:20260420T180012
CREATED:20160407T164703Z
LAST-MODIFIED:20160407T164718Z
UID:13106-1463788800-1463961599@www.usbormiese.com
SUMMARY:Atletica: Trofeo delle Province a Saronno. Gara per rappresentative
DESCRIPTION:SABATO 21 e DOMENICA 22 MAGGIO 2016\nPista Regionale SARONNO (VA) \n \nCategorie: R/C\nTROFEO DELLE PROVINCIE PROVE MULTIPLE R/C \nGara per Rappresentative Provinciali \nRitrovo Sabato Ore 14.30\nRitrovo Domenica Ore 9.30\nPer gli orari e successione gare consultare dispositivo ed orario della manifestazione\nOrg.. OSA SARONNO LIB. tel/fax 02 96709188\nosasaronno@tiscalinet.it – www.osasaronno.it
URL:https://www.usbormiese.com/event/atletica-trofeo-delle-province-a-saronno-gara-per-rappresentative/
CATEGORIES:ATLETICA
ATTACH;FMTTYPE=image/jpeg:https://www.usbormiese.com/wp-content/uploads/2015/06/atletica1.jpg
END:VEVENT
BEGIN:VEVENT
DTSTART;VALUE=DATE:20160521
DTEND;VALUE=DATE:20160523
DTSTAMP:20260420T180012
CREATED:20160407T163842Z
LAST-MODIFIED:20160510T142158Z
UID:13103-1463788800-1463961599@www.usbormiese.com
SUMMARY:Atletica: riunione provinciale in pista a Chiuro
DESCRIPTION:SABATO 21 e DOMENICA 22 MAGGIO 2016 riunione Provinciale in pista a CHIURO – centro sportivo comunale    \n2a RIUNIONE PROVINCIALE IN PISTA \nCampionati provinciali individuali ragazzi e cadetti m/f \nProva Circuito giovanile Credito Valtellinese \nRitrovo: sabato ore 15:00\, domenica ore 09:00 \nInizio gare: sabato ore 16:00\, domenica 10:00 \nProgramma Gare SABATO: \nRAG M/F: lungo – vortex – 60hs \nCAD M/F: triplo – alto – giavellotto – 80/100hs – 300 \nProgramma Gare DOMENICA \nRAG M/F: ALTO – PESO – 60 – 1000 \nCAD M/F: lungo – peso – disco – 80 – 1000 \nOrganizzazione: AS PENTACOM \nInformazioni: a.s.pentacom@libero.it \n 
URL:https://www.usbormiese.com/event/atletica-riunione-provinciale-in-pista-a-chiuro/
CATEGORIES:ATLETICA
ATTACH;FMTTYPE=image/jpeg:https://www.usbormiese.com/wp-content/uploads/2015/06/atletica1.jpg
END:VEVENT
BEGIN:VEVENT
DTSTART;VALUE=DATE:20160521
DTEND;VALUE=DATE:20160522
DTSTAMP:20260420T180012
CREATED:20160407T164112Z
LAST-MODIFIED:20160407T164112Z
UID:13104-1463788800-1463875199@www.usbormiese.com
SUMMARY:Atletica: a Chiavenna 23^ notturna della Mera
DESCRIPTION:SABATO 21 MAGGIO 2016  NOTTURNA DELLA MERA A CHIAVENNA – Piazza Bertacchi   Categorie: A/J/P/S/M\n23^ NOTTURNA DELLA MERA\nStrada Regionale \nIscrizioni entro le 12 di venerdì 20 maggio\nRitrovo ore 20.00\,\nInizio gare ore 21.00.\nOrg. G.P. Valchiavenna Tel 0343.35657 – Cell 347.6076920 – Fax 178.2271775\nE-mail: info@gpvalchiavenna.it – INFO www.gpvalchiavenna.it
URL:https://www.usbormiese.com/event/atletica-a-chiavenna-23-notturna-della-mera/
CATEGORIES:ATLETICA
ATTACH;FMTTYPE=image/jpeg:https://www.usbormiese.com/wp-content/uploads/2015/06/atleticaAd.jpg
END:VEVENT
BEGIN:VEVENT
DTSTART;VALUE=DATE:20160520
DTEND;VALUE=DATE:20160521
DTSTAMP:20260420T180012
CREATED:20160412T155354Z
LAST-MODIFIED:20160412T155354Z
UID:13200-1463702400-1463788799@www.usbormiese.com
SUMMARY:Mountain bike: corso di avviamento alla mountain bike
DESCRIPTION:Dal 26 aprile al 1° luglio 2016 CORSO DI AVVIAMENTO ALLA MTB  \nIl corso è proposto a bambini nati negli anni 2004-2009 che rientrano nella categoria GIOVANISSIMI F.C.I.) \nIl corso verrà tenuto da istruttori e volontari Usb e si svolgerà si percorsi ed in luoghi diversi nele giornate di martedì e venerdì \nOrganizzazione UNIONE SPORTIVA BORMIESE
URL:https://www.usbormiese.com/event/mountain-bike-corso-di-avviamento-alla-mountain-bike-8/
CATEGORIES:MOUNTAIN BIKE
ATTACH;FMTTYPE=image/jpeg:https://www.usbormiese.com/wp-content/uploads/2015/06/mtbJun.jpg
END:VEVENT
BEGIN:VEVENT
DTSTART;VALUE=DATE:20160517
DTEND;VALUE=DATE:20160518
DTSTAMP:20260420T180012
CREATED:20160412T161956Z
LAST-MODIFIED:20160509T140655Z
UID:13215-1463443200-1463529599@www.usbormiese.com
SUMMARY:Manifestazioni: evento "tutti in bici"
DESCRIPTION:10 maggio 2016 TUTTI IN BICI  \nManifestazione sull’utilizzo della bicicletta per i bambini delle terze classi del circolo scolastico di Bormio. Iniziativa promossa da US Bormiese con la partecipazione delle Forze del’Ordine \nDATA DI RECUPERO 17/05/2016
URL:https://www.usbormiese.com/event/manifestazioni-evento-tutti-in-bici/
CATEGORIES:MANIFESTAZIONI,MOUNTAIN BIKE
ATTACH;FMTTYPE=image/jpeg:https://www.usbormiese.com/wp-content/uploads/2016/04/mtb1.jpg
END:VEVENT
BEGIN:VEVENT
DTSTART;VALUE=DATE:20160517
DTEND;VALUE=DATE:20160518
DTSTAMP:20260420T180012
CREATED:20160412T155235Z
LAST-MODIFIED:20160412T155235Z
UID:13199-1463443200-1463529599@www.usbormiese.com
SUMMARY:Mountain bike: corso di avviamento alla mountain bike
DESCRIPTION:Dal 26 aprile al 1° luglio 2016 CORSO DI AVVIAMENTO ALLA MTB\nIl corso è proposto a bambini nati negli anni 2004-2009 che rientrano nella categoria GIOVANISSIMI F.C.I.) \nIl corso verrà tenuto da istruttori e volontari Usb e si svolgerà si percorsi ed in luoghi diversi nele giornate di martedì e venerdì\nOrganizzazione UNIONE SPORTIVA BORMIESE
URL:https://www.usbormiese.com/event/mountain-bike-corso-di-avviamento-alla-mountain-bike-7/
CATEGORIES:MOUNTAIN BIKE
ATTACH;FMTTYPE=image/jpeg:https://www.usbormiese.com/wp-content/uploads/2015/06/mtbJun.jpg
END:VEVENT
BEGIN:VEVENT
DTSTART;VALUE=DATE:20160515
DTEND;VALUE=DATE:20160516
DTSTAMP:20260420T180012
CREATED:20160419T131616Z
LAST-MODIFIED:20160419T131616Z
UID:13244-1463270400-1463356799@www.usbormiese.com
SUMMARY:Circuito provinciale 2016 di minivolley e super minivolley
DESCRIPTION:Circuito provinciale 2016 di minivolley e super minivolley \nLe società Us Bormiese\, Pallavolo Altavalle\, Us Delebio e Gs Gordona\, in collaborazione con il Comitato Provinciale Fipav di Sondrio\, organizzano il 31° Circuito Provinciale di Minivolley e di Superminivolley 2016. \nIl Circuito sarà composto da n° 4 tappe che avranno luogo a: \n\nGrosio – 24 aprile 2016\nGordona – 1 maggio 2016\nDelebio – 15 maggio 2016\nBormio/Valdidentro – 22 maggio 2016\n\ninfo@usbormiese.com
URL:https://www.usbormiese.com/event/circuito-provinciale-2016-di-minivolley-e-super-minivolley-3/
CATEGORIES:PALLAVOLO
ATTACH;FMTTYPE=image/jpeg:https://www.usbormiese.com/wp-content/uploads/2016/04/minivolley.jpg
END:VEVENT
BEGIN:VEVENT
DTSTART;VALUE=DATE:20160515
DTEND;VALUE=DATE:20160516
DTSTAMP:20260420T180012
CREATED:20160407T133306Z
LAST-MODIFIED:20160407T133306Z
UID:13087-1463270400-1463356799@www.usbormiese.com
SUMMARY:Ciclismo: Trofeo Ediltrasporti 2016
DESCRIPTION:TROFEO EDILTRASPORTI 2016E’ in programma domenica 15 maggio 2016 \nGara di ciclismo per categorie amatoriali \nOrganizzazione UNIONE SPORTIVA BORMIESE
URL:https://www.usbormiese.com/event/ciclismo-trofeo-ediltrasporti-2016/
CATEGORIES:CICLISMO
ATTACH;FMTTYPE=image/jpeg:https://www.usbormiese.com/wp-content/uploads/2015/06/ciclismo3.jpg
END:VEVENT
BEGIN:VEVENT
DTSTART;VALUE=DATE:20160513
DTEND;VALUE=DATE:20160514
DTSTAMP:20260420T180012
CREATED:20160412T155138Z
LAST-MODIFIED:20160412T155138Z
UID:13198-1463097600-1463183999@www.usbormiese.com
SUMMARY:Mountain bike: corso di avviamento alla mountain bike
DESCRIPTION:Dal 26 aprile al 1° luglio 2016 CORSO DI AVVIAMENTO ALLA MTB  \nIl corso è proposto a bambini nati negli anni 2004-2009 che rientrano nella categoria GIOVANISSIMI F.C.I.) \nIl corso verrà tenuto da istruttori e volontari Usb e si svolgerà si percorsi ed in luoghi diversi nele giornate di martedì e venerdì \nOrganizzazione UNIONE SPORTIVA BORMIESE
URL:https://www.usbormiese.com/event/mountain-bike-corso-di-avviamento-alla-mountain-bike-6/
CATEGORIES:MOUNTAIN BIKE
ATTACH;FMTTYPE=image/jpeg:https://www.usbormiese.com/wp-content/uploads/2015/06/mtbJun.jpg
END:VEVENT
BEGIN:VEVENT
DTSTART;VALUE=DATE:20160510
DTEND;VALUE=DATE:20160511
DTSTAMP:20260420T180012
CREATED:20160412T155100Z
LAST-MODIFIED:20160412T155100Z
UID:13197-1462838400-1462924799@www.usbormiese.com
SUMMARY:Mountain bike: corso di avviamento alla mountain bike
DESCRIPTION:Dal 26 aprile al 1° luglio 2016 CORSO DI AVVIAMENTO ALLA MTB  \nIl corso è proposto a bambini nati negli anni 2004-2009 che rientrano nella categoria GIOVANISSIMI F.C.I.) \nIl corso verrà tenuto da istruttori e volontari Usb e si svolgerà si percorsi ed in luoghi diversi nele giornate di martedì e venerdì \nOrganizzazione UNIONE SPORTIVA BORMIESE
URL:https://www.usbormiese.com/event/mountain-bike-corso-di-avviamento-alla-mountain-bike-5/
CATEGORIES:MOUNTAIN BIKE
ATTACH;FMTTYPE=image/jpeg:https://www.usbormiese.com/wp-content/uploads/2015/06/mtbJun.jpg
END:VEVENT
BEGIN:VEVENT
DTSTART;VALUE=DATE:20160508
DTEND;VALUE=DATE:20160509
DTSTAMP:20260420T180012
CREATED:20160407T162918Z
LAST-MODIFIED:20160407T162918Z
UID:13100-1462665600-1462751999@www.usbormiese.com
SUMMARY:Ciclismo\, Postalesio: 2^ prova campionato provinciale
DESCRIPTION:Domenica 08 maggio 2016 a Postalesio  \nCiclismo su Strada\n3^ Valtellina Road – 2^ Camp. Provinciale \ninfo su\nhttp://www.ciclistivaltellinesi.it/calendario.php
URL:https://www.usbormiese.com/event/ciclismo-postalesio-2-prova-campionato-provinciale/
CATEGORIES:CICLISMO
ATTACH;FMTTYPE=image/jpeg:https://www.usbormiese.com/wp-content/uploads/2015/06/ciclismo3.jpg
END:VEVENT
BEGIN:VEVENT
DTSTART;VALUE=DATE:20160507
DTEND;VALUE=DATE:20160508
DTSTAMP:20260420T180012
CREATED:20160504T155147Z
LAST-MODIFIED:20160520T093521Z
UID:13365-1462579200-1462665599@www.usbormiese.com
SUMMARY:Manifestazioni: School Olympic Games 2016
DESCRIPTION:E’ in programma sabato 8 maggio 2016 la 16^ edizione degli School Olympic Games\, manifestazione ludico sportiva riservata alle classi quinte dell’istituto comprensivo di Bormio e Valli che replica – naturalmente in veste più adatta ai bambini – lo spirito delle Bormiadi.  \n>>> Le pagine degli School Olympic Games\n\nCome detto alla sfida\, che occuperà praticamente per intero la giornata dell’8 maggio 2016\, prendono parte le otto classi quinte di Bormio\, Valdidentro\, Valdisotto e Valfurva.\nSaranno in gara:\n\nGLI SGHERRI 5^A Bormio\nLI SAETA 5^B Bormio\nCAMPIONI A CATINELLE 5^C Bormio\nBIGBANG 5^A Valdisotto\nLA CARICA DEI 21 5^B Valdisotto\nSKYRUNNER 5^A Valfurva\nGLI SPUMEGGIANTI 5^A Valdidentro\nLE ALI 5^B Valdidentro\n\nPROGRAMMA 2016 – CLASSIFICHE 2016 \n———————- \nARCHIVIO SCHOOL OLYMPIC GAMES
URL:https://www.usbormiese.com/event/manifestazioni-school-olympic-games-2016/
CATEGORIES:MANIFESTAZIONI
ATTACH;FMTTYPE=image/jpeg:https://www.usbormiese.com/wp-content/uploads/2016/05/school.jpg
END:VEVENT
BEGIN:VEVENT
DTSTART;VALUE=DATE:20160507
DTEND;VALUE=DATE:20160508
DTSTAMP:20260420T180012
CREATED:20160412T160940Z
LAST-MODIFIED:20160412T161057Z
UID:13213-1462579200-1462665599@www.usbormiese.com
SUMMARY:Eventi: School olympics games
DESCRIPTION:07 maggio 2016\nSCHOOL OLIMPICS GAMES\n \nprove atletiche e ludiche per i bambini delle quinte classi del circolo scolastico di Bormio \nsul portale dell’Unione Sportiva Bormiese\, sezione manifestazioni\, c’è una pagina dedicata appositamente all’evento \n>>>> http://www.usbormiese.com/category/settori/manifestazioni/school-olympic-games/ \nDATA DI RECUPERO 14/05/2016
URL:https://www.usbormiese.com/event/eventi-school-olympics-games/
CATEGORIES:MANIFESTAZIONI
ATTACH;FMTTYPE=image/jpeg:https://www.usbormiese.com/wp-content/uploads/2015/05/school15e.jpg
END:VEVENT
BEGIN:VEVENT
DTSTART;VALUE=DATE:20160507
DTEND;VALUE=DATE:20160508
DTSTAMP:20260420T180012
CREATED:20160407T163518Z
LAST-MODIFIED:20160407T163547Z
UID:13102-1462579200-1462665599@www.usbormiese.com
SUMMARY:Atletica: gara promozionale provinciale in pista a Cosio
DESCRIPTION:SABATO 7 MAGGIO 2016 Gara Promozionale Provinciale in pista \n \nA COSIO VALTELLINO – Fraz. Regoledo\npresso Palazzetto dello Sport\nCategorie: Esordienti \nGARE IN PISTA PER ESORDIENTI\nprova Circuito Giovanile Credito Valtellinese.\nRitrovo ore 15.00 successiva conferma e chiusura iscrizioni\,\nInizio gare ore 16\,00. \nProgramma Gare: Es B/C M/F: percorso-40 Es A M/F: 50-lungo-peso \nOrg. G.S. Valgerola tel. 3394034813 (Piganzoli)\ne-mail: info@gsvalgerola.it – www.gsvalgerola.it
URL:https://www.usbormiese.com/event/13102/
CATEGORIES:ATLETICA
ATTACH;FMTTYPE=image/jpeg:https://www.usbormiese.com/wp-content/uploads/2015/06/atletica1.jpg
END:VEVENT
BEGIN:VEVENT
DTSTART;VALUE=DATE:20160506
DTEND;VALUE=DATE:20160507
DTSTAMP:20260420T180012
CREATED:20160412T155012Z
LAST-MODIFIED:20160412T155012Z
UID:13196-1462492800-1462579199@www.usbormiese.com
SUMMARY:Mountain bike: corso di avviamento alla mountain bike
DESCRIPTION:Dal 26 aprile al 1° luglio 2016 CORSO DI AVVIAMENTO ALLA MTB  \nIl corso è proposto a bambini nati negli anni 2004-2009 che rientrano nella categoria GIOVANISSIMI F.C.I.) \nIl corso verrà tenuto da istruttori e volontari Usb e si svolgerà si percorsi ed in luoghi diversi nele giornate di martedì e venerdì \nOrganizzazione UNIONE SPORTIVA BORMIESE
URL:https://www.usbormiese.com/event/mountain-bike-corso-di-avviamento-alla-mountain-bike-4/
CATEGORIES:MOUNTAIN BIKE
ATTACH;FMTTYPE=image/jpeg:https://www.usbormiese.com/wp-content/uploads/2015/06/mtbJun.jpg
END:VEVENT
BEGIN:VEVENT
DTSTART;VALUE=DATE:20160503
DTEND;VALUE=DATE:20160505
DTSTAMP:20260420T180012
CREATED:20160407T163228Z
LAST-MODIFIED:20160407T163301Z
UID:13101-1462233600-1462406399@www.usbormiese.com
SUMMARY:Atletica: fase provinciale dei Giochi della Gioventù
DESCRIPTION:MARTEDÌ 3 e MERCOLEDÌ 4 MAGGIO 2016\nPista Provinciale CHIURO \nPresso il centro sportivo comunale \nGIOCHI GIOVANILI STUDENTESCHI \nFase provinciale
URL:https://www.usbormiese.com/event/atletica-fase-provinciale-dei-giochi-della-gioventu/
CATEGORIES:ATLETICA
ATTACH;FMTTYPE=image/jpeg:https://www.usbormiese.com/wp-content/uploads/2015/06/atletica1.jpg
END:VEVENT
BEGIN:VEVENT
DTSTART;VALUE=DATE:20160503
DTEND;VALUE=DATE:20160504
DTSTAMP:20260420T180012
CREATED:20160412T154912Z
LAST-MODIFIED:20160412T154912Z
UID:13195-1462233600-1462319999@www.usbormiese.com
SUMMARY:Mountain bike: corso di avviamento alla mountain bike
DESCRIPTION:Dal 26 aprile al 1° luglio 2016 CORSO DI AVVIAMENTO ALLA MTB  \nIl corso è proposto a bambini nati negli anni 2004-2009 che rientrano nella categoria GIOVANISSIMI F.C.I.) \nIl corso verrà tenuto da istruttori e volontari Usb e si svolgerà si percorsi ed in luoghi diversi nele giornate di martedì e venerdì \nOrganizzazione UNIONE SPORTIVA BORMIESE
URL:https://www.usbormiese.com/event/mountain-bike-corso-di-avviamento-alla-mountain-bike-3/
CATEGORIES:MOUNTAIN BIKE
ATTACH;FMTTYPE=image/jpeg:https://www.usbormiese.com/wp-content/uploads/2015/06/mtbJun.jpg
END:VEVENT
BEGIN:VEVENT
DTSTART;VALUE=DATE:20160501
DTEND;VALUE=DATE:20160502
DTSTAMP:20260420T180012
CREATED:20160419T131433Z
LAST-MODIFIED:20160419T131433Z
UID:13242-1462060800-1462147199@www.usbormiese.com
SUMMARY:Circuito provinciale 2016 di minivolley e super minivolley
DESCRIPTION:Circuito provinciale 2016 di minivolley e super minivolley \nLe società Us Bormiese\, Pallavolo Altavalle\, Us Delebio e Gs Gordona\, in collaborazione con il Comitato Provinciale Fipav di Sondrio\, organizzano il 31° Circuito Provinciale di Minivolley e di Superminivolley 2016. \nIl Circuito sarà composto da n° 4 tappe che avranno luogo a: \n\nGrosio – 24 aprile 2016\nGordona – 1 maggio 2016\nDelebio – 15 maggio 2016\nBormio/Valdidentro – 22 maggio 2016\n\ninfo@usbormiese.com
URL:https://www.usbormiese.com/event/circuito-provinciale-2016-di-minivolley-e-super-minivolley-2/
CATEGORIES:PALLAVOLO
ATTACH;FMTTYPE=image/jpeg:https://www.usbormiese.com/wp-content/uploads/2016/04/minivolley.jpg
END:VEVENT
BEGIN:VEVENT
DTSTART;VALUE=DATE:20160501
DTEND;VALUE=DATE:20160502
DTSTAMP:20260420T180012
CREATED:20160407T162643Z
LAST-MODIFIED:20160407T162643Z
UID:13099-1462060800-1462147199@www.usbormiese.com
SUMMARY:Ciclismo\, Tartano: 1^ prova Trofeo dello scalatore
DESCRIPTION:Domenica 01 maggio 2016 – Trofeo dello scalatore\nTartano\nCiclismo su Strada\n2^ Valtellina Road – 1^ Trofeo Scalatore \ninfo su http://www.ciclistivaltellinesi.it/calendario.php
URL:https://www.usbormiese.com/event/ciclismo-tartano-1-prova-trofeo-dello-scalatore/
CATEGORIES:CICLISMO
ATTACH;FMTTYPE=image/jpeg:https://www.usbormiese.com/wp-content/uploads/2015/06/ciclismoBann.jpg
END:VEVENT
BEGIN:VEVENT
DTSTART;VALUE=DATE:20160501
DTEND;VALUE=DATE:20160502
DTSTAMP:20260420T180012
CREATED:20151015T095842Z
LAST-MODIFIED:20151015T095842Z
UID:10614-1462060800-1462147199@www.usbormiese.com
SUMMARY:Calcio\, Prima squadra: Valchiavenna vs Bormiese
DESCRIPTION:Domenica 1° maggio 2016 \nPRIMA SQUADRA\nCampionato provinciale di 2^ categoria \nVALCHIAVENNA vs BORMIESE\nA Samolaco\, ore 15\,30
URL:https://www.usbormiese.com/event/calcio-prima-squadra-valchiavenna-vs-bormiese/
CATEGORIES:CALCIO
ATTACH;FMTTYPE=image/jpeg:https://www.usbormiese.com/wp-content/uploads/2015/08/calcioSquadra.jpg
END:VEVENT
BEGIN:VEVENT
DTSTART;VALUE=DATE:20160430
DTEND;VALUE=DATE:20160501
DTSTAMP:20260420T180012
CREATED:20160407T160112Z
LAST-MODIFIED:20160407T160112Z
UID:13097-1461974400-1462060799@www.usbormiese.com
SUMMARY:Atletica: la notturna di Talamona
DESCRIPTION:SABATO 30 APRILE 2016 gara su Strada Provinciale a Talamona – Centro Storico \nCategorie: TUTTE\nNotturna di Talamona\nCampionato di Società di Corsa su strada\n2^ prova prova Circuito Giovanile Credito Valtellinese. \nRitrovo ore 18.30\nInizio gare ore 19.30.\nOrg. GP Talamona tel. 3405006117\, 3287828122\, info gptalamona@libero.it
URL:https://www.usbormiese.com/event/atletica-la-notturna-di-talamona/
CATEGORIES:ATLETICA
ATTACH;FMTTYPE=image/jpeg:https://www.usbormiese.com/wp-content/uploads/2015/06/atleticaAd.jpg
END:VEVENT
BEGIN:VEVENT
DTSTART;VALUE=DATE:20160429
DTEND;VALUE=DATE:20160430
DTSTAMP:20260420T180012
CREATED:20160412T154756Z
LAST-MODIFIED:20160412T154756Z
UID:13194-1461888000-1461974399@www.usbormiese.com
SUMMARY:Mountain bike: corso di avviamento alla mountain bike
DESCRIPTION:Dal 26 aprile al 1° luglio 2016 CORSO DI AVVIAMENTO ALLA MTB  \nIl corso è proposto a bambini nati negli anni 2004-2009 che rientrano nella categoria GIOVANISSIMI F.C.I.) \nIl corso verrà tenuto da istruttori e volontari Usb e si svolgerà si percorsi ed in luoghi diversi nele giornate di martedì e venerdì \nOrganizzazione UNIONE SPORTIVA BORMIESE
URL:https://www.usbormiese.com/event/mountain-bike-corso-di-avviamento-alla-mountain-bike-2/
CATEGORIES:MOUNTAIN BIKE
ATTACH;FMTTYPE=image/jpeg:https://www.usbormiese.com/wp-content/uploads/2015/06/mtbJun.jpg
END:VEVENT
BEGIN:VEVENT
DTSTART;VALUE=DATE:20160428
DTEND;VALUE=DATE:20160502
DTSTAMP:20260420T180012
CREATED:20160404T134841Z
LAST-MODIFIED:20160404T134841Z
UID:13038-1461801600-1462147199@www.usbormiese.com
SUMMARY:Sci alpinismo: Raduno Internazionale Ortles Cevedale 2016
DESCRIPTION:Dal 28 aprile al 1° maggio 2016\nSci alpinismo – Cai Valfurva\n RADUNO INTERNAZIONALE DI SCIALPINISMO e CIASPOLE ORTLES CEVEDALE
URL:https://www.usbormiese.com/event/sci-alpinismo-raduno-internazionale-ortles-cevedale-2016/
CATEGORIES:MANIFESTAZIONI
ATTACH;FMTTYPE=image/jpeg:https://www.usbormiese.com/wp-content/uploads/2015/12/skialp.jpg
END:VEVENT
BEGIN:VEVENT
DTSTART;VALUE=DATE:20160426
DTEND;VALUE=DATE:20160427
DTSTAMP:20260420T180012
CREATED:20160412T154646Z
LAST-MODIFIED:20160412T154646Z
UID:13193-1461628800-1461715199@www.usbormiese.com
SUMMARY:Mountain bike: corso di avviamento alla mountain bike
DESCRIPTION:Dal 26 aprile al 1° luglio 2016 CORSO DI AVVIAMENTO ALLA MTB  \nIl corso è proposto a bambini nati negli anni 2004-2009 che rientrano nella categoria GIOVANISSIMI F.C.I.) \nIl corso verrà tenuto da istruttori e volontari Usb e si svolgerà si percorsi ed in luoghi diversi nele giornate di martedì e venerdì \nOrganizzazione UNIONE SPORTIVA BORMIESE
URL:https://www.usbormiese.com/event/mountain-bike-corso-di-avviamento-alla-mountain-bike/
CATEGORIES:MOUNTAIN BIKE
ATTACH;FMTTYPE=image/jpeg:https://www.usbormiese.com/wp-content/uploads/2015/06/mtbJun.jpg
END:VEVENT
BEGIN:VEVENT
DTSTART;VALUE=DATE:20160425
DTEND;VALUE=DATE:20160426
DTSTAMP:20260420T180012
CREATED:20160407T155829Z
LAST-MODIFIED:20160407T155829Z
UID:13096-1461542400-1461628799@www.usbormiese.com
SUMMARY:Atletica: 27° Trofeo Morbegnese. Corsa su strada regionale
DESCRIPTION:LUNEDI’ 25 APRILE 2016\nCorsa di Strada Regionale MORBEGNO – Centro Storico  Categorie: TUTTE 27° TROFEO MORBEGNESE\nCampionato Individuale di Corsa su strada Campionato di Società di Corsa su strada – 1^ prova prova Circuito Giovanile Credito Valtellinese. \nIscrizioni ON-LINE entro le ore 22 di giovedì 23 aprile\n(cat Esordienti direttamente agli organizzatori)\nRitrovo ore 16.00\nInizio gare ore 17.00.\nOrg. G.S. CSI Morbegno tel/fax 0342.637225\ne-mail: info@gscsimorbegno.org – www.gscsimorbegno.org
URL:https://www.usbormiese.com/event/atletica-27-trofeo-morbegnese-corsa-su-strada-regionale/
CATEGORIES:ATLETICA
ATTACH;FMTTYPE=image/jpeg:https://www.usbormiese.com/wp-content/uploads/2015/06/atleticaAd.jpg
END:VEVENT
BEGIN:VEVENT
DTSTART;VALUE=DATE:20160424
DTEND;VALUE=DATE:20160425
DTSTAMP:20260420T180012
CREATED:20160419T131341Z
LAST-MODIFIED:20160419T131341Z
UID:13240-1461456000-1461542399@www.usbormiese.com
SUMMARY:Circuito provinciale 2016 di minivolley e super minivolley
DESCRIPTION:Circuito provinciale 2016 di minivolley e super minivolley \nLe società Us Bormiese\, Pallavolo Altavalle\, Us Delebio e Gs Gordona\, in collaborazione con il Comitato Provinciale Fipav di Sondrio\, organizzano il 31° Circuito Provinciale di Minivolley e di Superminivolley 2016. \nIl Circuito sarà composto da n° 4 tappe che avranno luogo a: \n\nGrosio – 24 aprile 2016\nGordona – 1 maggio 2016\nDelebio – 15 maggio 2016\nBormio/Valdidentro – 22 maggio 2016\n\ninfo@usbormiese.com
URL:https://www.usbormiese.com/event/circuito-provinciale-2016-di-minivolley-e-super-minivolley/
CATEGORIES:PALLAVOLO
ATTACH;FMTTYPE=image/jpeg:https://www.usbormiese.com/wp-content/uploads/2016/04/minivolley.jpg
END:VEVENT
BEGIN:VEVENT
DTSTART;VALUE=DATE:20160424
DTEND;VALUE=DATE:20160425
DTSTAMP:20260420T180012
CREATED:20160407T155519Z
LAST-MODIFIED:20160407T155519Z
UID:13095-1461456000-1461542399@www.usbormiese.com
SUMMARY:Atletica: Trail Internazionale a Chiavenna
DESCRIPTION:DOMENICA 24 APRILE 2016 Trail Internazionale a CHIAVENNA \n \nCategorie: P/S/M\n1° TRAIL VALBREGAGLIA\nSTAFFETTA 1X19\,3 Km – 1X 22\,5 Km MINITRAIL 22\,6 Km \nInizio gare ore 8.30.\nOrg. G.P. VALCHIAVENNA\nfax 178 2271775 – info@gpvalchiavenna.it 034335657\nResp. Org. Del Curto Nicola 3356469671
URL:https://www.usbormiese.com/event/atletica-trail-internazionale-a-chiavenna/
CATEGORIES:ATLETICA
ATTACH;FMTTYPE=image/jpeg:https://www.usbormiese.com/wp-content/uploads/2015/06/atleticaAd.jpg
END:VEVENT
BEGIN:VEVENT
DTSTART;VALUE=DATE:20160424
DTEND;VALUE=DATE:20160425
DTSTAMP:20260420T180012
CREATED:20151015T095649Z
LAST-MODIFIED:20151015T095649Z
UID:10613-1461456000-1461542399@www.usbormiese.com
SUMMARY:Calcio\, Prima squadra: Bormiese vs Albosaggia
DESCRIPTION:Domenica 24 aprile 2016 \nPRIMA SQUADRA\nCampionato provinciale di 2^ categoria \nBORMIESE vs ALBOSAGGIA\nA Bormio\, ore 15\,30
URL:https://www.usbormiese.com/event/calcio-prima-squadra-bormiese-vs-albosaggia/
CATEGORIES:CALCIO
ATTACH;FMTTYPE=image/jpeg:https://www.usbormiese.com/wp-content/uploads/2015/08/calcioSquadra.jpg
END:VEVENT
END:VCALENDAR