BEGIN:VCALENDAR
VERSION:2.0
PRODID:-//Unione Sportiva Bormiese - ECPv6.8.2.1//NONSGML v1.0//EN
CALSCALE:GREGORIAN
METHOD:PUBLISH
X-ORIGINAL-URL:https://www.usbormiese.com
X-WR-CALDESC:Eventi per Unione Sportiva Bormiese
REFRESH-INTERVAL;VALUE=DURATION:PT1H
X-Robots-Tag:noindex
X-PUBLISHED-TTL:PT1H
BEGIN:VTIMEZONE
TZID:Europe/Rome
BEGIN:DAYLIGHT
TZOFFSETFROM:+0100
TZOFFSETTO:+0200
TZNAME:CEST
DTSTART:20160327T010000
END:DAYLIGHT
BEGIN:STANDARD
TZOFFSETFROM:+0200
TZOFFSETTO:+0100
TZNAME:CET
DTSTART:20161030T010000
END:STANDARD
END:VTIMEZONE
BEGIN:VEVENT
DTSTART;VALUE=DATE:20160501
DTEND;VALUE=DATE:20160502
DTSTAMP:20260420T210558
CREATED:20160407T162643Z
LAST-MODIFIED:20160407T162643Z
UID:13099-1462060800-1462147199@www.usbormiese.com
SUMMARY:Ciclismo\, Tartano: 1^ prova Trofeo dello scalatore
DESCRIPTION:Domenica 01 maggio 2016 – Trofeo dello scalatore\nTartano\nCiclismo su Strada\n2^ Valtellina Road – 1^ Trofeo Scalatore \ninfo su http://www.ciclistivaltellinesi.it/calendario.php
URL:https://www.usbormiese.com/event/ciclismo-tartano-1-prova-trofeo-dello-scalatore/
CATEGORIES:CICLISMO
ATTACH;FMTTYPE=image/jpeg:https://www.usbormiese.com/wp-content/uploads/2015/06/ciclismoBann.jpg
END:VEVENT
BEGIN:VEVENT
DTSTART;VALUE=DATE:20160501
DTEND;VALUE=DATE:20160502
DTSTAMP:20260420T210558
CREATED:20151015T095842Z
LAST-MODIFIED:20151015T095842Z
UID:10614-1462060800-1462147199@www.usbormiese.com
SUMMARY:Calcio\, Prima squadra: Valchiavenna vs Bormiese
DESCRIPTION:Domenica 1° maggio 2016 \nPRIMA SQUADRA\nCampionato provinciale di 2^ categoria \nVALCHIAVENNA vs BORMIESE\nA Samolaco\, ore 15\,30
URL:https://www.usbormiese.com/event/calcio-prima-squadra-valchiavenna-vs-bormiese/
CATEGORIES:CALCIO
ATTACH;FMTTYPE=image/jpeg:https://www.usbormiese.com/wp-content/uploads/2015/08/calcioSquadra.jpg
END:VEVENT
BEGIN:VEVENT
DTSTART;VALUE=DATE:20160430
DTEND;VALUE=DATE:20160501
DTSTAMP:20260420T210558
CREATED:20160407T160112Z
LAST-MODIFIED:20160407T160112Z
UID:13097-1461974400-1462060799@www.usbormiese.com
SUMMARY:Atletica: la notturna di Talamona
DESCRIPTION:SABATO 30 APRILE 2016 gara su Strada Provinciale a Talamona – Centro Storico \nCategorie: TUTTE\nNotturna di Talamona\nCampionato di Società di Corsa su strada\n2^ prova prova Circuito Giovanile Credito Valtellinese. \nRitrovo ore 18.30\nInizio gare ore 19.30.\nOrg. GP Talamona tel. 3405006117\, 3287828122\, info gptalamona@libero.it
URL:https://www.usbormiese.com/event/atletica-la-notturna-di-talamona/
CATEGORIES:ATLETICA
ATTACH;FMTTYPE=image/jpeg:https://www.usbormiese.com/wp-content/uploads/2015/06/atleticaAd.jpg
END:VEVENT
BEGIN:VEVENT
DTSTART;VALUE=DATE:20160429
DTEND;VALUE=DATE:20160430
DTSTAMP:20260420T210558
CREATED:20160412T154756Z
LAST-MODIFIED:20160412T154756Z
UID:13194-1461888000-1461974399@www.usbormiese.com
SUMMARY:Mountain bike: corso di avviamento alla mountain bike
DESCRIPTION:Dal 26 aprile al 1° luglio 2016 CORSO DI AVVIAMENTO ALLA MTB  \nIl corso è proposto a bambini nati negli anni 2004-2009 che rientrano nella categoria GIOVANISSIMI F.C.I.) \nIl corso verrà tenuto da istruttori e volontari Usb e si svolgerà si percorsi ed in luoghi diversi nele giornate di martedì e venerdì \nOrganizzazione UNIONE SPORTIVA BORMIESE
URL:https://www.usbormiese.com/event/mountain-bike-corso-di-avviamento-alla-mountain-bike-2/
CATEGORIES:MOUNTAIN BIKE
ATTACH;FMTTYPE=image/jpeg:https://www.usbormiese.com/wp-content/uploads/2015/06/mtbJun.jpg
END:VEVENT
BEGIN:VEVENT
DTSTART;VALUE=DATE:20160428
DTEND;VALUE=DATE:20160502
DTSTAMP:20260420T210558
CREATED:20160404T134841Z
LAST-MODIFIED:20160404T134841Z
UID:13038-1461801600-1462147199@www.usbormiese.com
SUMMARY:Sci alpinismo: Raduno Internazionale Ortles Cevedale 2016
DESCRIPTION:Dal 28 aprile al 1° maggio 2016\nSci alpinismo – Cai Valfurva\n RADUNO INTERNAZIONALE DI SCIALPINISMO e CIASPOLE ORTLES CEVEDALE
URL:https://www.usbormiese.com/event/sci-alpinismo-raduno-internazionale-ortles-cevedale-2016/
CATEGORIES:MANIFESTAZIONI
ATTACH;FMTTYPE=image/jpeg:https://www.usbormiese.com/wp-content/uploads/2015/12/skialp.jpg
END:VEVENT
BEGIN:VEVENT
DTSTART;VALUE=DATE:20160426
DTEND;VALUE=DATE:20160427
DTSTAMP:20260420T210558
CREATED:20160412T154646Z
LAST-MODIFIED:20160412T154646Z
UID:13193-1461628800-1461715199@www.usbormiese.com
SUMMARY:Mountain bike: corso di avviamento alla mountain bike
DESCRIPTION:Dal 26 aprile al 1° luglio 2016 CORSO DI AVVIAMENTO ALLA MTB  \nIl corso è proposto a bambini nati negli anni 2004-2009 che rientrano nella categoria GIOVANISSIMI F.C.I.) \nIl corso verrà tenuto da istruttori e volontari Usb e si svolgerà si percorsi ed in luoghi diversi nele giornate di martedì e venerdì \nOrganizzazione UNIONE SPORTIVA BORMIESE
URL:https://www.usbormiese.com/event/mountain-bike-corso-di-avviamento-alla-mountain-bike/
CATEGORIES:MOUNTAIN BIKE
ATTACH;FMTTYPE=image/jpeg:https://www.usbormiese.com/wp-content/uploads/2015/06/mtbJun.jpg
END:VEVENT
BEGIN:VEVENT
DTSTART;VALUE=DATE:20160425
DTEND;VALUE=DATE:20160426
DTSTAMP:20260420T210558
CREATED:20160407T155829Z
LAST-MODIFIED:20160407T155829Z
UID:13096-1461542400-1461628799@www.usbormiese.com
SUMMARY:Atletica: 27° Trofeo Morbegnese. Corsa su strada regionale
DESCRIPTION:LUNEDI’ 25 APRILE 2016\nCorsa di Strada Regionale MORBEGNO – Centro Storico  Categorie: TUTTE 27° TROFEO MORBEGNESE\nCampionato Individuale di Corsa su strada Campionato di Società di Corsa su strada – 1^ prova prova Circuito Giovanile Credito Valtellinese. \nIscrizioni ON-LINE entro le ore 22 di giovedì 23 aprile\n(cat Esordienti direttamente agli organizzatori)\nRitrovo ore 16.00\nInizio gare ore 17.00.\nOrg. G.S. CSI Morbegno tel/fax 0342.637225\ne-mail: info@gscsimorbegno.org – www.gscsimorbegno.org
URL:https://www.usbormiese.com/event/atletica-27-trofeo-morbegnese-corsa-su-strada-regionale/
CATEGORIES:ATLETICA
ATTACH;FMTTYPE=image/jpeg:https://www.usbormiese.com/wp-content/uploads/2015/06/atleticaAd.jpg
END:VEVENT
BEGIN:VEVENT
DTSTART;VALUE=DATE:20160424
DTEND;VALUE=DATE:20160425
DTSTAMP:20260420T210558
CREATED:20160419T131341Z
LAST-MODIFIED:20160419T131341Z
UID:13240-1461456000-1461542399@www.usbormiese.com
SUMMARY:Circuito provinciale 2016 di minivolley e super minivolley
DESCRIPTION:Circuito provinciale 2016 di minivolley e super minivolley \nLe società Us Bormiese\, Pallavolo Altavalle\, Us Delebio e Gs Gordona\, in collaborazione con il Comitato Provinciale Fipav di Sondrio\, organizzano il 31° Circuito Provinciale di Minivolley e di Superminivolley 2016. \nIl Circuito sarà composto da n° 4 tappe che avranno luogo a: \n\nGrosio – 24 aprile 2016\nGordona – 1 maggio 2016\nDelebio – 15 maggio 2016\nBormio/Valdidentro – 22 maggio 2016\n\ninfo@usbormiese.com
URL:https://www.usbormiese.com/event/circuito-provinciale-2016-di-minivolley-e-super-minivolley/
CATEGORIES:PALLAVOLO
ATTACH;FMTTYPE=image/jpeg:https://www.usbormiese.com/wp-content/uploads/2016/04/minivolley.jpg
END:VEVENT
BEGIN:VEVENT
DTSTART;VALUE=DATE:20160424
DTEND;VALUE=DATE:20160425
DTSTAMP:20260420T210558
CREATED:20160407T155519Z
LAST-MODIFIED:20160407T155519Z
UID:13095-1461456000-1461542399@www.usbormiese.com
SUMMARY:Atletica: Trail Internazionale a Chiavenna
DESCRIPTION:DOMENICA 24 APRILE 2016 Trail Internazionale a CHIAVENNA \n \nCategorie: P/S/M\n1° TRAIL VALBREGAGLIA\nSTAFFETTA 1X19\,3 Km – 1X 22\,5 Km MINITRAIL 22\,6 Km \nInizio gare ore 8.30.\nOrg. G.P. VALCHIAVENNA\nfax 178 2271775 – info@gpvalchiavenna.it 034335657\nResp. Org. Del Curto Nicola 3356469671
URL:https://www.usbormiese.com/event/atletica-trail-internazionale-a-chiavenna/
CATEGORIES:ATLETICA
ATTACH;FMTTYPE=image/jpeg:https://www.usbormiese.com/wp-content/uploads/2015/06/atleticaAd.jpg
END:VEVENT
BEGIN:VEVENT
DTSTART;VALUE=DATE:20160424
DTEND;VALUE=DATE:20160425
DTSTAMP:20260420T210558
CREATED:20151015T095649Z
LAST-MODIFIED:20151015T095649Z
UID:10613-1461456000-1461542399@www.usbormiese.com
SUMMARY:Calcio\, Prima squadra: Bormiese vs Albosaggia
DESCRIPTION:Domenica 24 aprile 2016 \nPRIMA SQUADRA\nCampionato provinciale di 2^ categoria \nBORMIESE vs ALBOSAGGIA\nA Bormio\, ore 15\,30
URL:https://www.usbormiese.com/event/calcio-prima-squadra-bormiese-vs-albosaggia/
CATEGORIES:CALCIO
ATTACH;FMTTYPE=image/jpeg:https://www.usbormiese.com/wp-content/uploads/2015/08/calcioSquadra.jpg
END:VEVENT
BEGIN:VEVENT
DTSTART;VALUE=DATE:20160419
DTEND;VALUE=DATE:20160420
DTSTAMP:20260420T210558
CREATED:20160326T153252Z
LAST-MODIFIED:20160504T155306Z
UID:12950-1461024000-1461110399@www.usbormiese.com
SUMMARY:Assemblea ordinaria Us Bormiese
DESCRIPTION:CONVOCAZIONE ASSEMBLEA ORDINARIA\nDEI SOCI DELL’UNIONE SPORTIVA BORMIESE\nMARTEDI’ 19 APRILE 2016 – sala riunioni Banca Popolare di Sondrio \n\nI Soci dell’Unione Sportiva Bormiese sono convocati in ASSEMBLEA ORDINARIA presso la sala riunioni della Banca Popolare di Sondrio – filiale di Bormio\, in via Roma 131 a Bormio\, per il giorno martedì 19 aprile 2016 alle ore 17\,00 in prima convocazione ed alle ore 20\,30 in seconda convocazione per discutere e deliberare sul seguente ordine del giorno:\n1) Saluto del Presidente \n2) Approvazione bilancio al 31/12/2015 \n3) Determinazione ed approvazione quote associative 2017 \n4) Relazione sulle attività svolte nell’anno 2015 ed eventi estate 2016 \n5) Nomina nuovo consiglio direttivo \n6) Varie ed eventuali \n>>> Reazioni e documenti \nIl Presidente\, Pierluigi Spechenhauser
URL:https://www.usbormiese.com/event/assemblea-ordinaria-us-bormiese/
ATTACH;FMTTYPE=image/jpeg:https://www.usbormiese.com/wp-content/uploads/2014/07/Logo_usb35ok-_s-e1406815266734.jpg
END:VEVENT
BEGIN:VEVENT
DTSTART;VALUE=DATE:20160417
DTEND;VALUE=DATE:20160418
DTSTAMP:20260420T210558
CREATED:20160407T162315Z
LAST-MODIFIED:20160407T162315Z
UID:13098-1460851200-1460937599@www.usbormiese.com
SUMMARY:Ciclismo: prima prova campionato provinciale
DESCRIPTION:Domenica 17 aprile 2016 – 1^ Valtellina Road \nGordona\nCiclismo su Strada\n1^ Valtellina Road – 1^ Camp. Provinciale \ninfo su www.ciclistivaltellinesi.it
URL:https://www.usbormiese.com/event/ciclismo-prima-prova-campionato-provinciale/
CATEGORIES:CICLISMO
ATTACH;FMTTYPE=image/jpeg:https://www.usbormiese.com/wp-content/uploads/2015/06/ciclismo3.jpg
END:VEVENT
BEGIN:VEVENT
DTSTART;VALUE=DATE:20160417
DTEND;VALUE=DATE:20160418
DTSTAMP:20260420T210558
CREATED:20160407T155157Z
LAST-MODIFIED:20160407T155157Z
UID:13093-1460851200-1460937599@www.usbormiese.com
SUMMARY:Atletica: 2° Valtellina Vertical Race Tube
DESCRIPTION:DOMENICA 17 APRILE 2016 Trail Internazionale a MONTAGNA IN VALTELLINA – Via Panoramica  \n  \nCategorie: P/S/M\n2° Valtellina Vertical Race Tube\nRitrovo ore 14.00 Inizio gare ore 15.00.\nOrg. ATL. ALTA VALTELLINA\nthomas.gianoli@tiscali.it\nResp.De Gasperi Marco 3475625173 marcodg77@hotmail.com
URL:https://www.usbormiese.com/event/atletica-2-valtellina-vertical-race-tube/
CATEGORIES:ATLETICA
ATTACH;FMTTYPE=image/jpeg:https://www.usbormiese.com/wp-content/uploads/2016/04/verticalTube.jpg
END:VEVENT
BEGIN:VEVENT
DTSTART;VALUE=DATE:20160417
DTEND;VALUE=DATE:20160418
DTSTAMP:20260420T210558
CREATED:20151015T095511Z
LAST-MODIFIED:20151015T095511Z
UID:10612-1460851200-1460937599@www.usbormiese.com
SUMMARY:Calcio\, Prima squadra: Chiavennese vs Bormiese
DESCRIPTION:Domenica 17 aprile 2016 \nPRIMA SQUADRA\nCampionato provinciale di 2^ categoria \nCHIAVENNESE vs BORMIESE\nA Chiavenna\, ore 15\,30
URL:https://www.usbormiese.com/event/calcio-prima-squadra-chiavennese-vs-bormiese/
CATEGORIES:CALCIO
ATTACH;FMTTYPE=image/jpeg:https://www.usbormiese.com/wp-content/uploads/2015/08/calcioSquadra.jpg
END:VEVENT
BEGIN:VEVENT
DTSTART;VALUE=DATE:20160416
DTEND;VALUE=DATE:20160417
DTSTAMP:20260420T210558
CREATED:20160407T154058Z
LAST-MODIFIED:20160407T154058Z
UID:13092-1460764800-1460851199@www.usbormiese.com
SUMMARY:Atletica: riunione provinciale in pista e campionati provinciali staffette
DESCRIPTION:Atletica: riunione provinciale in pista e campionati provinciali staffette  Pista Provinciale\nSONDRIO – Centro Sportivo Comunale\nCategorie: R/C/A/J/P/S/M\n1^ RIUNIONE PROVINCIALE SU PISTA CAMPIONATI PROVINCIALI DI STAFFETTE\nprova Circuito Giovanile Credito Valtellinese.\nRitrovo ore 15.00\nConferma iscrizioni entro le ore 15.30\nInizio gare ore 16.00.\nProgramma Gare: RAG M/F: alto – 60 – 4×100 – 3×800 CAD M/F: peso – 80 – 4×100 – 3×1000 A/J/P/S/MAS M/F: lungo – triplo – alto – peso – 100 – 100/110hs – 800 – 4×100 – 4×400 \nOrg. Org ASD Sportiva Lanzada – Nana Fabiano tel. 3293513685 e-mail info@sportivalanzada.it
URL:https://www.usbormiese.com/event/atletica-riunione-provinciale-in-pista-e-campionati-provinciali-staffette/
CATEGORIES:ATLETICA
ATTACH;FMTTYPE=image/jpeg:https://www.usbormiese.com/wp-content/uploads/2015/06/atletica1.jpg
END:VEVENT
BEGIN:VEVENT
DTSTART;VALUE=DATE:20160410
DTEND;VALUE=DATE:20160411
DTSTAMP:20260420T210558
CREATED:20160407T153728Z
LAST-MODIFIED:20160407T153728Z
UID:13091-1460246400-1460332799@www.usbormiese.com
SUMMARY:Corsa in montagna: gara regionale a Prosto di Piuro
DESCRIPTION:Gara di corsa in Montagna Regionale a Prosto di Piuro\nDomenica 10 aprile 2016   \nLocalità: Vertemate\nCategorie: E/R/C/A\nTrofeo Palazzo Vertemate – Franchi 1^ Prova Trofeo Crippa categorie Rag/Cad M/F\n1^ Prova Trofeo Crema – Marini categorie All M/F\nProva Trofeo Giovanile Credito Valtellinese\nIscrizioni entro le 24.00 di venerdì 8 aprile\nRitrovo ore 8.30\nInizio gare ore 9.30\nOrg. G.P. Valchiavenna tel. 3476076920\ne-mail: info@gpvalchiavenna.it – www.gpvalchiavenna.it
URL:https://www.usbormiese.com/event/corsa-in-montagna-gara-regionale-a-prosto-di-piuro/
CATEGORIES:ATLETICA
ATTACH;FMTTYPE=image/jpeg:https://www.usbormiese.com/wp-content/uploads/2015/06/corsainmontagna.jpg
END:VEVENT
BEGIN:VEVENT
DTSTART;VALUE=DATE:20160410
DTEND;VALUE=DATE:20160411
DTSTAMP:20260420T210558
CREATED:20151015T095346Z
LAST-MODIFIED:20151015T095346Z
UID:10611-1460246400-1460332799@www.usbormiese.com
SUMMARY:Calcio\, Prima squadra: Bormiese vs Dubino
DESCRIPTION:Domenica 10 aprile 2016 \nPRIMA SQUADRA\nCampionato provinciale di 2^ categoria \nBORMIESE vs DUBINO\nA Bormio\, ore 15\,30
URL:https://www.usbormiese.com/event/calcio-prima-squadra-bormiese-vs-dubino/
CATEGORIES:CALCIO
ATTACH;FMTTYPE=image/jpeg:https://www.usbormiese.com/wp-content/uploads/2015/08/calcioSquadra.jpg
END:VEVENT
BEGIN:VEVENT
DTSTART;VALUE=DATE:20160407
DTEND;VALUE=DATE:20160408
DTSTAMP:20260420T210558
CREATED:20151015T095206Z
LAST-MODIFIED:20151015T095206Z
UID:10610-1459987200-1460073599@www.usbormiese.com
SUMMARY:Calcio\, Prima squadra: Bormiese vs Grosio
DESCRIPTION:Giovedì 7 aprile 2016 \nPRIMA SQUADRA\nCampionato provinciale di 2^ categoria \nBORMIESE vs GROSIO\nA Bormio\, ore 20\,30
URL:https://www.usbormiese.com/event/calcio-prima-squadra-bormiese-vs-grosio/
CATEGORIES:CALCIO
ATTACH;FMTTYPE=image/jpeg:https://www.usbormiese.com/wp-content/uploads/2015/07/calcio2.jpg
END:VEVENT
BEGIN:VEVENT
DTSTART;VALUE=DATE:20160403
DTEND;VALUE=DATE:20160404
DTSTAMP:20260420T210558
CREATED:20151015T095009Z
LAST-MODIFIED:20151015T095009Z
UID:10609-1459641600-1459727999@www.usbormiese.com
SUMMARY:Calcio\, Prima squadra: Tiranese vs Bormiese
DESCRIPTION:Domenica 3 aprile 2016 \nPRIMA SQUADRA\nCampionato provinciale di 2^ categoria \nTIRANESE vs BORMIESE\nA Tirano\, ore 15\,30
URL:https://www.usbormiese.com/event/calcio-prima-squadra-tiranese-vs-bormiese/
CATEGORIES:CALCIO
ATTACH;FMTTYPE=image/jpeg:https://www.usbormiese.com/wp-content/uploads/2015/07/calcio2.jpg
END:VEVENT
BEGIN:VEVENT
DTSTART;VALUE=DATE:20160402
DTEND;VALUE=DATE:20160403
DTSTAMP:20260420T210558
CREATED:20151024T094429Z
LAST-MODIFIED:20151024T094429Z
UID:10778-1459555200-1459641599@www.usbormiese.com
SUMMARY:Short track: Campionato Regionale Lombardo 2015/216
DESCRIPTION:Ultimo atto della stagione nazionale dello short track a Milano. \nSabato 2 aprile 2016\nè in programma il Campionato Regionale Lombardo\nMilano (Ita) – Junior E/F & promozionale
URL:https://www.usbormiese.com/event/short-track-campionato-regionale-lombardo-2015216/
CATEGORIES:SHORT TRACK
ATTACH;FMTTYPE=image/jpeg:https://www.usbormiese.com/wp-content/uploads/2015/09/short-track-1.jpg
END:VEVENT
BEGIN:VEVENT
DTSTART;VALUE=DATE:20160328
DTEND;VALUE=DATE:20160329
DTSTAMP:20260420T210558
CREATED:20160324T164340Z
LAST-MODIFIED:20160324T164340Z
UID:12948-1459123200-1459209599@www.usbormiese.com
SUMMARY:Atletica: staffetta su strada a Regoledo di Cosio
DESCRIPTION:STAFFETTA SU STRADA 2 ELEMNTI\nLunedì 28 marzo 2016\nREGOLEDO DI COSIO \n\n30a STAFFETTA DI PRIMAVERA \nCAMPIONATO PROVINCIALE INDIVIDUALE DI CORSA SU STRADA A STAFFETTA DI 2 ELEMENTI \nCATEGORIE: TUTTE \nRitrovo ore 13:00\nInizio gare ore 14:00 \nOrg. GS VALGEROLA\nResp. Org. Maurizio Piganzoli\nTel. 339/4034813\nMail: info@gsvalgerola.it
URL:https://www.usbormiese.com/event/atletica-staffetta-su-strada-a-regoledo-di-cosio/
CATEGORIES:ATLETICA
ATTACH;FMTTYPE=image/jpeg:https://www.usbormiese.com/wp-content/uploads/2015/06/atleticaAd.jpg
END:VEVENT
BEGIN:VEVENT
DTSTART;VALUE=DATE:20160328
DTEND;VALUE=DATE:20160329
DTSTAMP:20260420T210558
CREATED:20151015T094734Z
LAST-MODIFIED:20151015T094812Z
UID:10608-1459123200-1459209599@www.usbormiese.com
SUMMARY:Calcio\, Prima squadra: Piantedo vs Bormiese
DESCRIPTION:Lunedì 28 marzo 2016 \nPRIMA SQUADRA\nCampionato provinciale di 2^ categoria \nPIANTEDO vs BORMIESE\nA Piantedo\, ore 15\,30
URL:https://www.usbormiese.com/event/10608/
CATEGORIES:CALCIO
ATTACH;FMTTYPE=image/jpeg:https://www.usbormiese.com/wp-content/uploads/2015/07/calcio2.jpg
END:VEVENT
BEGIN:VEVENT
DTSTART;VALUE=DATE:20160323
DTEND;VALUE=DATE:20160324
DTSTAMP:20260420T210558
CREATED:20151202T094133Z
LAST-MODIFIED:20151202T094133Z
UID:11364-1458691200-1458777599@www.usbormiese.com
SUMMARY:Sci alpinismo al chiaro di luna con il Cai Valfurva
DESCRIPTION:Sci alpinismo al chiaro di luna con il Cai Valfurva  \nRitrovo presso sede CAI Valfurva ore 19\,00 \nIl quarto appuntamento della stagione è previsto \nMercoledì 23 Marzo 2016\n> Oga / S.Colombano
URL:https://www.usbormiese.com/event/sci-alpinismo-al-chiaro-di-luna-con-il-cai-valfurva-4/
CATEGORIES:SCI ALPINISMO
ATTACH;FMTTYPE=image/jpeg:https://www.usbormiese.com/wp-content/uploads/2015/12/skialp03.jpg
END:VEVENT
BEGIN:VEVENT
DTSTART;VALUE=DATE:20160320
DTEND;VALUE=DATE:20160321
DTSTAMP:20260420T210558
CREATED:20151015T094557Z
LAST-MODIFIED:20151015T094557Z
UID:10607-1458432000-1458518399@www.usbormiese.com
SUMMARY:Calcio\, Prima squadra: Bormiese vs Berbenno
DESCRIPTION:Domenica 20 marzo 2016 \nPRIMA SQUADRA\nCampionato provinciale di 2^ categoria \nBORMIESE vs BERBENNO\nA Bormio\, ore 14\,30
URL:https://www.usbormiese.com/event/calcio-prima-squadra-bormiese-vs-berbenno/
CATEGORIES:CALCIO
ATTACH;FMTTYPE=image/jpeg:https://www.usbormiese.com/wp-content/uploads/2015/08/calcioSquadra.jpg
END:VEVENT
BEGIN:VEVENT
DTSTART;VALUE=DATE:20160318
DTEND;VALUE=DATE:20160321
DTSTAMP:20260420T210558
CREATED:20151024T094219Z
LAST-MODIFIED:20151024T094219Z
UID:10777-1458259200-1458518399@www.usbormiese.com
SUMMARY:Short track\, Europa Cup Final 2016 a Budapest
DESCRIPTION:Ultimo atto della stagione internazionale dello short track a Budapest con le finali dell’Europa Cup Da venerdì 18 al domenica 20 marzo 2016\nEuropa Cup Final\nLa gara è riservata agli atleti qualificati nei circuiti Star Class e Danubia Cup\nBudapest (Hun) – Jun A/B/C/D
URL:https://www.usbormiese.com/event/short-track-europa-cup-final-2016-a-budapest/
CATEGORIES:SHORT TRACK
ATTACH;FMTTYPE=image/jpeg:https://www.usbormiese.com/wp-content/uploads/2015/10/short-track-2.jpg
END:VEVENT
BEGIN:VEVENT
DTSTART;VALUE=DATE:20160313
DTEND;VALUE=DATE:20160314
DTSTAMP:20260420T210558
CREATED:20151015T094415Z
LAST-MODIFIED:20151015T094415Z
UID:10606-1457827200-1457913599@www.usbormiese.com
SUMMARY:Calcio\, Prima squadra: Brivio vs Bormiese
DESCRIPTION:Domenica 13 marzo 2016 \nPRIMA SQUADRA\nCampionato provinciale di 2^ categoria \nBRIVIO vs BORMIESE\nA Brivio\, ore 14\,30
URL:https://www.usbormiese.com/event/calcio-prima-squadra-brivio-vs-bormiese/
CATEGORIES:CALCIO
ATTACH;FMTTYPE=image/jpeg:https://www.usbormiese.com/wp-content/uploads/2015/08/calcioSquadra.jpg
END:VEVENT
BEGIN:VEVENT
DTSTART;VALUE=DATE:20160311
DTEND;VALUE=DATE:20160314
DTSTAMP:20260420T210558
CREATED:20151024T093909Z
LAST-MODIFIED:20151024T093909Z
UID:10776-1457654400-1457913599@www.usbormiese.com
SUMMARY:Short track\, Campionati Mondiali a Seoul
DESCRIPTION:Si svolgeranno in Korea i campionati mondiali assoluti 2015/2016 di short track Dall’11 al 13 marzo 2016\nISU World Championships\nSeoul (Kor) – Squadra Nazionale
URL:https://www.usbormiese.com/event/short-track-campionati-mondiali-a-seoul/
CATEGORIES:SHORT TRACK
ATTACH;FMTTYPE=image/jpeg:https://www.usbormiese.com/wp-content/uploads/2015/10/short-track-ita.jpg
END:VEVENT
BEGIN:VEVENT
DTSTART;VALUE=DATE:20160306
DTEND;VALUE=DATE:20160307
DTSTAMP:20260420T210558
CREATED:20151015T094215Z
LAST-MODIFIED:20151015T094215Z
UID:10605-1457222400-1457308799@www.usbormiese.com
SUMMARY:Calcio\, Prima squadra: Ars Rovagante vs Bormiese
DESCRIPTION:Domenica 6 marzo 2016 \nPRIMA SQUADRA\nCampionato provinciale di 2^ categoria \nARS ROVAGNATE vs BORMIESE\nA Rovagnate\, ore 14\,30
URL:https://www.usbormiese.com/event/calcio-prima-squadra-ars-rovagante-vs-bormiese/
CATEGORIES:CALCIO
ATTACH;FMTTYPE=image/jpeg:https://www.usbormiese.com/wp-content/uploads/2015/08/calcioSquadra.jpg
END:VEVENT
BEGIN:VEVENT
DTSTART;VALUE=DATE:20160305
DTEND;VALUE=DATE:20160307
DTSTAMP:20260420T210558
CREATED:20151024T093404Z
LAST-MODIFIED:20151024T093404Z
UID:10774-1457136000-1457308799@www.usbormiese.com
SUMMARY:Short track\, Campionati italiani per categoria 2015/2016 a Cortina
DESCRIPTION:Dal 5 al 6 marzo 2016 si svolgeranno a Cortina i tricolori per categoria dello short track. \nCampionati Italiani per categoria\,\nCoppa Italia Giovanissimi\nCortina (Ita) – Sen & Jun A/B/C/D/E/F
URL:https://www.usbormiese.com/event/short-track-campionati-italiani-per-categoria-20152016-a-cortina/
CATEGORIES:SHORT TRACK
ATTACH;FMTTYPE=image/jpeg:https://www.usbormiese.com/wp-content/uploads/2015/09/short-track-1.jpg
END:VEVENT
BEGIN:VEVENT
DTSTART;VALUE=DATE:20160304
DTEND;VALUE=DATE:20160307
DTSTAMP:20260420T210558
CREATED:20151024T093656Z
LAST-MODIFIED:20151024T093656Z
UID:10775-1457049600-1457308799@www.usbormiese.com
SUMMARY:Short track\, Shanghai Trophy per squadre nazionali
DESCRIPTION:Dal 4 al 6 marzo 2016 è in programma in estremo oriente un evento speciale per squadre nazionali di short track.\nISU Shanghai Trophy\nShanghai (Chn) – Squadra nazionale
URL:https://www.usbormiese.com/event/short-track-shanghai-trophy-per-squadre-nazionali/
CATEGORIES:SHORT TRACK
ATTACH;FMTTYPE=image/jpeg:https://www.usbormiese.com/wp-content/uploads/2015/10/short-track-ita.jpg
END:VEVENT
END:VCALENDAR