BEGIN:VCALENDAR
VERSION:2.0
PRODID:-//Unione Sportiva Bormiese - ECPv6.8.2.1//NONSGML v1.0//EN
CALSCALE:GREGORIAN
METHOD:PUBLISH
X-ORIGINAL-URL:https://www.usbormiese.com
X-WR-CALDESC:Eventi per Unione Sportiva Bormiese
REFRESH-INTERVAL;VALUE=DURATION:PT1H
X-Robots-Tag:noindex
X-PUBLISHED-TTL:PT1H
BEGIN:VTIMEZONE
TZID:Europe/Rome
BEGIN:DAYLIGHT
TZOFFSETFROM:+0100
TZOFFSETTO:+0200
TZNAME:CEST
DTSTART:20160327T010000
END:DAYLIGHT
BEGIN:STANDARD
TZOFFSETFROM:+0200
TZOFFSETTO:+0100
TZNAME:CET
DTSTART:20161030T010000
END:STANDARD
END:VTIMEZONE
BEGIN:VEVENT
DTSTART;VALUE=DATE:20160328
DTEND;VALUE=DATE:20160329
DTSTAMP:20260421T004426
CREATED:20160324T164340Z
LAST-MODIFIED:20160324T164340Z
UID:12948-1459123200-1459209599@www.usbormiese.com
SUMMARY:Atletica: staffetta su strada a Regoledo di Cosio
DESCRIPTION:STAFFETTA SU STRADA 2 ELEMNTI\nLunedì 28 marzo 2016\nREGOLEDO DI COSIO \n\n30a STAFFETTA DI PRIMAVERA \nCAMPIONATO PROVINCIALE INDIVIDUALE DI CORSA SU STRADA A STAFFETTA DI 2 ELEMENTI \nCATEGORIE: TUTTE \nRitrovo ore 13:00\nInizio gare ore 14:00 \nOrg. GS VALGEROLA\nResp. Org. Maurizio Piganzoli\nTel. 339/4034813\nMail: info@gsvalgerola.it
URL:https://www.usbormiese.com/event/atletica-staffetta-su-strada-a-regoledo-di-cosio/
CATEGORIES:ATLETICA
ATTACH;FMTTYPE=image/jpeg:https://www.usbormiese.com/wp-content/uploads/2015/06/atleticaAd.jpg
END:VEVENT
BEGIN:VEVENT
DTSTART;VALUE=DATE:20160328
DTEND;VALUE=DATE:20160329
DTSTAMP:20260421T004426
CREATED:20151015T094734Z
LAST-MODIFIED:20151015T094812Z
UID:10608-1459123200-1459209599@www.usbormiese.com
SUMMARY:Calcio\, Prima squadra: Piantedo vs Bormiese
DESCRIPTION:Lunedì 28 marzo 2016 \nPRIMA SQUADRA\nCampionato provinciale di 2^ categoria \nPIANTEDO vs BORMIESE\nA Piantedo\, ore 15\,30
URL:https://www.usbormiese.com/event/10608/
CATEGORIES:CALCIO
ATTACH;FMTTYPE=image/jpeg:https://www.usbormiese.com/wp-content/uploads/2015/07/calcio2.jpg
END:VEVENT
BEGIN:VEVENT
DTSTART;VALUE=DATE:20160323
DTEND;VALUE=DATE:20160324
DTSTAMP:20260421T004426
CREATED:20151202T094133Z
LAST-MODIFIED:20151202T094133Z
UID:11364-1458691200-1458777599@www.usbormiese.com
SUMMARY:Sci alpinismo al chiaro di luna con il Cai Valfurva
DESCRIPTION:Sci alpinismo al chiaro di luna con il Cai Valfurva  \nRitrovo presso sede CAI Valfurva ore 19\,00 \nIl quarto appuntamento della stagione è previsto \nMercoledì 23 Marzo 2016\n> Oga / S.Colombano
URL:https://www.usbormiese.com/event/sci-alpinismo-al-chiaro-di-luna-con-il-cai-valfurva-4/
CATEGORIES:SCI ALPINISMO
ATTACH;FMTTYPE=image/jpeg:https://www.usbormiese.com/wp-content/uploads/2015/12/skialp03.jpg
END:VEVENT
BEGIN:VEVENT
DTSTART;VALUE=DATE:20160320
DTEND;VALUE=DATE:20160321
DTSTAMP:20260421T004426
CREATED:20151015T094557Z
LAST-MODIFIED:20151015T094557Z
UID:10607-1458432000-1458518399@www.usbormiese.com
SUMMARY:Calcio\, Prima squadra: Bormiese vs Berbenno
DESCRIPTION:Domenica 20 marzo 2016 \nPRIMA SQUADRA\nCampionato provinciale di 2^ categoria \nBORMIESE vs BERBENNO\nA Bormio\, ore 14\,30
URL:https://www.usbormiese.com/event/calcio-prima-squadra-bormiese-vs-berbenno/
CATEGORIES:CALCIO
ATTACH;FMTTYPE=image/jpeg:https://www.usbormiese.com/wp-content/uploads/2015/08/calcioSquadra.jpg
END:VEVENT
BEGIN:VEVENT
DTSTART;VALUE=DATE:20160318
DTEND;VALUE=DATE:20160321
DTSTAMP:20260421T004426
CREATED:20151024T094219Z
LAST-MODIFIED:20151024T094219Z
UID:10777-1458259200-1458518399@www.usbormiese.com
SUMMARY:Short track\, Europa Cup Final 2016 a Budapest
DESCRIPTION:Ultimo atto della stagione internazionale dello short track a Budapest con le finali dell’Europa Cup Da venerdì 18 al domenica 20 marzo 2016\nEuropa Cup Final\nLa gara è riservata agli atleti qualificati nei circuiti Star Class e Danubia Cup\nBudapest (Hun) – Jun A/B/C/D
URL:https://www.usbormiese.com/event/short-track-europa-cup-final-2016-a-budapest/
CATEGORIES:SHORT TRACK
ATTACH;FMTTYPE=image/jpeg:https://www.usbormiese.com/wp-content/uploads/2015/10/short-track-2.jpg
END:VEVENT
BEGIN:VEVENT
DTSTART;VALUE=DATE:20160313
DTEND;VALUE=DATE:20160314
DTSTAMP:20260421T004426
CREATED:20151015T094415Z
LAST-MODIFIED:20151015T094415Z
UID:10606-1457827200-1457913599@www.usbormiese.com
SUMMARY:Calcio\, Prima squadra: Brivio vs Bormiese
DESCRIPTION:Domenica 13 marzo 2016 \nPRIMA SQUADRA\nCampionato provinciale di 2^ categoria \nBRIVIO vs BORMIESE\nA Brivio\, ore 14\,30
URL:https://www.usbormiese.com/event/calcio-prima-squadra-brivio-vs-bormiese/
CATEGORIES:CALCIO
ATTACH;FMTTYPE=image/jpeg:https://www.usbormiese.com/wp-content/uploads/2015/08/calcioSquadra.jpg
END:VEVENT
BEGIN:VEVENT
DTSTART;VALUE=DATE:20160311
DTEND;VALUE=DATE:20160314
DTSTAMP:20260421T004426
CREATED:20151024T093909Z
LAST-MODIFIED:20151024T093909Z
UID:10776-1457654400-1457913599@www.usbormiese.com
SUMMARY:Short track\, Campionati Mondiali a Seoul
DESCRIPTION:Si svolgeranno in Korea i campionati mondiali assoluti 2015/2016 di short track Dall’11 al 13 marzo 2016\nISU World Championships\nSeoul (Kor) – Squadra Nazionale
URL:https://www.usbormiese.com/event/short-track-campionati-mondiali-a-seoul/
CATEGORIES:SHORT TRACK
ATTACH;FMTTYPE=image/jpeg:https://www.usbormiese.com/wp-content/uploads/2015/10/short-track-ita.jpg
END:VEVENT
BEGIN:VEVENT
DTSTART;VALUE=DATE:20160306
DTEND;VALUE=DATE:20160307
DTSTAMP:20260421T004426
CREATED:20151015T094215Z
LAST-MODIFIED:20151015T094215Z
UID:10605-1457222400-1457308799@www.usbormiese.com
SUMMARY:Calcio\, Prima squadra: Ars Rovagante vs Bormiese
DESCRIPTION:Domenica 6 marzo 2016 \nPRIMA SQUADRA\nCampionato provinciale di 2^ categoria \nARS ROVAGNATE vs BORMIESE\nA Rovagnate\, ore 14\,30
URL:https://www.usbormiese.com/event/calcio-prima-squadra-ars-rovagante-vs-bormiese/
CATEGORIES:CALCIO
ATTACH;FMTTYPE=image/jpeg:https://www.usbormiese.com/wp-content/uploads/2015/08/calcioSquadra.jpg
END:VEVENT
BEGIN:VEVENT
DTSTART;VALUE=DATE:20160305
DTEND;VALUE=DATE:20160307
DTSTAMP:20260421T004426
CREATED:20151024T093404Z
LAST-MODIFIED:20151024T093404Z
UID:10774-1457136000-1457308799@www.usbormiese.com
SUMMARY:Short track\, Campionati italiani per categoria 2015/2016 a Cortina
DESCRIPTION:Dal 5 al 6 marzo 2016 si svolgeranno a Cortina i tricolori per categoria dello short track. \nCampionati Italiani per categoria\,\nCoppa Italia Giovanissimi\nCortina (Ita) – Sen & Jun A/B/C/D/E/F
URL:https://www.usbormiese.com/event/short-track-campionati-italiani-per-categoria-20152016-a-cortina/
CATEGORIES:SHORT TRACK
ATTACH;FMTTYPE=image/jpeg:https://www.usbormiese.com/wp-content/uploads/2015/09/short-track-1.jpg
END:VEVENT
BEGIN:VEVENT
DTSTART;VALUE=DATE:20160304
DTEND;VALUE=DATE:20160307
DTSTAMP:20260421T004426
CREATED:20151024T093656Z
LAST-MODIFIED:20151024T093656Z
UID:10775-1457049600-1457308799@www.usbormiese.com
SUMMARY:Short track\, Shanghai Trophy per squadre nazionali
DESCRIPTION:Dal 4 al 6 marzo 2016 è in programma in estremo oriente un evento speciale per squadre nazionali di short track.\nISU Shanghai Trophy\nShanghai (Chn) – Squadra nazionale
URL:https://www.usbormiese.com/event/short-track-shanghai-trophy-per-squadre-nazionali/
CATEGORIES:SHORT TRACK
ATTACH;FMTTYPE=image/jpeg:https://www.usbormiese.com/wp-content/uploads/2015/10/short-track-ita.jpg
END:VEVENT
BEGIN:VEVENT
DTSTART;VALUE=DATE:20160228
DTEND;VALUE=DATE:20160229
DTSTAMP:20260421T004426
CREATED:20151015T093936Z
LAST-MODIFIED:20151015T093936Z
UID:10604-1456617600-1456703999@www.usbormiese.com
SUMMARY:Calcio\, Prima squadra: Bormiese vs Pontese
DESCRIPTION:Domenica 28 febbraio 2016 \nPRIMA SQUADRA\nCampionato provinciale di 2^ categoria \nBORMIESE vs PONTESE\nA Bormio\, ore 14\,30
URL:https://www.usbormiese.com/event/calcio-prima-squadra-bormiese-vs-pontese/
CATEGORIES:CALCIO
ATTACH;FMTTYPE=image/jpeg:https://www.usbormiese.com/wp-content/uploads/2015/08/calcioSquadra.jpg
END:VEVENT
BEGIN:VEVENT
DTSTART;VALUE=DATE:20160227
DTEND;VALUE=DATE:20160228
DTSTAMP:20260421T004426
CREATED:20151024T155209Z
LAST-MODIFIED:20151024T155209Z
UID:10796-1456531200-1456617599@www.usbormiese.com
SUMMARY:Pallavolo\, prima divisione femminile 2015/2016. A Talamona: Talamona - Bormiese
DESCRIPTION:Pallavolo\, Campionato 2015/216 di Prima Divisione Femminile  \nQuattordicesima Giornata \nSabato 27 febbraio 2016\nore 20.30\nA TALAMONA\nU.S. TALAMONA – U.S. BORMIESE IDEAL CASA
URL:https://www.usbormiese.com/event/pallavolo-prima-divisione-femminile-20152016-a-talamona-talamona-bormiese/
CATEGORIES:PALLAVOLO
ATTACH;FMTTYPE=image/jpeg:https://www.usbormiese.com/wp-content/uploads/2015/10/volley2.jpg
END:VEVENT
BEGIN:VEVENT
DTSTART;VALUE=DATE:20160227
DTEND;VALUE=DATE:20160228
DTSTAMP:20260421T004426
CREATED:20151024T093132Z
LAST-MODIFIED:20151024T093132Z
UID:10773-1456531200-1456617599@www.usbormiese.com
SUMMARY:Short track\, circuito Interregionale Giovanissimi a Bergamo
DESCRIPTION:Sabato 27 febbraio 2016 è in programma l’atto conclusivo del circuito Interregionale di short track. A Bergamo le squadre delle società di Piemonte e Lombardia saranno impegnate nel Trofeo Interregionale\, terza prova \nLa gara è riservata alle categorie Junior E/F & promozionale
URL:https://www.usbormiese.com/event/short-track-circuito-interregionale-giovanissimi-a-bergamo/
CATEGORIES:SHORT TRACK
ATTACH;FMTTYPE=image/jpeg:https://www.usbormiese.com/wp-content/uploads/2015/09/short-track-1.jpg
END:VEVENT
BEGIN:VEVENT
DTSTART;VALUE=DATE:20160226
DTEND;VALUE=DATE:20160229
DTSTAMP:20260421T004426
CREATED:20151024T092741Z
LAST-MODIFIED:20151024T092807Z
UID:10772-1456444800-1456703999@www.usbormiese.com
SUMMARY:Short track\, ad Albertville il circuito Star Class
DESCRIPTION:Ultima tappa del circuito Star Class di short track\, dal 26 al 28 febbraio 2016\, ad Albertville  \nStar Class 6 (senior & junior A/B)\n26 / 28 febbraio 2016\nAlbertville (Fra) – Senior & Junior A/B \nLe classifiche del circuito su shorttrackonline.com
URL:https://www.usbormiese.com/event/short-track-ad-albertville-il-circuito-star-class/
CATEGORIES:SHORT TRACK
ATTACH;FMTTYPE=image/jpeg:https://www.usbormiese.com/wp-content/uploads/2015/10/short-track-2.jpg
END:VEVENT
BEGIN:VEVENT
DTSTART;VALUE=DATE:20160222
DTEND;VALUE=DATE:20160223
DTSTAMP:20260421T004426
CREATED:20151202T094001Z
LAST-MODIFIED:20151202T094001Z
UID:11363-1456099200-1456185599@www.usbormiese.com
SUMMARY:Sci alpinismo al chiaro di luna con il Cai Valfurva
DESCRIPTION:Sci alpinismo al chiaro di luna con il Cai Valfurva  \nRitrovo presso sede CAI Valfurva ore 19\,00 \nIl terzo appuntamento della stagione è previsto \nLunedì 22 Febbraio 2016\n> Livigno \nil successivo \nMercoledì 23 Marzo 2016\n> Oga / S.Colombano
URL:https://www.usbormiese.com/event/sci-alpinismo-al-chiaro-di-luna-con-il-cai-valfurva-3/
CATEGORIES:SCI ALPINISMO
ATTACH;FMTTYPE=image/jpeg:https://www.usbormiese.com/wp-content/uploads/2015/12/skialp03.jpg
END:VEVENT
BEGIN:VEVENT
DTSTART;VALUE=DATE:20160221
DTEND;VALUE=DATE:20160222
DTSTAMP:20260421T004426
CREATED:20160107T131733Z
LAST-MODIFIED:20160107T131824Z
UID:11836-1456012800-1456099199@www.usbormiese.com
SUMMARY:Campestre regionale: 16° Cross Tremenda a Samolaco
DESCRIPTION:CAMPESTRE REGIONALE\nDomenica 21 febbraio 2016 \nSAMOLACO (loc. “Roncaccina”) \n16° CROSS TREMENDA XXL\n3a prova provinciale di Corsa Campestre\n4a prova Trofeo Lombardia\n4a prova Trofeo Volpi R/C \nCATEGORIE: TUTTE \nRitrovo ore 09:00\nInizio gare ore 09:30 \nOrg. GP VALCHIAVENNA\nTel. 347/6076920\nMail: info@gpvalchiavenna.it\nInfo: www.gpvalchiavenna.it
URL:https://www.usbormiese.com/event/11836/
CATEGORIES:ATLETICA
ATTACH;FMTTYPE=image/jpeg:https://www.usbormiese.com/wp-content/uploads/2014/12/cross30112014.jpg
END:VEVENT
BEGIN:VEVENT
DTSTART;VALUE=DATE:20160221
DTEND;VALUE=DATE:20160222
DTSTAMP:20260421T004426
CREATED:20151026T194214Z
LAST-MODIFIED:20151026T194214Z
UID:10971-1456012800-1456099199@www.usbormiese.com
SUMMARY:Pallavolo\, U19 Maschile 2015/2016. A Bergamo: Bergamo - Bormiese
DESCRIPTION:Pallavolo\, Campionato 2015/2016 Under 19 Maschile \nUnder 19 Maschile \nSedicesima Giornata \nDomenica 21 febbraio 2016\nore 11.00\nA BERGAMO\nFABE AXA MARIO RAGNO – U.S. BORMIESE ALLIANZ \nore 17.00\nA BERAGMO\nVOLLEY EXCELSIOR BERGAMO – U.S. BORMIESE ALLIANZ
URL:https://www.usbormiese.com/event/pallavolo-u19-maschile-20152016-a-bergamo-bergamo-bormiese/
CATEGORIES:PALLAVOLO
END:VEVENT
BEGIN:VEVENT
DTSTART;VALUE=DATE:20160221
DTEND;VALUE=DATE:20160222
DTSTAMP:20260421T004426
CREATED:20151015T093743Z
LAST-MODIFIED:20151015T093743Z
UID:10603-1456012800-1456099199@www.usbormiese.com
SUMMARY:Calcio\, Prima squadra: Aurora Calcio vs Bormiese
DESCRIPTION:Domenica 21 febbraio 2016 \nPRIMA SQUADRA\nCampionato provinciale di 2^ categoria \nAURORA CALCIO vs BORMIESE\nA Olgiate Molgora\, ore 14\,30
URL:https://www.usbormiese.com/event/calcio-prima-squadra-aurora-calcio-vs-bormiese/
CATEGORIES:CALCIO
ATTACH;FMTTYPE=image/jpeg:https://www.usbormiese.com/wp-content/uploads/2015/08/calcioSquadra.jpg
END:VEVENT
BEGIN:VEVENT
DTSTART;VALUE=DATE:20160220
DTEND;VALUE=DATE:20160221
DTSTAMP:20260421T004426
CREATED:20151024T154755Z
LAST-MODIFIED:20151024T154755Z
UID:10795-1455926400-1456012799@www.usbormiese.com
SUMMARY:Pallavolo\, prima divisione femminile 2015/2016. A Bormio: Bormiese - 2Laghi
DESCRIPTION:Pallavolo\, Campionato 2015/216 di Prima Divisione Femminile  \nTredicesima Giornata \nSabato 20 febbraio 2016\nore 18.00\nA BORMIO\nU.S. BORMIESE IDEAL CASA – VOLLEY2LAGHI
URL:https://www.usbormiese.com/event/pallavolo-prima-divisione-femminile-20152016-a-bormio-bormiese-2laghi/
CATEGORIES:PALLAVOLO
ATTACH;FMTTYPE=image/jpeg:https://www.usbormiese.com/wp-content/uploads/2015/10/volley2.jpg
END:VEVENT
BEGIN:VEVENT
DTSTART;VALUE=DATE:20160219
DTEND;VALUE=DATE:20160222
DTSTAMP:20260421T004426
CREATED:20151024T092345Z
LAST-MODIFIED:20151024T092345Z
UID:10771-1455840000-1456099199@www.usbormiese.com
SUMMARY:Short track\, a Leeuwarden il circuito Star Class
DESCRIPTION:Dal 19 al 21 febbraio 2016 è in programma l’ultima tappa della Star Class per le categorie junior C e junior D \nStar Class 5 (junior C/D)\nLeeuwarden (Ned) – Junior C/D
URL:https://www.usbormiese.com/event/short-track-a-leeuwarden-il-circuito-star-class/
CATEGORIES:SHORT TRACK
ATTACH;FMTTYPE=image/jpeg:https://www.usbormiese.com/wp-content/uploads/2015/10/short-track.jpg
END:VEVENT
BEGIN:VEVENT
DTSTART;VALUE=DATE:20160214
DTEND;VALUE=DATE:20160215
DTSTAMP:20260421T004426
CREATED:20151025T100821Z
LAST-MODIFIED:20151025T100821Z
UID:10866-1455408000-1455494399@www.usbormiese.com
SUMMARY:Pallavolo\, U18 femminile 2015/2016. A Tirano: Csi - Bormiese
DESCRIPTION:Pallavolo\, Campionato 2015/2016 Under 18 Femminile – Girone A  \nUnder 18 Femminile – Girone A \nDecima Giornata \nDomenica 14 febbraio 2016\nore 19.00\nA TIRANO\nITCG G.S. C.S.I. TIRANO – U.S. BORMIESE
URL:https://www.usbormiese.com/event/pallavolo-u18-femminile-20152016-a-tirano-csi-bormiese/
CATEGORIES:PALLAVOLO
ATTACH;FMTTYPE=image/jpeg:https://www.usbormiese.com/wp-content/uploads/2015/10/volley2.jpg
END:VEVENT
BEGIN:VEVENT
DTSTART;VALUE=DATE:20160214
DTEND;VALUE=DATE:20160215
DTSTAMP:20260421T004426
CREATED:20151015T093539Z
LAST-MODIFIED:20151015T093539Z
UID:10602-1455408000-1455494399@www.usbormiese.com
SUMMARY:Calcio\, Prima squadra: Bormiese vs Bellagina
DESCRIPTION:Domenica 14 febbraio 2016 \nPRIMA SQUADRA\nCampionato provinciale di 2^ categoria \nBORMIESE vs BELLAGINA\nA Bormio\, ore 14\,30
URL:https://www.usbormiese.com/event/calcio-prima-squadra-bormiese-vs-bellagina/
CATEGORIES:CALCIO
ATTACH;FMTTYPE=image/jpeg:https://www.usbormiese.com/wp-content/uploads/2015/08/calcioSquadra.jpg
END:VEVENT
BEGIN:VEVENT
DTSTART;VALUE=DATE:20160213
DTEND;VALUE=DATE:20160215
DTSTAMP:20260421T004426
CREATED:20151024T091300Z
LAST-MODIFIED:20151024T091300Z
UID:10768-1455321600-1455494399@www.usbormiese.com
SUMMARY:Short track: a Trento il Trofeo Nicolodi
DESCRIPTION:Sabato 13 e domenica 14 febbraio 2016 è in programma a Trento una delle più antiche competizioni di pattinaggio\, il Trofeo Nicolodi \nTrofeo Nicolodi (a convocazione)\nTrento (Ita) – Junior B/C/D/E/F
URL:https://www.usbormiese.com/event/short-track-a-trento-il-trofeo-nicolodi/
CATEGORIES:SHORT TRACK
ATTACH;FMTTYPE=image/jpeg:https://www.usbormiese.com/wp-content/uploads/2015/10/short-track-2.jpg
END:VEVENT
BEGIN:VEVENT
DTSTART;VALUE=DATE:20160213
DTEND;VALUE=DATE:20160214
DTSTAMP:20260421T004426
CREATED:20160126T094220Z
LAST-MODIFIED:20160126T094220Z
UID:11938-1455321600-1455407999@www.usbormiese.com
SUMMARY:Atletica: indoor promozionale a Nuova Olonio
DESCRIPTION:INDOOR PROMOZIONALE\nSabato 13 febbraio 2016 \nNUOVA OLONIO\n2° NUOVA OLONIO INDOOR \n3^ prova Circuito Giovanile Credito Valtellinese. \nCATEGORIE: ES A/B/C \nRitrovo ore 15:00\nInizio gare ore 15:30 \nOrg. GP SANTI \nResp. Org Taoufiq Saoudi (388/3665760)\nMail: info@gpsanti.it
URL:https://www.usbormiese.com/event/atletica-indoor-promozionale-a-nuova-olonio/
CATEGORIES:ATLETICA
ATTACH;FMTTYPE=image/jpeg:https://www.usbormiese.com/wp-content/uploads/2015/06/atletica1.jpg
END:VEVENT
BEGIN:VEVENT
DTSTART;VALUE=DATE:20160213
DTEND;VALUE=DATE:20160214
DTSTAMP:20260421T004426
CREATED:20151025T082726Z
LAST-MODIFIED:20151025T082726Z
UID:10817-1455321600-1455407999@www.usbormiese.com
SUMMARY:Pallavolo\, U13 femminile A 2015/2016. A Tirano: Pgs - Bormiese
DESCRIPTION:Pallavolo\, Campionato 2015/2016 Under 13 Femminile – Girone A   \nDecima Giornata \nSabato 13 febbraio 2016\nore 18.30\nA TIRANO\nPGS GOODNESS TIRANO – U.S. BORMIESE GELATERIA PASTICCERIA BRAULIO
URL:https://www.usbormiese.com/event/pallavolo-u13-femminile-a-20152016-a-tirano-pgs-bormiese/
CATEGORIES:PALLAVOLO
ATTACH;FMTTYPE=image/jpeg:https://www.usbormiese.com/wp-content/uploads/2015/10/volley.jpg
END:VEVENT
BEGIN:VEVENT
DTSTART;VALUE=DATE:20160213
DTEND;VALUE=DATE:20160214
DTSTAMP:20260421T004426
CREATED:20151025T080357Z
LAST-MODIFIED:20151025T080357Z
UID:10807-1455321600-1455407999@www.usbormiese.com
SUMMARY:Pallavolo\, U13 femminile B 2015/2016. A Sondrio: Auxilium - Bormiese
DESCRIPTION:Pallavolo\, Campionato 2015/216 Under 13 Femminile – Girone B  \nDecima Giornata \nSabato 13 febbraio 2016\nore 15.30\nA SONDRIO\nITIS PGS AUXILIUM – U.S. BORMIESE B
URL:https://www.usbormiese.com/event/pallavolo-u13-femminile-b-20152016-a-sondrio-auxilium-bormiese/
CATEGORIES:PALLAVOLO
ATTACH;FMTTYPE=image/jpeg:https://www.usbormiese.com/wp-content/uploads/2015/10/volley.jpg
END:VEVENT
BEGIN:VEVENT
DTSTART;VALUE=DATE:20160213
DTEND;VALUE=DATE:20160214
DTSTAMP:20260421T004426
CREATED:20151024T154531Z
LAST-MODIFIED:20151024T154531Z
UID:10794-1455321600-1455407999@www.usbormiese.com
SUMMARY:Pallavolo\, prima divisione femminile 2015/2016. A Bormio: Bormiese - AltoLario
DESCRIPTION:Pallavolo\, Campionato 2015/216 di Prima Divisione Femminile  \nDodicesima Giornata \nSabato 13 febbraio 2016\nore 18.00\nA BORMIO\nU.S. BORMIESE IDEAL CASA – PALLAVOLO ALTOLARIO
URL:https://www.usbormiese.com/event/pallavolo-prima-divisione-femminile-20152016-a-bormio-bormiese-altolario/
CATEGORIES:PALLAVOLO
ATTACH;FMTTYPE=image/jpeg:https://www.usbormiese.com/wp-content/uploads/2015/10/volley2.jpg
END:VEVENT
BEGIN:VEVENT
DTSTART;VALUE=DATE:20160212
DTEND;VALUE=DATE:20160222
DTSTAMP:20260421T004426
CREATED:20151024T092124Z
LAST-MODIFIED:20151024T092124Z
UID:10769-1455235200-1456099199@www.usbormiese.com
SUMMARY:Eventi: a Lillehammer i Giochi Olimpici della Gioventù\, 2^ edizione
DESCRIPTION:Dal 12 al 21 febbraio 2016 si svolgerà a Lillehammer la seconda edizione dei Giochi Olimpici Invernali della Gioventù \n2nd Winter Youth Olympic Games\nLillehammer (Nor) – Squadra Nazionale Junior\nweb page
URL:https://www.usbormiese.com/event/eventi-a-lillehammer-i-giochi-olimpici-della-gioventu-2-edizione/
CATEGORIES:SCI ALPINO,SCI FONDO,SHORT TRACK
ATTACH;FMTTYPE=image/jpeg:https://www.usbormiese.com/wp-content/uploads/2015/10/lillehammer2016.jpg
END:VEVENT
BEGIN:VEVENT
DTSTART;VALUE=DATE:20160212
DTEND;VALUE=DATE:20160215
DTSTAMP:20260421T004426
CREATED:20151024T091035Z
LAST-MODIFIED:20151024T091035Z
UID:10766-1455235200-1455494399@www.usbormiese.com
SUMMARY:Short track: a Dordrecht la sesta prova di Coppa del Mondo
DESCRIPTION:Sul ghiaccio olandese di Dordrecht\, dal 12 a 14 febbraio 2016 si svolge la sesta prova di Coppa del Mondo di short track \nWorld Cup\, 6^ prova\nDordrecht (Ned) – Squadra Nazionale
URL:https://www.usbormiese.com/event/short-track-a-dordrecht-la-sesta-prova-di-coppa-del-mondo/
CATEGORIES:SHORT TRACK
ATTACH;FMTTYPE=image/jpeg:https://www.usbormiese.com/wp-content/uploads/2015/10/short-track-ita.jpg
END:VEVENT
BEGIN:VEVENT
DTSTART;VALUE=DATE:20160212
DTEND;VALUE=DATE:20160213
DTSTAMP:20260421T004426
CREATED:20151025T095409Z
LAST-MODIFIED:20151025T095409Z
UID:10855-1455235200-1455321599@www.usbormiese.com
SUMMARY:Pallavolo\, U16 femminile 2015/2016. A Bormio: Bormiese - Pgs
DESCRIPTION:Pallavolo\, Campionato 2015/2016 Under 16 Femminile  \nUnder 16 Femminile – Girone A \nDodicesima Giornata \nVenerdì 12 febbraio 2016\nore 19.30\nA BORMIO\nU.S. BORMIESE – PGS AUXILIUM
URL:https://www.usbormiese.com/event/pallavolo-u16-femminile-20152016-a-bormio-bormiese-pgs/
CATEGORIES:PALLAVOLO
ATTACH;FMTTYPE=image/jpeg:https://www.usbormiese.com/wp-content/uploads/2015/10/volley3.jpg
END:VEVENT
END:VCALENDAR