BEGIN:VCALENDAR
VERSION:2.0
PRODID:-//Unione Sportiva Bormiese - ECPv6.8.2.1//NONSGML v1.0//EN
CALSCALE:GREGORIAN
METHOD:PUBLISH
X-ORIGINAL-URL:https://www.usbormiese.com
X-WR-CALDESC:Eventi per Unione Sportiva Bormiese
REFRESH-INTERVAL;VALUE=DURATION:PT1H
X-Robots-Tag:noindex
X-PUBLISHED-TTL:PT1H
BEGIN:VTIMEZONE
TZID:Europe/Rome
BEGIN:DAYLIGHT
TZOFFSETFROM:+0100
TZOFFSETTO:+0200
TZNAME:CEST
DTSTART:20150329T010000
END:DAYLIGHT
BEGIN:STANDARD
TZOFFSETFROM:+0200
TZOFFSETTO:+0100
TZNAME:CET
DTSTART:20151025T010000
END:STANDARD
END:VTIMEZONE
BEGIN:VEVENT
DTSTART;VALUE=DATE:20151220
DTEND;VALUE=DATE:20151221
DTSTAMP:20260421T141303
CREATED:20151026T193506Z
LAST-MODIFIED:20151026T193506Z
UID:10967-1450569600-1450655999@www.usbormiese.com
SUMMARY:Pallavolo\, U19 Maschile 2015/2016. A Scanzorosciate: Scanzorosciate - Bormiese - Bottanuco
DESCRIPTION:Pallavolo\, Campionato 2015/2016 Under 19 Maschile \nUnder 19 Maschile \nNona Giornata \nDomenica 20 dicembre 2015\nore 11.00\nA SCANZOROSCIATE\nVOLLEY BOTTANUCO – U.S. BORMIESE ALLIANZ \nore 18.00\nA SCANZOROSCIATE\nU.S.D. SCANZOROSCIATE PALLAVOLO – U.S. BORMIESE ALLIANZ
URL:https://www.usbormiese.com/event/pallavolo-u19-maschile-20152016-a-scanzorosciate-scanzorosciate-bormiese-bottanuco/
CATEGORIES:PALLAVOLO
END:VEVENT
BEGIN:VEVENT
DTSTART;VALUE=DATE:20151220
DTEND;VALUE=DATE:20151221
DTSTAMP:20260421T141303
CREATED:20151025T085204Z
LAST-MODIFIED:20151025T085204Z
UID:10826-1450569600-1450655999@www.usbormiese.com
SUMMARY:Pallavolo\, U14 femminile B 2015/2016. A Bormio: Rio Scianno - Cosio
DESCRIPTION:Pallavolo\, Campionato 2015/2016 Under 14 Femminile – Girone B \nNona Giornata \nDomenica 20 dicembre 2015\nore 18.00\nA BORMIO\nG.S. RIO SCIANNO B – A.D. COSIO VOLLEY
URL:https://www.usbormiese.com/event/pallavolo-u14-femminile-b-20152016-a-bormio-rio-scianno-cosio/
CATEGORIES:PALLAVOLO
ATTACH;FMTTYPE=image/jpeg:https://www.usbormiese.com/wp-content/uploads/2015/10/volley.jpg
END:VEVENT
BEGIN:VEVENT
DTSTART;VALUE=DATE:20151219
DTEND;VALUE=DATE:20151220
DTSTAMP:20260421T141303
CREATED:20151211T084803Z
LAST-MODIFIED:20151211T084803Z
UID:11449-1450483200-1450569599@www.usbormiese.com
SUMMARY:US Bormiese Ciclismo: festa annuale del settore
DESCRIPTION:Sabato 19 dicembre 2015 presso l’Hotel Funivia a Bormio si svolgerà l’annuale festa del ciclismo dell’Unione Sportiva Bormiese. \nPer informazioni e prenotazioni rivolgersi alla segreteria dell’US Bormiese
URL:https://www.usbormiese.com/event/us-bormiese-ciclismo-festa-annuale-del-settore/
CATEGORIES:CICLISMO
ATTACH;FMTTYPE=image/jpeg:https://www.usbormiese.com/wp-content/uploads/2015/09/ciclismo4.jpg
END:VEVENT
BEGIN:VEVENT
DTSTART;VALUE=DATE:20151219
DTEND;VALUE=DATE:20151220
DTSTAMP:20260421T141303
CREATED:20151025T092211Z
LAST-MODIFIED:20151025T092211Z
UID:10839-1450483200-1450569599@www.usbormiese.com
SUMMARY:Pallavolo\, U14 femminile A 2015/2016. A Bormio: Rio Scianno - Bormiese
DESCRIPTION:Pallavolo\, Campionato 2015/2016 Under 14 Femminile – Girone A  \nNona Giornata \nSabato 19 dicembre 2015\nore 18.00\nA BORMIO\nG.S. RIO SCIANNO A – U.S. BORMIESE OTTICA OCCHI
URL:https://www.usbormiese.com/event/pallavolo-u14-femminile-a-20152016-a-bormio-rio-scianno-bormiese/
CATEGORIES:PALLAVOLO
ATTACH;FMTTYPE=image/jpeg:https://www.usbormiese.com/wp-content/uploads/2015/10/volley.jpg
END:VEVENT
BEGIN:VEVENT
DTSTART;VALUE=DATE:20151219
DTEND;VALUE=DATE:20151220
DTSTAMP:20260421T141303
CREATED:20151024T153036Z
LAST-MODIFIED:20151024T153036Z
UID:10787-1450483200-1450569599@www.usbormiese.com
SUMMARY:Pallavolo\, prima divisione femminile 2015/2016. A Porlezza: 2Laghi - Bormiese
DESCRIPTION:Pallavolo\, Campionato 2015/216 di Prima Divisione Femminile \nSesta Giornata \nSabato 19 dicembre 2015\nore 20.00\nA PORLEZZA\nVOLLEY2LAGHI – U.S. BORMIESE IDEAL CASA
URL:https://www.usbormiese.com/event/pallavolo-prima-divisione-femminile-20152016-a-porlezza-2laghi-bormiese/
CATEGORIES:PALLAVOLO
ATTACH;FMTTYPE=image/jpeg:https://www.usbormiese.com/wp-content/uploads/2015/10/volley2.jpg
END:VEVENT
BEGIN:VEVENT
DTSTART;VALUE=DATE:20151219
DTEND;VALUE=DATE:20151220
DTSTAMP:20260421T141303
CREATED:20151022T155651Z
LAST-MODIFIED:20151222T090458Z
UID:10676-1450483200-1450569599@www.usbormiese.com
SUMMARY:Short track: Trofeo Interregionale a Bormio
DESCRIPTION:Sabato 19 dicembre 2015 a Bormio prima tappa del trofeo Interregionale La manifestazione è in programma\nnel pomeriggio del 19 dicembre 2015 dalle ore 15\nal Palazzo del Ghiaccio di Bormio\norganizzata dalla Bormio Ghiaccio \nTrofeo Interregionale\, prima prova – Bormio (Ita) – Junior E/F & promozionale \nANNUNCIO E PROGRAMMA
URL:https://www.usbormiese.com/event/short-track-trofeo-interregionale-a-bormio-2/
CATEGORIES:SHORT TRACK
ATTACH;FMTTYPE=image/jpeg:https://www.usbormiese.com/wp-content/uploads/2015/09/short-track-1.jpg
END:VEVENT
BEGIN:VEVENT
DTSTART;VALUE=DATE:20151218
DTEND;VALUE=DATE:20151219
DTSTAMP:20260421T141303
CREATED:20151211T085544Z
LAST-MODIFIED:20151211T085544Z
UID:11450-1450396800-1450483199@www.usbormiese.com
SUMMARY:Calcio: assemblea dei soci e festa dei trent'anni
DESCRIPTION:Venerdì 18 dicembre 2015 sono in agenda due importanti appuntamenti per la Bormiese Calcio.  Alle 18.00\, presso la sede dell’associazione\, è in programma l’assemblea dei soci con il resoconto della stagione 2014/2015 e la presentazione dei programmi e dell’attività 2015/2016.\nA partire dalle 20.00 – presso l’Hotel Miravalle – è in programma il galà dei 30 anni della Bormiese Calcio (serata ad invito e per i tesserati del settore)
URL:https://www.usbormiese.com/event/calcio-assemblea-dei-soci-e-festa-dei-trentanni/
CATEGORIES:CALCIO
ATTACH;FMTTYPE=image/jpeg:https://www.usbormiese.com/wp-content/uploads/2015/08/calcioSquadra.jpg
END:VEVENT
BEGIN:VEVENT
DTSTART;VALUE=DATE:20151216
DTEND;VALUE=DATE:20151217
DTSTAMP:20260421T141303
CREATED:20151025T100039Z
LAST-MODIFIED:20151025T100039Z
UID:10860-1450224000-1450310399@www.usbormiese.com
SUMMARY:Pallavolo\, U18 femminile 2015/2016. A Grosotto: Altavalle - Bormiese
DESCRIPTION:Pallavolo\, Campionato 2015/2016 Under 18 Femminile – Girone A  \nUnder 18 Femminile – Girone A \nQuarta Giornata \nMercoledì 16 dicembre 2015\nore 20.30\nA GROSOTTO\nPALLAVOLO ALTAVALLE – U.S. BORMIESE
URL:https://www.usbormiese.com/event/pallavolo-u18-femminile-20152016-a-grosotto-altavalle-bormiese/
CATEGORIES:PALLAVOLO
ATTACH;FMTTYPE=image/jpeg:https://www.usbormiese.com/wp-content/uploads/2015/10/volley2.jpg
END:VEVENT
BEGIN:VEVENT
DTSTART;VALUE=DATE:20151213
DTEND;VALUE=DATE:20151214
DTSTAMP:20260421T141303
CREATED:20151025T081712Z
LAST-MODIFIED:20151025T081712Z
UID:10812-1449964800-1450051199@www.usbormiese.com
SUMMARY:Pallavolo\, U13 femminile A 2015/2016. A Bormio: Bormiese - Tirano
DESCRIPTION:Pallavolo\, Campionato 2015/2016 Under 13 Femminile – Girone A  \nQuinta Giornata \nDomenica 13 dicembre 2015\nore 19.00\nA BORMIO\nU.S. BORMIESE GELATERIA PASTICCERIA BRAULIO – PGS GOODNESS TIRANO
URL:https://www.usbormiese.com/event/pallavolo-u13-femminile-a-20152016-a-bormio-bormiese-tirano/
CATEGORIES:PALLAVOLO
ATTACH;FMTTYPE=image/jpeg:https://www.usbormiese.com/wp-content/uploads/2015/10/volley.jpg
END:VEVENT
BEGIN:VEVENT
DTSTART;VALUE=DATE:20151213
DTEND;VALUE=DATE:20151214
DTSTAMP:20260421T141303
CREATED:20151025T075518Z
LAST-MODIFIED:20151025T075518Z
UID:10802-1449964800-1450051199@www.usbormiese.com
SUMMARY:Pallavolo\, U13 femminile B 2015/2016. A Bormio: Bormiese - Auxilium
DESCRIPTION:Pallavolo\, Campionato 2015/216 Under 13 Femminile – Girone B  \nQuinta Giornata \nDomeica 13 dicembre 2015\nore 16.00\nA BORMIO\nU.S. BORMIESE B – PGS AUXILIUM
URL:https://www.usbormiese.com/event/pallavolo-u13-femminile-b-20152016-a-bormio-bormiese-auxilium/
CATEGORIES:PALLAVOLO
ATTACH;FMTTYPE=image/jpeg:https://www.usbormiese.com/wp-content/uploads/2015/10/volley.jpg
END:VEVENT
BEGIN:VEVENT
DTSTART;VALUE=DATE:20151213
DTEND;VALUE=DATE:20151214
DTSTAMP:20260421T141303
CREATED:20151015T092857Z
LAST-MODIFIED:20151015T092857Z
UID:10599-1449964800-1450051199@www.usbormiese.com
SUMMARY:Calcio\, Prima squadra: Bormiese vs Valchiavenna
DESCRIPTION:Domenica 13 dicembre 2015 \nPRIMA SQUADRA\nCampionato provinciale di 2^ categoria \nBORMIESE vs VALCHIAVENNA\nA Bormio\, ore 14\,30
URL:https://www.usbormiese.com/event/calcio-prima-squadra-bormiese-vs-valchiavenna/
CATEGORIES:CALCIO
ATTACH;FMTTYPE=image/jpeg:https://www.usbormiese.com/wp-content/uploads/2015/08/calcioSquadra.jpg
END:VEVENT
BEGIN:VEVENT
DTSTART;VALUE=DATE:20151212
DTEND;VALUE=DATE:20151213
DTSTAMP:20260421T141303
CREATED:20151116T100306Z
LAST-MODIFIED:20151130T165420Z
UID:11217-1449878400-1449964799@www.usbormiese.com
SUMMARY:A Bormio la festa provinciale 2015 dell'atletica
DESCRIPTION:Sabato 12 dicembre 2015 a Bormio è in programma la Festa dell’atletica.\n \n Si tratta dell’evento FIDAL di fine anno in cui vengono premiati tutti i campioni provinciali\, le società e gli atleti meritevoli. \n11ª Festa provinciale dell’atletica \nSabato 12 dicembre 2015 alle ore 20.30 a Bormio \nSala Congressi Bormio Terme \nPremiazione degli atleti e delle società meritevoli \nInformazioni: www.fidalsondrio.com
URL:https://www.usbormiese.com/event/a-bormio-la-festa-provinciale-2015-dellatletica/
CATEGORIES:ATLETICA
ATTACH;FMTTYPE=image/jpeg:https://www.usbormiese.com/wp-content/uploads/2015/06/atletica2.jpg
END:VEVENT
BEGIN:VEVENT
DTSTART;VALUE=DATE:20151212
DTEND;VALUE=DATE:20151213
DTSTAMP:20260421T141303
CREATED:20151025T092049Z
LAST-MODIFIED:20151025T092049Z
UID:10838-1449878400-1449964799@www.usbormiese.com
SUMMARY:Pallavolo\, U14 femminile A 2015/2016. A Bormio: Bormiese - Altavalle
DESCRIPTION:Pallavolo\, Campionato 2015/2016 Under 14 Femminile – Girone A  \nOttava Giornata \nSabato 12 dicembre 2015\nore 16.00\nA BORMIO\nU.S. BORMIESE OTTICA OCCHI – PALLAVOLO ALTAVALLE
URL:https://www.usbormiese.com/event/pallavolo-u14-femminile-a-20152016-a-bormio-bormiese-altavalle-2/
CATEGORIES:PALLAVOLO
ATTACH;FMTTYPE=image/jpeg:https://www.usbormiese.com/wp-content/uploads/2015/10/volley.jpg
END:VEVENT
BEGIN:VEVENT
DTSTART;VALUE=DATE:20151212
DTEND;VALUE=DATE:20151213
DTSTAMP:20260421T141303
CREATED:20151025T085050Z
LAST-MODIFIED:20151025T085050Z
UID:10825-1449878400-1449964799@www.usbormiese.com
SUMMARY:Pallavolo\, U14 femminile B 2015/2016. A Bormio: Rio Scianno - Ardenno
DESCRIPTION:Pallavolo\, Campionato 2015/2016 Under 14 Femminile – Girone B  \nOttava Giornata \nSabato 12 dicembre 2015\nore 19.00\nA BORMIO\nG.S. RIO SCIANNO B – ARDENNO SPORTIVA
URL:https://www.usbormiese.com/event/pallavolo-u14-femminile-b-20152016-a-bormio-rio-scianno-ardenno/
CATEGORIES:PALLAVOLO
ATTACH;FMTTYPE=image/jpeg:https://www.usbormiese.com/wp-content/uploads/2015/10/volley.jpg
END:VEVENT
BEGIN:VEVENT
DTSTART;VALUE=DATE:20151211
DTEND;VALUE=DATE:20151214
DTSTAMP:20260421T141303
CREATED:20151201T140107Z
LAST-MODIFIED:20151201T140125Z
UID:11348-1449792000-1450051199@www.usbormiese.com
SUMMARY:Sci alpinismo: Campionati Italiani a Madonna di Campiglio
DESCRIPTION:Dall’11 al 13 dicembre 2015 si svolgeranno a Madonna di Campiglio (TN)  \ni Campionati Italiani Sprint-Staffetta-Vertical \nCI Sprint-Vertical-Staffetta\nind-team sen-gio sprint+vertical\nvalidi per la Coppa Italia \ninfo sportdimontagna
URL:https://www.usbormiese.com/event/sci-alpinismo-campionati-italiani/
CATEGORIES:SCI ALPINISMO
ATTACH;FMTTYPE=image/jpeg:https://www.usbormiese.com/wp-content/uploads/2015/12/skialp02.jpg
END:VEVENT
BEGIN:VEVENT
DTSTART;VALUE=DATE:20151211
DTEND;VALUE=DATE:20151214
DTSTAMP:20260421T141303
CREATED:20151022T154706Z
LAST-MODIFIED:20151022T154706Z
UID:10674-1449792000-1450051199@www.usbormiese.com
SUMMARY:Short track: Coppa del Mondo 2015/2016 a Sanghai
DESCRIPTION:Short track: Coppa del Mondo 2015/2016 a Sanghai \nDa venerdì 11 a domenica 13 dicembre 2015 \nWorld Cup\, 4^ prova\nShanghai (Chn) – Squadra Nazionale
URL:https://www.usbormiese.com/event/short-track-coppa-del-mondo-20152016-a-sanghai/
CATEGORIES:SHORT TRACK
ATTACH;FMTTYPE=image/jpeg:https://www.usbormiese.com/wp-content/uploads/2015/10/short-track-ita.jpg
END:VEVENT
BEGIN:VEVENT
DTSTART;VALUE=DATE:20151211
DTEND;VALUE=DATE:20151212
DTSTAMP:20260421T141303
CREATED:20151025T094327Z
LAST-MODIFIED:20151025T094327Z
UID:10848-1449792000-1449878399@www.usbormiese.com
SUMMARY:Pallavolo\, U16 femminile 2015/2016. A Sondrio: Pgs - Bormiese
DESCRIPTION:Pallavolo\, Campionato 2015/2016 Under 16 Femminile\nUnder 16 Femminile – Girone A\nSesta Giornata \nVenerdì 11 dicembre 2015\nore 19.00\nA SONDRIO\nPGS AUXILIUM – U.S. BORMIESE
URL:https://www.usbormiese.com/event/pallavolo-u16-femminile-20152016-a-sondrio-pgs-bormiese/
CATEGORIES:PALLAVOLO
ATTACH;FMTTYPE=image/jpeg:https://www.usbormiese.com/wp-content/uploads/2015/10/volley3.jpg
END:VEVENT
BEGIN:VEVENT
DTSTART;VALUE=DATE:20151209
DTEND;VALUE=DATE:20151210
DTSTAMP:20260421T141303
CREATED:20151025T095925Z
LAST-MODIFIED:20151025T095925Z
UID:10859-1449619200-1449705599@www.usbormiese.com
SUMMARY:Pallavolo\, U18 femminile 2015/2016. A Bormio: Bormiese - Pgs
DESCRIPTION:Pallavolo\, Campionato 2015/2016 Under 18 Femminile – Girone A  \nUnder 18 Femminile – Girone A \nTerza Giornata \nMercoledì 9 dicembre 2015\nore 19.30\nA BORMIO\nU.S. BORMIESE – PGS AUXILIUM
URL:https://www.usbormiese.com/event/pallavolo-u18-femminile-20152016-a-bormio-bormiese-pgs/
CATEGORIES:PALLAVOLO
ATTACH;FMTTYPE=image/jpeg:https://www.usbormiese.com/wp-content/uploads/2015/10/volley2.jpg
END:VEVENT
BEGIN:VEVENT
DTSTART;VALUE=DATE:20151206
DTEND;VALUE=DATE:20151207
DTSTAMP:20260421T141303
CREATED:20151026T193053Z
LAST-MODIFIED:20151026T193053Z
UID:10966-1449360000-1449446399@www.usbormiese.com
SUMMARY:Pallavolo\, U19 Maschile 2015/2016. A Regoledo di Cosio: Cosio - Bormiese
DESCRIPTION:Pallavolo\, Campionato 2015/2016 Under 19 Maschile \nUnder 19 Maschile \nOttava Giornata \nDomenica 6 dicembre 2015\nore 18.30\nA REGOLEDO DI COSIO\nCOSIO VOLLEY – U.S. BORMIESE ALLIANZ
URL:https://www.usbormiese.com/event/pallavolo-u19-maschile-20152016-a-regoledo-di-cosio-cosio-bormiese/
CATEGORIES:PALLAVOLO
END:VEVENT
BEGIN:VEVENT
DTSTART;VALUE=DATE:20151206
DTEND;VALUE=DATE:20151207
DTSTAMP:20260421T141303
CREATED:20151026T192943Z
LAST-MODIFIED:20151026T192943Z
UID:10965-1449360000-1449446399@www.usbormiese.com
SUMMARY:Pallavolo\, U19 Maschile 2015/2016. A Regoledo di Cosio: Bormiese - Almevilla
DESCRIPTION:Pallavolo\, Campionato 2015/2016 Under 19 Maschile \nUnder 19 Maschile \nSettima Giornata \nDomenica 6 dicembre 2015\nore 16.30\nA REGOLEDO DI COSIO\nU.S. BORMIESE – RUMELCA VOLLEY ALMEVILLA
URL:https://www.usbormiese.com/event/pallavolo-u19-maschile-20152016-a-regoledo-di-cosio-bormiese-almevilla/
CATEGORIES:PALLAVOLO
END:VEVENT
BEGIN:VEVENT
DTSTART;VALUE=DATE:20151206
DTEND;VALUE=DATE:20151207
DTSTAMP:20260421T141303
CREATED:20151025T091905Z
LAST-MODIFIED:20151025T091905Z
UID:10837-1449360000-1449446399@www.usbormiese.com
SUMMARY:Pallavolo\, U14 femminile A 2015/2016. A Bormio: Rio Scianno - Sondrio
DESCRIPTION:Pallavolo\, Campionato 2015/2016 Under 14 Femminile – Girone A  \nSettima Giornata \nDomenica 6 dicembre 2015\nore 18.00\nA BORMIO\nG.S. RIO SCIANNO A – NUOVA SONDRIO SPORTIVA VOLLEY
URL:https://www.usbormiese.com/event/pallavolo-u14-femminile-a-20152016-a-bormio-rio-scianno-sondrio/
CATEGORIES:PALLAVOLO
ATTACH;FMTTYPE=image/jpeg:https://www.usbormiese.com/wp-content/uploads/2015/10/volley.jpg
END:VEVENT
BEGIN:VEVENT
DTSTART;VALUE=DATE:20151206
DTEND;VALUE=DATE:20151207
DTSTAMP:20260421T141303
CREATED:20151025T084921Z
LAST-MODIFIED:20151025T084921Z
UID:10824-1449360000-1449446399@www.usbormiese.com
SUMMARY:Pallavolo\, U14 femminile B 2015/2016. A Morbegno: Morbegno - Rio Scianno
DESCRIPTION:Pallavolo\, Campionato 2015/2016 Under 14 Femminile – Girone B  \nSettima Giornata \nDomenica 6 dicembre 2015\nore 10.30\nA MORBEGNO\nVOLLEY MORBEGNO – G.S. RIO SCIANNO B
URL:https://www.usbormiese.com/event/pallavolo-u14-femminile-b-20152016-a-morbegno-morbegno-rio-scianno/
CATEGORIES:PALLAVOLO
ATTACH;FMTTYPE=image/jpeg:https://www.usbormiese.com/wp-content/uploads/2015/10/volley.jpg
END:VEVENT
BEGIN:VEVENT
DTSTART;VALUE=DATE:20151206
DTEND;VALUE=DATE:20151207
DTSTAMP:20260421T141303
CREATED:20151025T075356Z
LAST-MODIFIED:20151025T075356Z
UID:10801-1449360000-1449446399@www.usbormiese.com
SUMMARY:Pallavolo\, U13 femminile B 2015/2016. A Tresivio: Pentacom - Bormiese
DESCRIPTION:Pallavolo\, Campionato 2015/216 Under 13 Femminile – Girone B  \nQuarta Giornata\nDomenica 6 dicembre 2015\nore 10.30\nA TRESIVIO\nASD PENTACOM A – U.S. BORMIESE B
URL:https://www.usbormiese.com/event/pallavolo-u13-femminile-b-20152016-a-tresivio-pentacom-bormiese/
CATEGORIES:PALLAVOLO
ATTACH;FMTTYPE=image/jpeg:https://www.usbormiese.com/wp-content/uploads/2015/10/volley.jpg
END:VEVENT
BEGIN:VEVENT
DTSTART;VALUE=DATE:20151206
DTEND;VALUE=DATE:20151207
DTSTAMP:20260421T141303
CREATED:20151015T092704Z
LAST-MODIFIED:20151015T092704Z
UID:10598-1449360000-1449446399@www.usbormiese.com
SUMMARY:Calcio\, Prima squadra: Albosaggia vs Bormiese
DESCRIPTION:Domenica 06 dicembre 2015 \nPRIMA SQUADRA\nCampionato provinciale 2^ categoria \nALBOSAGGIA vs BORMIESE\nA Sondrio\, ore 14\,30
URL:https://www.usbormiese.com/event/calcio-prima-squadra-albosaggia-vs-bormiese/
CATEGORIES:CALCIO
ATTACH;FMTTYPE=image/jpeg:https://www.usbormiese.com/wp-content/uploads/2015/08/calcioSquadra.jpg
END:VEVENT
BEGIN:VEVENT
DTSTART;VALUE=DATE:20151205
DTEND;VALUE=DATE:20151206
DTSTAMP:20260421T141303
CREATED:20151130T171026Z
LAST-MODIFIED:20151207T142809Z
UID:11319-1449273600-1449359999@www.usbormiese.com
SUMMARY:Atletica: festa di chiusura della stagione 2015 dell'US Bormiese
DESCRIPTION:Sabato 5 dicembre 2015\, presso la sede dell’Unione Sportiva Bormiese è in programma la manifestazione conclusiva della stagione 2015 del settore.\nLa “Festa dell’Atletica” precede di una settimana la manifestazione provinciale che si svolgerà il 12 dicembre 2015 alle Terme. \nProgramma della festa della Bormiese di sabato 5 dicembre 2015 \nOre 18.30 ritrovo in sede Usb\nOre 19.00 relazione sulle attività del 2015\nOre 20.00 premiazioni di tutti i ragazzi\nore 20.30 spuntino per tutti i partecipanti \nGradita la prenotazione entro il 4 dicembre alla segreteria Usb
URL:https://www.usbormiese.com/event/atletica-festa-di-chiusura-della-stagione-2015-dellus-bormiese/
CATEGORIES:ATLETICA
ATTACH;FMTTYPE=image/jpeg:https://www.usbormiese.com/wp-content/uploads/2015/06/atletica1.jpg
END:VEVENT
BEGIN:VEVENT
DTSTART;VALUE=DATE:20151205
DTEND;VALUE=DATE:20151206
DTSTAMP:20260421T141303
CREATED:20151025T081522Z
LAST-MODIFIED:20151025T081522Z
UID:10811-1449273600-1449359999@www.usbormiese.com
SUMMARY:Pallavolo\, U13 femminile A 2015/2016. A Grosotto: Altavalle - Bormiese
DESCRIPTION:Pallavolo\, Campionato 2015/2016 Under 13 Femminile – Girone A  \nQuarta Giornata \nSabato 5 dicembre 2015\nore 19.00\nA GROSOTTO\nPALLAVOLO ALTAVALLE – U.S. BORMIESE GELATERIA PASTICCERIA BRAULIO
URL:https://www.usbormiese.com/event/pallavolo-u13-femminile-a-20152016-a-grosotto-altavalle-bormiese/
CATEGORIES:PALLAVOLO
ATTACH;FMTTYPE=image/jpeg:https://www.usbormiese.com/wp-content/uploads/2015/10/volley.jpg
END:VEVENT
BEGIN:VEVENT
DTSTART;VALUE=DATE:20151205
DTEND;VALUE=DATE:20151206
DTSTAMP:20260421T141303
CREATED:20151024T152543Z
LAST-MODIFIED:20151024T152543Z
UID:10785-1449273600-1449359999@www.usbormiese.com
SUMMARY:Pallavolo\, prima divisione femminile 2015/2016. A Bormio: Bormiese - Piateda
DESCRIPTION:Pallavolo\, Campionato 2015/216 di Prima Divisione Femminile  \nQuarta Giornata \nSabato 05 dicembre 2015\nore 18.00\nA BORMIO\nU.S. BORMIESE IDEAL CASA – CENTRO OLIMPIA PIATEDA
URL:https://www.usbormiese.com/event/pallavolo-prima-divisione-femminile-20152016-a-bormio-bormiese-piateda/
CATEGORIES:PALLAVOLO
ATTACH;FMTTYPE=image/jpeg:https://www.usbormiese.com/wp-content/uploads/2015/10/volley2.jpg
END:VEVENT
BEGIN:VEVENT
DTSTART;VALUE=DATE:20151204
DTEND;VALUE=DATE:20151207
DTSTAMP:20260421T141303
CREATED:20151022T154437Z
LAST-MODIFIED:20151022T154437Z
UID:10673-1449187200-1449446399@www.usbormiese.com
SUMMARY:Short track\, circuito Star Class ad Hasselt
DESCRIPTION:Short track\, circuito Star Cass \n \n  \n\nDal 4 al 6 dicembre 2015 \nStar Class 3 (junior C/D)\nAd Hasselt (Bel) – Junior C/D
URL:https://www.usbormiese.com/event/short-track-circuito-star-class-ad-hasselt/
CATEGORIES:SHORT TRACK
ATTACH;FMTTYPE=image/jpeg:https://www.usbormiese.com/wp-content/uploads/2015/10/short-track-2.jpg
END:VEVENT
BEGIN:VEVENT
DTSTART;VALUE=DATE:20151204
DTEND;VALUE=DATE:20151207
DTSTAMP:20260421T141303
CREATED:20151022T154036Z
LAST-MODIFIED:20151022T154036Z
UID:10672-1449187200-1449446399@www.usbormiese.com
SUMMARY:Short track\, Coppa del Mondo 2015/2015 a Nagoya
DESCRIPTION:Short track: Coppa del Mondo 2015/2016 \n \nDal 4 al 6 dicembre 2015\nWorld Cup\, 3^ prova \nA Nagoya (Jpn): partecipa la Squadra Nazionale
URL:https://www.usbormiese.com/event/short-track-coppa-del-mondo-20152015-a-nagoya/
CATEGORIES:SHORT TRACK
ATTACH;FMTTYPE=image/jpeg:https://www.usbormiese.com/wp-content/uploads/2015/10/short-track-ita.jpg
END:VEVENT
BEGIN:VEVENT
DTSTART;VALUE=DATE:20151204
DTEND;VALUE=DATE:20151205
DTSTAMP:20260421T141303
CREATED:20151025T094156Z
LAST-MODIFIED:20151025T094156Z
UID:10847-1449187200-1449273599@www.usbormiese.com
SUMMARY:Pallavolo\, U16 femminile 2015/2016. A Bormio: Bormiese - Pentacom
DESCRIPTION:Pallavolo\, Campionato 2015/2016 Under 16 Femminile  \nUnder 16 Femminile – Girone A \nQuinta Giornata \nVenerdì 4 dicembre 2015\nore 20.30\nA BORMIO\nU.S. BORMIESE – ASD PENTACOM
URL:https://www.usbormiese.com/event/pallavolo-u16-femminile-20152016-a-bormio-bormiese-pentacom/
CATEGORIES:PALLAVOLO
ATTACH;FMTTYPE=image/jpeg:https://www.usbormiese.com/wp-content/uploads/2015/10/volley3.jpg
END:VEVENT
END:VCALENDAR