BEGIN:VCALENDAR
VERSION:2.0
PRODID:-//Unione Sportiva Bormiese - ECPv6.8.2.1//NONSGML v1.0//EN
CALSCALE:GREGORIAN
METHOD:PUBLISH
X-ORIGINAL-URL:https://www.usbormiese.com
X-WR-CALDESC:Eventi per Unione Sportiva Bormiese
REFRESH-INTERVAL;VALUE=DURATION:PT1H
X-Robots-Tag:noindex
X-PUBLISHED-TTL:PT1H
BEGIN:VTIMEZONE
TZID:Europe/Rome
BEGIN:DAYLIGHT
TZOFFSETFROM:+0100
TZOFFSETTO:+0200
TZNAME:CEST
DTSTART:20150329T010000
END:DAYLIGHT
BEGIN:STANDARD
TZOFFSETFROM:+0200
TZOFFSETTO:+0100
TZNAME:CET
DTSTART:20151025T010000
END:STANDARD
END:VTIMEZONE
BEGIN:VEVENT
DTSTART;VALUE=DATE:20151202
DTEND;VALUE=DATE:20151203
DTSTAMP:20260421T185946
CREATED:20151025T095813Z
LAST-MODIFIED:20151025T095813Z
UID:10858-1449014400-1449100799@www.usbormiese.com
SUMMARY:Pallavolo\, U18 femminile 2015/2016. A Sondrio: Sondrio - Bormiese
DESCRIPTION:Pallavolo\, Campionato 2015/2016 Under 18 Femminile – Girone A  \nUnder 18 Femminile – Girone A \nSeconda Giornata \nMercoledì 2 dicembre 2015\nore 20.00\nA SONDRIO\nNUOVA SONDRIO SPORTIVA VOLLEY – U.S. BORMIESE
URL:https://www.usbormiese.com/event/pallavolo-u18-femminile-20152016-a-sondrio-sondrio-bormiese/
CATEGORIES:PALLAVOLO
ATTACH;FMTTYPE=image/jpeg:https://www.usbormiese.com/wp-content/uploads/2015/10/volley2.jpg
END:VEVENT
BEGIN:VEVENT
DTSTART;TZID=Europe/Rome:20151130T080000
DTEND;TZID=Europe/Rome:20151206T170000
DTSTAMP:20260421T185946
CREATED:20151130T105840Z
LAST-MODIFIED:20151217T181657Z
UID:10481-1448870400-1449421200@www.usbormiese.com
SUMMARY:La settimana calcistica
DESCRIPTION:PROGRAMMA PARTITE\ndal 30 novembre al 06 dicembre 2015  \n  \n  \nPRIMA SQUADRA\nDomenica\, 06 dicembre 2015 – Sondrio ore 14\,30  \nALBOSAGGIA – BORMIESE \n  \n  \n 
URL:https://www.usbormiese.com/event/la-settimana-calcistica/
CATEGORIES:CALCIO
ATTACH;FMTTYPE=image/jpeg:https://www.usbormiese.com/wp-content/uploads/2015/08/calcioSquadra.jpg
END:VEVENT
BEGIN:VEVENT
DTSTART;VALUE=DATE:20151130
DTEND;VALUE=DATE:20151201
DTSTAMP:20260421T185946
CREATED:20151024T152209Z
LAST-MODIFIED:20151024T152209Z
UID:10784-1448841600-1448927999@www.usbormiese.com
SUMMARY:Pallavolo\, prima divisione femminile 2015/2016. A Chiavenna: Chiavenna - Bormiese
DESCRIPTION:Pallavolo\, Campionato 2015/216 di Prima Divisione Femminile  \nTerza Giornata \nLunedì 30 novembre 2015\nore 20.00\nA CHIAVENNA\nPALLAVOLO CHIAVENNA – U.S. BORMIESE IDEAL CASA
URL:https://www.usbormiese.com/event/pallavolo-prima-divisione-femminile-20152016-a-chiavenna-chiavenna-bormiese/
CATEGORIES:PALLAVOLO
ATTACH;FMTTYPE=image/jpeg:https://www.usbormiese.com/wp-content/uploads/2015/10/volley2.jpg
END:VEVENT
BEGIN:VEVENT
DTSTART;VALUE=DATE:20151129
DTEND;VALUE=DATE:20151130
DTSTAMP:20260421T185946
CREATED:20151026T193824Z
LAST-MODIFIED:20151026T193824Z
UID:10969-1448755200-1448841599@www.usbormiese.com
SUMMARY:Pallavolo\, U19 Maschile 2015/2016. A Regoledo di Cosio: Bormiese - Cosio
DESCRIPTION:Pallavolo\, Campionato 2015/2016 Under 19 Maschile \nUnder 19 Maschile \nDodicesima Giornata \nDomenica 29 novembre 2015\nore 19.00\nA REGOLEDO DI COSIO\nU.S. BORMIESE ALLIANZ – COSIO VOLLEY \n 
URL:https://www.usbormiese.com/event/pallavolo-u19-maschile-20152016-a-regoledo-di-cosio-bormiese-cosio/
CATEGORIES:PALLAVOLO
END:VEVENT
BEGIN:VEVENT
DTSTART;VALUE=DATE:20151129
DTEND;VALUE=DATE:20151130
DTSTAMP:20260421T185946
CREATED:20151026T192831Z
LAST-MODIFIED:20151026T193213Z
UID:10964-1448755200-1448841599@www.usbormiese.com
SUMMARY:Pallavolo\, U19 Maschile 2015/2016. A Regoledo di Cosio: Bormiese - Azzano
DESCRIPTION:Pallavolo\, Campionato 2015/2016 Under 19 Maschile \nUnder 19 Maschile \nSesta Giornata \nDomenica 29 novembre 2015\nore 17.00\nA REGOLEDO DI COSIO\nU.S. BORMIESE ALLIANZ – CALONI AGNELLI AZZANO
URL:https://www.usbormiese.com/event/pallavolo-u19-maschile-20152016-a-regoledo-di-cosio-bormiese-azzano/
CATEGORIES:PALLAVOLO
END:VEVENT
BEGIN:VEVENT
DTSTART;VALUE=DATE:20151129
DTEND;VALUE=DATE:20151130
DTSTAMP:20260421T185946
CREATED:20151025T091723Z
LAST-MODIFIED:20151025T091723Z
UID:10836-1448755200-1448841599@www.usbormiese.com
SUMMARY:Pallavolo\, U14 femminile A 2015/2016. A Sondrio: Sondrio - Bormiese
DESCRIPTION:Pallavolo\, Campionato 2015/2016 Under 14 Femminile – Girone A  \nSesta Giornata \nDomenica 29 novembre 2015\nore 10.00\nA SONDRIO\nNUOVA SONDRIO SPORTIVA VOLLEY – U.S. BORMIESE OTTICA OCCHI
URL:https://www.usbormiese.com/event/pallavolo-u14-femminile-a-20152016-a-sondrio-sondrio-bormiese/
CATEGORIES:PALLAVOLO
ATTACH;FMTTYPE=image/jpeg:https://www.usbormiese.com/wp-content/uploads/2015/10/volley.jpg
END:VEVENT
BEGIN:VEVENT
DTSTART;VALUE=DATE:20151129
DTEND;VALUE=DATE:20151130
DTSTAMP:20260421T185946
CREATED:20151025T091543Z
LAST-MODIFIED:20151025T091543Z
UID:10835-1448755200-1448841599@www.usbormiese.com
SUMMARY:Pallavolo\, U14 femminile A 2015/2016. A Tresivio: Pentacom - Rio Scianno
DESCRIPTION:Pallavolo\, Campionato 2015/2016 Under 14 Femminile – Girone A  \nSesta Giornata \nDomenica 29 novembre 2015\nore 15.00\nA TRESIVIO\nASD PENTACOM – G.S. RIO SCIANNO A
URL:https://www.usbormiese.com/event/pallavolo-u14-femminile-a-20152016-a-tresivio-pentacom-rio-scianno/
CATEGORIES:PALLAVOLO
ATTACH;FMTTYPE=image/jpeg:https://www.usbormiese.com/wp-content/uploads/2015/10/volley.jpg
END:VEVENT
BEGIN:VEVENT
DTSTART;VALUE=DATE:20151129
DTEND;VALUE=DATE:20151130
DTSTAMP:20260421T185946
CREATED:20151025T081341Z
LAST-MODIFIED:20151025T081341Z
UID:10810-1448755200-1448841599@www.usbormiese.com
SUMMARY:Pallavolo\, U13 femminile A 2015/2016. A Bormio: Bormiese - Sondrio
DESCRIPTION:Pallavolo\, Campionato 2015/2016 Under 13 Femminile – Girone A  \nTerza Giornata \nDomenica 29 novembre 2015\nore 19.00\nA BORMIO\nU.S. BORMIESE GELATERIA PASTICCERIA BRAULIO – NUOVA SONDRIO SPORTIVA VOLLEY
URL:https://www.usbormiese.com/event/pallavolo-u13-femminile-a-20152016-a-bormio-bormiese-sondrio/
CATEGORIES:PALLAVOLO
ATTACH;FMTTYPE=image/jpeg:https://www.usbormiese.com/wp-content/uploads/2015/10/volley.jpg
END:VEVENT
BEGIN:VEVENT
DTSTART;VALUE=DATE:20151129
DTEND;VALUE=DATE:20151130
DTSTAMP:20260421T185946
CREATED:20151025T074837Z
LAST-MODIFIED:20151025T074837Z
UID:10800-1448755200-1448841599@www.usbormiese.com
SUMMARY:Pallavolo\, U13 femminile B 2015/2016. A Bormio: Bormiese - Morbegno
DESCRIPTION:Pallavolo\, Campionato 2015/216 Under 13 Femminile – Girone B  \nTerza Giornata \nDomenica 29 novembre 2015\nore 16.00 \nA BORMIO \nU.S. BORMIESE B – VOLLEY MORBEGNO
URL:https://www.usbormiese.com/event/pallavolo-u13-femminile-b-20152016-a-bormio-bormiese-morbegno/
CATEGORIES:PALLAVOLO
ATTACH;FMTTYPE=image/jpeg:https://www.usbormiese.com/wp-content/uploads/2015/10/volley.jpg
END:VEVENT
BEGIN:VEVENT
DTSTART;VALUE=DATE:20151129
DTEND;VALUE=DATE:20151130
DTSTAMP:20260421T185946
CREATED:20151015T092453Z
LAST-MODIFIED:20151015T092453Z
UID:10597-1448755200-1448841599@www.usbormiese.com
SUMMARY:Calcio\, prima squadra: Bormiese vs Chiavennese
DESCRIPTION:Domenica 29 novembre 2015 \nPRIMA SQUADRA\nCampionato provinciale di 2^ categoria \nBORMIESE vs CHIAVENNESE\nA Bormio\, ore 14\,30
URL:https://www.usbormiese.com/event/calcio-prima-squadra-bormiese-vs-chiavennese/
CATEGORIES:CALCIO
ATTACH;FMTTYPE=image/jpeg:https://www.usbormiese.com/wp-content/uploads/2015/08/calcioSquadra.jpg
END:VEVENT
BEGIN:VEVENT
DTSTART;VALUE=DATE:20151129
DTEND;VALUE=DATE:20151130
DTSTAMP:20260421T185946
CREATED:20150618T173017Z
LAST-MODIFIED:20150618T173017Z
UID:8183-1448755200-1448841599@www.usbormiese.com
SUMMARY:Corsa campestre: a Lanzada campionato provinciale assoluto e master
DESCRIPTION:Domenica 29 novembre 2015\, a Lanzada\, 5^ prova Provinciale di Corsa Campestre   \nDOMENICA 29 NOVEMBRE 2015\nCampestre Provinciale \nLANZADA – Loc. Pradasc \nCategorie: TUTTE \n5^ prova Provinciale di Corsa Campestre\nCampionato Provinciale Individuale Corsa Campestre Assoluto e master \nRitrovo ore 11.30\nChiusura iscrizioni 12.00\nInizio gare ore 12.30 \nOrg. ASD Sportiva Lanzada\nNana Fabiano (329/3513685)\ninfo@sportivalanzada.it
URL:https://www.usbormiese.com/event/corsa-campestre-a-lanzada-campionato-provinciale-assoluto-e-master/
CATEGORIES:ATLETICA
ATTACH;FMTTYPE=image/jpeg:https://www.usbormiese.com/wp-content/uploads/2015/06/atleticaAd.jpg
END:VEVENT
BEGIN:VEVENT
DTSTART;VALUE=DATE:20151128
DTEND;VALUE=DATE:20151129
DTSTAMP:20260421T185946
CREATED:20151025T094012Z
LAST-MODIFIED:20151025T094012Z
UID:10846-1448668800-1448755199@www.usbormiese.com
SUMMARY:Pallavolo\, U16 femminile 2015/2016. A Tirano: Pgs - Bormiese
DESCRIPTION:Pallavolo\, Campionato 2015/2016 Under 16 Femminile Under 16 Femminile – Girone A \nQuarta Giornata \nSabato 28 novembre 2015\nore 16.30\nA TIRANO \nPGS GOODNESS TIRANO – U.S. BORMIESE
URL:https://www.usbormiese.com/event/pallavolo-u16-femminile-20152016-a-tirano-pgs-bormiese/
CATEGORIES:PALLAVOLO
ATTACH;FMTTYPE=image/jpeg:https://www.usbormiese.com/wp-content/uploads/2015/10/volley3.jpg
END:VEVENT
BEGIN:VEVENT
DTSTART;VALUE=DATE:20151128
DTEND;VALUE=DATE:20151129
DTSTAMP:20260421T185946
CREATED:20151025T084750Z
LAST-MODIFIED:20151025T084750Z
UID:10823-1448668800-1448755199@www.usbormiese.com
SUMMARY:Pallavolo\, U14 femminile B 2015/2016. A Bormio: Rio Scianno - Valmalenco
DESCRIPTION:Pallavolo\, Campionato 2015/2016 Under 14 Femminile – Girone B  \nSesta Giornata \nSabato 28 novembre 2015\nore 18.00\nA BORMIO\nG.S. RIO SCIANNO B – ASD 1999 VALMALENCO
URL:https://www.usbormiese.com/event/pallavolo-u14-femminile-b-20152016-a-bormio-rio-scianno-valmalenco/
CATEGORIES:PALLAVOLO
ATTACH;FMTTYPE=image/jpeg:https://www.usbormiese.com/wp-content/uploads/2015/10/volley.jpg
END:VEVENT
BEGIN:VEVENT
DTSTART;VALUE=DATE:20151128
DTEND;VALUE=DATE:20151129
DTSTAMP:20260421T185946
CREATED:20151015T092237Z
LAST-MODIFIED:20151015T092237Z
UID:10596-1448668800-1448755199@www.usbormiese.com
SUMMARY:Calcio\, Giovanissimi: Penta Piateda vs Bormiese
DESCRIPTION:Sabato 28 novembre 2015 \nCampionato GIOVANISSIMI \nPENTA PIATEDA vs BORMIESE\nA Chiuro\, ore 17\,00
URL:https://www.usbormiese.com/event/calcio-giovanissimi-penta-piateda-vs-bormiese/
CATEGORIES:CALCIO
ATTACH;FMTTYPE=image/jpeg:https://www.usbormiese.com/wp-content/uploads/2015/10/calcio3.jpg
END:VEVENT
BEGIN:VEVENT
DTSTART;VALUE=DATE:20151127
DTEND;VALUE=DATE:20151130
DTSTAMP:20260421T185946
CREATED:20151022T153723Z
LAST-MODIFIED:20151022T153723Z
UID:10671-1448582400-1448841599@www.usbormiese.com
SUMMARY:Short track: a Sochi\, Invitation Cup per squadre nazionali
DESCRIPTION:Short track\, Invitation Cup in Russia \nDa venerdì 27 a domenica 29 novembre 2015\nInternational Invitation Cup\nSochi (Rus) – Squadra nazionale
URL:https://www.usbormiese.com/event/short-track-a-sochi-invitation-cup-per-squadre-nazionali/
CATEGORIES:SHORT TRACK
ATTACH;FMTTYPE=image/jpeg:https://www.usbormiese.com/wp-content/uploads/2015/10/short-track-ita.jpg
END:VEVENT
BEGIN:VEVENT
DTSTART;VALUE=DATE:20151127
DTEND;VALUE=DATE:20151130
DTSTAMP:20260421T185946
CREATED:20151022T130604Z
LAST-MODIFIED:20151022T130604Z
UID:10670-1448582400-1448841599@www.usbormiese.com
SUMMARY:Short track\, circuito Star Class a Malmoe
DESCRIPTION:Short track\, circuito Star Cass  \n\nDal 27 al 29 novembre 2015\nStar Class 2 (senior & junior A/B) \nA Malmo (Swe) – Senior & Junior A/B
URL:https://www.usbormiese.com/event/short-track-circuito-star-class-a-malmoe/
CATEGORIES:SHORT TRACK
ATTACH;FMTTYPE=image/jpeg:https://www.usbormiese.com/wp-content/uploads/2015/10/short-track-2.jpg
END:VEVENT
BEGIN:VEVENT
DTSTART;VALUE=DATE:20151125
DTEND;VALUE=DATE:20151126
DTSTAMP:20260421T185946
CREATED:20151025T095559Z
LAST-MODIFIED:20151025T095559Z
UID:10856-1448409600-1448495999@www.usbormiese.com
SUMMARY:Pallavolo\, U18 femminile 2015/2016. A Bormio: Bormiese - Pentacom
DESCRIPTION:Pallavolo\, Campionato 2015/2016 Under 18 Femminile – Girone A  \nUnder 18 Femminile – Girone A \nPrima Giornata \nMercoledì 25 novembre 2015\nore 19.30\nA BORMIO\nU.S. BORMIESE – ASD PENTACOM
URL:https://www.usbormiese.com/event/pallavolo-u18-femminile-20152016-a-bormio-bormiese-pentacom/
CATEGORIES:PALLAVOLO
ATTACH;FMTTYPE=image/jpeg:https://www.usbormiese.com/wp-content/uploads/2015/10/volley2.jpg
END:VEVENT
BEGIN:VEVENT
DTSTART;VALUE=DATE:20151122
DTEND;VALUE=DATE:20151123
DTSTAMP:20260421T185946
CREATED:20151026T192731Z
LAST-MODIFIED:20151026T193158Z
UID:10963-1448150400-1448236799@www.usbormiese.com
SUMMARY:Pallavolo\, U19 Maschile 2015/2016. A Bormio: Bormiese - Mondovolley
DESCRIPTION:Pallavolo\, Campionato 2015/2016 Under 19 Maschile \nUnder 19 Maschile \nQuinta Giornata \nDomenica 22 novembre 2015\nore 16.00\nA BORMIO \nU.S. BORMIESE ALLIANZ – MONDOVOLLEY 2000
URL:https://www.usbormiese.com/event/pallavolo-u19-maschile-20152016-a-bormio-bormiese-mondovolley/
CATEGORIES:PALLAVOLO
END:VEVENT
BEGIN:VEVENT
DTSTART;VALUE=DATE:20151122
DTEND;VALUE=DATE:20151123
DTSTAMP:20260421T185946
CREATED:20151025T091316Z
LAST-MODIFIED:20151025T091316Z
UID:10834-1448150400-1448236799@www.usbormiese.com
SUMMARY:Pallavolo\, U14 femminile A 2015/2016. A Tresivio: Pentacon - Bormiese
DESCRIPTION:Pallavolo\, Campionato 2015/2016 Under 14 Femminile – Girone A  \nQuinta Giornata \nDomenica 22 novembre 2015\nore 10.30\nA TRESIVIO\nASD PENTACOM – U.S. BORMIESE OTTICA OCCHI
URL:https://www.usbormiese.com/event/pallavolo-u14-femminile-a-20152016-a-tresivio-pentacon-bormiese/
CATEGORIES:PALLAVOLO
ATTACH;FMTTYPE=image/jpeg:https://www.usbormiese.com/wp-content/uploads/2015/10/volley.jpg
END:VEVENT
BEGIN:VEVENT
DTSTART;VALUE=DATE:20151122
DTEND;VALUE=DATE:20151123
DTSTAMP:20260421T185946
CREATED:20151025T084535Z
LAST-MODIFIED:20151025T084535Z
UID:10822-1448150400-1448236799@www.usbormiese.com
SUMMARY:Pallavolo\, U14 femminile B 2015/2016. A Bormio: Rio Scianno - Auxilium
DESCRIPTION:Pallavolo\, Campionato 2015/2016 Under 14 Femminile – Girone B  \nQuinta Giornata \nDomenica 22 novembre 2015\nore 18.00\nA BORMIO\nG.S. RIO SCIANNO B – PGS AUXILIUM
URL:https://www.usbormiese.com/event/pallavolo-u14-femminile-b-20152016-a-bormio-rio-scianno-auxilium/
CATEGORIES:PALLAVOLO
ATTACH;FMTTYPE=image/jpeg:https://www.usbormiese.com/wp-content/uploads/2015/10/volley.jpg
END:VEVENT
BEGIN:VEVENT
DTSTART;VALUE=DATE:20151122
DTEND;VALUE=DATE:20151123
DTSTAMP:20260421T185946
CREATED:20151025T074705Z
LAST-MODIFIED:20151025T074705Z
UID:10799-1448150400-1448236799@www.usbormiese.com
SUMMARY:Pallavolo\, U13 femminile B 2015/2016. A Talamona: Talamonese - Bormiese
DESCRIPTION:Pallavolo\, Campionato 2015/216 Under 13 Femminile – Girone B \nSeconda Giornata \nDomenica 22 novembre 2015\nore 10.30\nA TALAMONA\nU.S TALAMONESE – U.S. BORMIESE B
URL:https://www.usbormiese.com/event/pallavolo-u13-femminile-b-20152016-a-talamona-talamonese-bormiese/
CATEGORIES:PALLAVOLO
ATTACH;FMTTYPE=image/jpeg:https://www.usbormiese.com/wp-content/uploads/2015/10/volley.jpg
END:VEVENT
BEGIN:VEVENT
DTSTART;VALUE=DATE:20151122
DTEND;VALUE=DATE:20151123
DTSTAMP:20260421T185946
CREATED:20151015T091514Z
LAST-MODIFIED:20151015T091514Z
UID:10595-1448150400-1448236799@www.usbormiese.com
SUMMARY:Calcio\, prima squadra: Dubino vs Bormiese
DESCRIPTION:Domenica 22 novembre 2015 \nPRIMA SQUADRA\nCampionato provinciale di 2^ categoria \nDUBINO vs BORMIESE\nA Dubino\, ore 14\,30
URL:https://www.usbormiese.com/event/calcio-prima-squadra-dubino-vs-bormiese/
CATEGORIES:CALCIO
ATTACH;FMTTYPE=image/jpeg:https://www.usbormiese.com/wp-content/uploads/2015/08/calcioSquadra.jpg
END:VEVENT
BEGIN:VEVENT
DTSTART;VALUE=DATE:20151122
DTEND;VALUE=DATE:20151123
DTSTAMP:20260421T185946
CREATED:20151015T091319Z
LAST-MODIFIED:20151015T091319Z
UID:10594-1448150400-1448236799@www.usbormiese.com
SUMMARY:Calcio\, Giovanissimi: Bormiese vs Albosaggia
DESCRIPTION:Domenica 22 novembre 2015 \nCampionato provinciale GIOVANISSIMI \nBORMIESE vs ALBOSAGGIA\nA Bormio\, ore 10\,30
URL:https://www.usbormiese.com/event/calcio-giovanissimi-bormiese-vs-albosaggia/
CATEGORIES:CALCIO
ATTACH;FMTTYPE=image/jpeg:https://www.usbormiese.com/wp-content/uploads/2015/10/calcio3.jpg
END:VEVENT
BEGIN:VEVENT
DTSTART;VALUE=DATE:20151121
DTEND;VALUE=DATE:20151122
DTSTAMP:20260421T185946
CREATED:20151025T091210Z
LAST-MODIFIED:20151025T091210Z
UID:10833-1448064000-1448150399@www.usbormiese.com
SUMMARY:Pallavolo\, U14 femminile A 2015/2016. A Bormio: Bormiese - Altavalle
DESCRIPTION:Pallavolo\, Campionato 2015/2016 Under 14 Femminile – Girone A  \nQuinta Giornata \nSabato 21 novembre 2015\nore 18.00\nA BORMIO\nG.S. RIO SCIANNO A – PALLAVOLO ALTAVALLE
URL:https://www.usbormiese.com/event/pallavolo-u14-femminile-a-20152016-a-bormio-bormiese-altavalle/
CATEGORIES:PALLAVOLO
ATTACH;FMTTYPE=image/jpeg:https://www.usbormiese.com/wp-content/uploads/2015/10/volley.jpg
END:VEVENT
BEGIN:VEVENT
DTSTART;VALUE=DATE:20151121
DTEND;VALUE=DATE:20151122
DTSTAMP:20260421T185947
CREATED:20151025T081150Z
LAST-MODIFIED:20151025T081150Z
UID:10809-1448064000-1448150399@www.usbormiese.com
SUMMARY:Pallavolo\, U13 femminile A 2015/2016. A Tresivio: Pentacom - Bormiese
DESCRIPTION:Pallavolo\, Campionato 2015/2016 Under 13 Femminile – Girone A  \nSeconda Giornata \nSabato 21 novembre 2015\nore 17.00\nA TRESIVIO\nASD PENTACOM B – U.S. BORMIESE GELATERIA PASTICCERIA BRAULIO
URL:https://www.usbormiese.com/event/pallavolo-u13-femminile-a-20152016-a-tresivio-pentacom-bormiese/
CATEGORIES:PALLAVOLO
ATTACH;FMTTYPE=image/jpeg:https://www.usbormiese.com/wp-content/uploads/2015/10/volley.jpg
END:VEVENT
BEGIN:VEVENT
DTSTART;VALUE=DATE:20151121
DTEND;VALUE=DATE:20151122
DTSTAMP:20260421T185947
CREATED:20151024T150921Z
LAST-MODIFIED:20151024T151611Z
UID:10779-1448064000-1448150399@www.usbormiese.com
SUMMARY:Pallavolo\, prima divisione femminile 2015/2016. A Bormio\, Bormiese - Morbegno
DESCRIPTION:Pallavolo\, Campionato 2015/216 di Prima Divisione Femminile \nSeconda Giornata \nSabato 21 novembre 2015\nore 20.\nA BORMIO\nU.S. BORMIESE IDEAL CASA – VOLLEY MORBEGNO
URL:https://www.usbormiese.com/event/pallavolo-prima-divisione-femminile-20152016-a-bormio-bormiese-morbegno/
CATEGORIES:PALLAVOLO
ATTACH;FMTTYPE=image/jpeg:https://www.usbormiese.com/wp-content/uploads/2015/10/volley2.jpg
END:VEVENT
BEGIN:VEVENT
DTSTART;VALUE=DATE:20151120
DTEND;VALUE=DATE:20151121
DTSTAMP:20260421T185947
CREATED:20151025T093850Z
LAST-MODIFIED:20151025T093850Z
UID:10845-1447977600-1448063999@www.usbormiese.com
SUMMARY:Pallavolo\, U16 femminile 2015/2016. A Bormio: Bormiese - Tirano
DESCRIPTION:Pallavolo\, Campionato 2015/2016 Under 16 Femminile  \nUnder 16 Femminile – Girone A \nTerza Giornata \nVenerdì 20 novembre 2015\nOre 20.30\nA BORMIO\nU.S. BORMIESE – G.S. C.S.I. TIRANO
URL:https://www.usbormiese.com/event/pallavolo-u16-femminile-20152016-a-bormio-bormiese-tirano/
CATEGORIES:PALLAVOLO
ATTACH;FMTTYPE=image/jpeg:https://www.usbormiese.com/wp-content/uploads/2015/10/volley3.jpg
END:VEVENT
BEGIN:VEVENT
DTSTART;VALUE=DATE:20151115
DTEND;VALUE=DATE:20151116
DTSTAMP:20260421T185947
CREATED:20151026T192606Z
LAST-MODIFIED:20151026T193142Z
UID:10962-1447545600-1447631999@www.usbormiese.com
SUMMARY:Pallavolo\, U19 Maschile 2015/2016. A Regoledo di Cosio: Bormiese - Bottanuco
DESCRIPTION:Pallavolo\, Campionato 2015/2016 Under 19 Maschile \nUnder 19 Maschile \nQuarta Giornata \nDomenica 15 novembre 2015\nore 17.30\nA REGOLEDO DI COSIO\nU.S. BORMIESE ALLIANZ – VOLLEY BOTTANUCO
URL:https://www.usbormiese.com/event/pallavolo-u19-maschile-20152016-a-regoledo-di-cosio-bormiese-bottanuco/
CATEGORIES:PALLAVOLO
END:VEVENT
BEGIN:VEVENT
DTSTART;VALUE=DATE:20151115
DTEND;VALUE=DATE:20151116
DTSTAMP:20260421T185947
CREATED:20151025T093734Z
LAST-MODIFIED:20151025T093734Z
UID:10844-1447545600-1447631999@www.usbormiese.com
SUMMARY:Pallavolo\, U16 femminile 2015/2016. A Gordona: Gordona - Bormiese
DESCRIPTION:Pallavolo\, Campionato 2015/2016 Under 16 Femminile  \nUnder 16 Femminile – Girone A \nSeconda Giornata \nDomenica 15 novembre 2015\nore 17.00\nA GORDONA\nGS GORDONA – U.S. BORMIESE
URL:https://www.usbormiese.com/event/pallavolo-u16-femminile-20152016-a-gordona-gordona-bormiese/
CATEGORIES:PALLAVOLO
ATTACH;FMTTYPE=image/jpeg:https://www.usbormiese.com/wp-content/uploads/2015/10/volley3.jpg
END:VEVENT
BEGIN:VEVENT
DTSTART;VALUE=DATE:20151115
DTEND;VALUE=DATE:20151116
DTSTAMP:20260421T185947
CREATED:20151025T085711Z
LAST-MODIFIED:20151025T085711Z
UID:10828-1447545600-1447631999@www.usbormiese.com
SUMMARY:Pallavolo\, U14 femminile A 2015/2016. A Bormio: Rio Scianno - Pentacom
DESCRIPTION:Pallavolo\, Campionato 2015/2016 Under 14 Femminile – Girone A \nPrima Giornata \nDomenica 15 novembre 2015\nore 10.30\nA BORMIO\nG.S. RIO SCIANNO A – ASD PENTACOM
URL:https://www.usbormiese.com/event/pallavolo-u14-femminile-a-20152016-a-bormio-rio-scianno-pentacom/
CATEGORIES:PALLAVOLO
ATTACH;FMTTYPE=image/jpeg:https://www.usbormiese.com/wp-content/uploads/2015/10/volley.jpg
END:VEVENT
END:VCALENDAR