BEGIN:VCALENDAR
VERSION:2.0
PRODID:-//Unione Sportiva Bormiese - ECPv6.8.2.1//NONSGML v1.0//EN
CALSCALE:GREGORIAN
METHOD:PUBLISH
X-ORIGINAL-URL:https://www.usbormiese.com
X-WR-CALDESC:Eventi per Unione Sportiva Bormiese
REFRESH-INTERVAL;VALUE=DURATION:PT1H
X-Robots-Tag:noindex
X-PUBLISHED-TTL:PT1H
BEGIN:VTIMEZONE
TZID:Europe/Rome
BEGIN:DAYLIGHT
TZOFFSETFROM:+0100
TZOFFSETTO:+0200
TZNAME:CEST
DTSTART:20150329T010000
END:DAYLIGHT
BEGIN:STANDARD
TZOFFSETFROM:+0200
TZOFFSETTO:+0100
TZNAME:CET
DTSTART:20151025T010000
END:STANDARD
END:VTIMEZONE
BEGIN:VEVENT
DTSTART;VALUE=DATE:20151115
DTEND;VALUE=DATE:20151116
DTSTAMP:20260421T235610
CREATED:20151025T080614Z
LAST-MODIFIED:20151025T080633Z
UID:10808-1447545600-1447631999@www.usbormiese.com
SUMMARY:Pallavolo\, U13 femminile A 2015/2016. A Bormio: Bormiese - Piateda
DESCRIPTION:Pallavolo\, Campionato 2015/216 Under 13 Femminile – Girone A \nPrima Giornata \nDomenica 15 novembre 2015\nore 19.00\nA BORMIO\nU.S. BORMIESE GELATERIA PASTICCERIA BRAULIO – CENTRO OLIMPIA PIATEDA
URL:https://www.usbormiese.com/event/pallavolo-u13-femminile-a-20152016-a-bormio-bormiese-piateda/
CATEGORIES:PALLAVOLO
ATTACH;FMTTYPE=image/jpeg:https://www.usbormiese.com/wp-content/uploads/2015/10/volley.jpg
END:VEVENT
BEGIN:VEVENT
DTSTART;VALUE=DATE:20151115
DTEND;VALUE=DATE:20151116
DTSTAMP:20260421T235610
CREATED:20151025T074500Z
LAST-MODIFIED:20151025T081020Z
UID:10797-1447545600-1447631999@www.usbormiese.com
SUMMARY:Pallavolo\, U13 femminile B 2015/2016. A Bormio: Bormiese - Ardenno
DESCRIPTION:Pallavolo\, Campionato 2015/2016 Under 13 Femminile – Girone B  \nPrima Giornata\nDomenica 15 novembre 2015\nore 16.00\nA BORMIO\nU.S. BORMIESE B – ARDENNO SPORTIVA
URL:https://www.usbormiese.com/event/pallavolo-u13-femminile-b-20152016-a-bormio-bormiese-ardenno/
CATEGORIES:PALLAVOLO
ATTACH;FMTTYPE=image/jpeg:https://www.usbormiese.com/wp-content/uploads/2015/10/volley.jpg
END:VEVENT
BEGIN:VEVENT
DTSTART;VALUE=DATE:20151115
DTEND;VALUE=DATE:20151116
DTSTAMP:20260421T235610
CREATED:20151015T091111Z
LAST-MODIFIED:20151015T091111Z
UID:10593-1447545600-1447631999@www.usbormiese.com
SUMMARY:Calcio\, prima squadra: Bormiese vs Tiranese
DESCRIPTION:Domenica 15 novembre 2015 \nPRIMA SQUADRA \nCampionato provinciale di 2^ categoria\nBORMIESE vs TIRANESE\nA Bormio\, ore 14\,30
URL:https://www.usbormiese.com/event/calcio-prima-squadra-bormiese-vs-tiranese/
CATEGORIES:CALCIO
ATTACH;FMTTYPE=image/jpeg:https://www.usbormiese.com/wp-content/uploads/2015/08/calcioSquadra.jpg
END:VEVENT
BEGIN:VEVENT
DTSTART;VALUE=DATE:20151115
DTEND;VALUE=DATE:20151116
DTSTAMP:20260421T235610
CREATED:20150618T172728Z
LAST-MODIFIED:20150618T172728Z
UID:8182-1447545600-1447631999@www.usbormiese.com
SUMMARY:Corsa campestre: a Sondalo il Cross de Pradela 2015
DESCRIPTION:Domenica 15 novembre 2015 Cross de Pradela a SONDALO  \nCROSS DE PRADELA\nCampestre Regionale \nSONDALO – Loc. Pradela \nCategorie: TUTTE \nRitrovo ore 10.00 presso Palazzetto dello Sport\nChiusura iscrizioni ore 10:30\nInizio gare ore 11.00. \nOrg. Atl. Alta Valtellina\nResp. Greco Adriano (347/9021545)\nMail: adrianogreco@hotmail.com\ninfo www.atleticaaltavaltellina.it
URL:https://www.usbormiese.com/event/corsa-campestre-a-sondalo-il-cross-de-pradela-2015/
CATEGORIES:ATLETICA
ATTACH;FMTTYPE=image/jpeg:https://www.usbormiese.com/wp-content/uploads/2014/11/crossDePradelaSondalo2014.jpg
END:VEVENT
BEGIN:VEVENT
DTSTART;TZID=Europe/Rome:20151114T180000
DTEND;TZID=Europe/Rome:20151114T193000
DTSTAMP:20260421T235610
CREATED:20151007T142947Z
LAST-MODIFIED:20151007T142947Z
UID:10498-1447524000-1447529400@www.usbormiese.com
SUMMARY:CALCIO\, Allievi - A Tirano: Tiranese-Bormiese
DESCRIPTION:Campionato Allievi provinciali – Fase autunnale\nA Tirano\, Tiranese-Bormiese
URL:https://www.usbormiese.com/event/calcio-allievi-a-tirano-tiranese-bormiese/
CATEGORIES:CALCIO
END:VEVENT
BEGIN:VEVENT
DTSTART;VALUE=DATE:20151114
DTEND;VALUE=DATE:20151115
DTSTAMP:20260421T235610
CREATED:20151025T084338Z
LAST-MODIFIED:20151025T084338Z
UID:10821-1447459200-1447545599@www.usbormiese.com
SUMMARY:Pallavolo\, U14 femminile B 2015/2016. A Traona: Cosio - Rio Scianno
DESCRIPTION:Pallavolo\, Campionato 2015/2016 Under 14 Femminile – Girone B  \nQuarta Giornata \nSabato 14 novembre 2015\nore 17.00\nA TRAONA\nA.D. COSIO VOLLEY – G.S. RIO SCIANNO B
URL:https://www.usbormiese.com/event/pallavolo-u14-femminile-b-20152016-a-traona-cosio-rio-scianno/
CATEGORIES:PALLAVOLO
ATTACH;FMTTYPE=image/jpeg:https://www.usbormiese.com/wp-content/uploads/2015/10/volley.jpg
END:VEVENT
BEGIN:VEVENT
DTSTART;VALUE=DATE:20151114
DTEND;VALUE=DATE:20151115
DTSTAMP:20260421T235610
CREATED:20151024T152007Z
LAST-MODIFIED:20151024T152007Z
UID:10783-1447459200-1447545599@www.usbormiese.com
SUMMARY:Pallavolo\, prima divisione femminile 2015/2016. A Tresivio: Pentacom - Bormiese
DESCRIPTION:Pallavolo\, Campionato 2015/216 di Prima Divisione Femminile \nPrima Giornata \nSabato 14 novembre 2015\nore 20.00\nA TRESIVIO\nASD PENTACOM – U.S. BORMIESE IDEAL CASA
URL:https://www.usbormiese.com/event/pallavolo-prima-divisione-femminile-20152016-a-tresivio-pentacom-bormiese/
CATEGORIES:PALLAVOLO
ATTACH;FMTTYPE=image/jpeg:https://www.usbormiese.com/wp-content/uploads/2015/10/volley2.jpg
END:VEVENT
BEGIN:VEVENT
DTSTART;VALUE=DATE:20151114
DTEND;VALUE=DATE:20151115
DTSTAMP:20260421T235610
CREATED:20151015T090900Z
LAST-MODIFIED:20151015T090900Z
UID:10592-1447459200-1447545599@www.usbormiese.com
SUMMARY:Calcio\, Esordienti: Livigno vs Bormiese
DESCRIPTION:Sabato 14 novembre 2015 \nCampionato ESORDIENTI \nLIVIGNO vs BORMIESE\nA Livigno\, ore 16\,00
URL:https://www.usbormiese.com/event/calcio-esordienti-livigno-vs-bormiese/
CATEGORIES:CALCIO
ATTACH;FMTTYPE=image/jpeg:https://www.usbormiese.com/wp-content/uploads/2015/10/calcio3.jpg
END:VEVENT
BEGIN:VEVENT
DTSTART;VALUE=DATE:20151113
DTEND;VALUE=DATE:20151114
DTSTAMP:20260421T235610
CREATED:20151025T091028Z
LAST-MODIFIED:20151025T091028Z
UID:10832-1447372800-1447459199@www.usbormiese.com
SUMMARY:Pallavolo\, U14 femminile A 2015/2016. A Bormio: Bormiese - Rio Scianno
DESCRIPTION:Pallavolo\, Campionato 2015/2016 Under 14 Femminile – Girone A  \nQuarta Giornata \nVenerdì 13 novembre 2015\nore 18.30\nA BORMIO\nU.S. BORMIESE OTTICA OCCHI – G.S. RIO SCIANNO A
URL:https://www.usbormiese.com/event/pallavolo-u14-femminile-a-20152016-a-bormio-bormiese-rio-scianno/
CATEGORIES:PALLAVOLO
ATTACH;FMTTYPE=image/jpeg:https://www.usbormiese.com/wp-content/uploads/2015/10/volley.jpg
END:VEVENT
BEGIN:VEVENT
DTSTART;VALUE=DATE:20151112
DTEND;VALUE=DATE:20151116
DTSTAMP:20260421T235610
CREATED:20151013T123318Z
LAST-MODIFIED:20151127T103134Z
UID:10572-1447286400-1447631999@www.usbormiese.com
SUMMARY:Short track\, Bormio Ghiaccio: Alta Valtellina Trophy 2015
DESCRIPTION:Si svolgerà a Bormio\, dal 12 al 15 novembre 2015\, la 24^ edizione dell’Alta Valtellina Trophy di short track. Ecco annuncio e programma.  \nThe Organizing Committee on behalf of the Italian Ice Sport Federation has the honour to invite you to participate at the “24rd ALTA VALTELLINA TROPHY” (open to Senior) to be held November 12th – 15th\, 2015 at the Ice Stadium Bormio / Italy. The competition is open to all ISU members and their Clubs. There are no restrictions in the number of entries unless we inform you of the contrary. \n\n>> Annuncio/announcement/programme (file pdf)\n\n\n>> SPECIAL PRIZES (file pdf)\n\n\n>> Accomodation-Request-Form (file doc)\n>> Accomodation-Request-Form (file pdf)\n>> Training-ice-Request-Form (file doc)\n>> Training-ice-Request-Form (file pdf)\n>> Transportation-Request-Form (file doc)\n>> Transportation-Request-Form (file pdf)\n\nLa manifestazione\, organizzata dalla Bormio Ghiaccio è aperta a tutte le categorie: \n\nSenior Ladies and Men\nJunior A Ladies and Men\nJunior B Ladies and Men\nJunior C Ladies and Men\nJunior D Ladies and Men\nJunior E Ladies and Men\nJunior F Ladies and Men\n\nwww.usbormiese.com/bormio-ghiaccio \nBORMIO GHIACCIO A.S.D.\nVia Manzoni\n23032 BORMIO (SO)\nTel e Fax +39 0342 911451\ne-mail\nbormioghiaccio@gmail.com \n  \n 
URL:https://www.usbormiese.com/event/short-track-bormio-ghiaccio-alta-valtellina-trophy-2015/
CATEGORIES:SHORT TRACK
ATTACH;FMTTYPE=image/jpeg:https://www.usbormiese.com/wp-content/uploads/2015/10/AVT2015_640X300.jpg
END:VEVENT
BEGIN:VEVENT
DTSTART;VALUE=DATE:20151112
DTEND;VALUE=DATE:20151113
DTSTAMP:20260421T235610
CREATED:20151015T090514Z
LAST-MODIFIED:20151015T090514Z
UID:10591-1447286400-1447372799@www.usbormiese.com
SUMMARY:Calcio\, Pulcini: Polisportiva Villa vs Bomiese
DESCRIPTION:Giovedì 12 novembre 2015 \nRaggruppamenti e tornei PULCINI \nPOLISPORTIVA VILLA vs BORMIESE\nA Villa Tirano\, ore 15\,30
URL:https://www.usbormiese.com/event/calcio-pulcini-polisportiva-villa-vs-bomiese/
CATEGORIES:CALCIO
ATTACH;FMTTYPE=image/jpeg:https://www.usbormiese.com/wp-content/uploads/2015/10/calcio4.jpg
END:VEVENT
BEGIN:VEVENT
DTSTART;VALUE=DATE:20151108
DTEND;VALUE=DATE:20151109
DTSTAMP:20260421T235610
CREATED:20151027T084525Z
LAST-MODIFIED:20151027T084525Z
UID:10996-1446940800-1447027199@www.usbormiese.com
SUMMARY:Atletica: a Sondrio il 2° Mini Winetrial
DESCRIPTION:STRADA PROVINCIALE\nDomenica 8 novembre 2015 \nSONDRIO \n2° MINI WINETRAIL\nCATEGORIE: E/R/C/A \nRitrovo ore 15:00\nInizio gare ore 16:00 \nOrg. POL ALBOSAGGIA\nResp. Org. Cristini Gianluca\nTel. 0343.893117\nInfo: www.polalbosaggia.com
URL:https://www.usbormiese.com/event/atletica-a-sondrio-il-2-mini-winetrial/
CATEGORIES:ATLETICA
ATTACH;FMTTYPE=image/jpeg:https://www.usbormiese.com/wp-content/uploads/2015/06/atleticaAd.jpg
END:VEVENT
BEGIN:VEVENT
DTSTART;VALUE=DATE:20151108
DTEND;VALUE=DATE:20151109
DTSTAMP:20260421T235610
CREATED:20151026T192452Z
LAST-MODIFIED:20151026T193128Z
UID:10961-1446940800-1447027199@www.usbormiese.com
SUMMARY:Pallavolo\, U19 Maschile 2015/2016. A Bormio: BORMIESE - RAGNO
DESCRIPTION:Pallavolo\, Campionato 2015/2016 Under 19 Maschile \nUnder 19 Maschile \nTerza Giornata \nDomenica 8 novembre 2015\nore 16.00\nA BORMIO\nU.S. BORMIESE ALLIANZ – FABE -AXA MARIO “RAGNO)
URL:https://www.usbormiese.com/event/pallavolo-u19-maschile-20152016-a-bormio-bormiese-ragno/
CATEGORIES:PALLAVOLO
END:VEVENT
BEGIN:VEVENT
DTSTART;VALUE=DATE:20151108
DTEND;VALUE=DATE:20151109
DTSTAMP:20260421T235610
CREATED:20151025T084218Z
LAST-MODIFIED:20151025T084218Z
UID:10820-1446940800-1447027199@www.usbormiese.com
SUMMARY:Pallavolo\, U14 femminile B 2015/2016. Ad Ardenno: Ardenno - Rio Scianno
DESCRIPTION:Pallavolo\, Campionato 2015/2016 Under 14 Femminile – Girone B  \nTerza Giornata \nDomenica 8 novembre 2015\nore 11.00\nAd ARDENNO\nARDENNO SPORTIVA – G.S. RIO SCIANNO B
URL:https://www.usbormiese.com/event/pallavolo-u14-femminile-b-20152016-ad-ardenno-ardenno-rio-scianno/
CATEGORIES:PALLAVOLO
ATTACH;FMTTYPE=image/jpeg:https://www.usbormiese.com/wp-content/uploads/2015/10/volley.jpg
END:VEVENT
BEGIN:VEVENT
DTSTART;VALUE=DATE:20151108
DTEND;VALUE=DATE:20151109
DTSTAMP:20260421T235610
CREATED:20151015T090235Z
LAST-MODIFIED:20151015T090235Z
UID:10590-1446940800-1447027199@www.usbormiese.com
SUMMARY:Calcio\, prima squadra: Berbenno vs Bormiese
DESCRIPTION:Domenica 8 novembre 2015 \nPRIMA SQUADRA\nCampionato provinciale di 2^ categoria \nBERBENNO vs BORMIESE\nA Berbenno\, ore 14\,30
URL:https://www.usbormiese.com/event/calcio-prima-squadra-berbenno-vs-bormiese/
CATEGORIES:CALCIO
ATTACH;FMTTYPE=image/jpeg:https://www.usbormiese.com/wp-content/uploads/2015/08/calcioSquadra.jpg
END:VEVENT
BEGIN:VEVENT
DTSTART;VALUE=DATE:20151108
DTEND;VALUE=DATE:20151109
DTSTAMP:20260421T235610
CREATED:20151015T090023Z
LAST-MODIFIED:20151015T090023Z
UID:10589-1446940800-1447027199@www.usbormiese.com
SUMMARY:Calcio\, Giovanissimi: Ponte Valtellina vs Bormiese
DESCRIPTION:Domenica 8 novembre 2015 \nCampionato provinciale GIOVANISSIMI \nPONTESE vs BORMIESE\nA Ponte Valtellina\, ore 10\,00
URL:https://www.usbormiese.com/event/calcio-giovanissimi-ponte-valtellina-vs-bormiese/
CATEGORIES:CALCIO
ATTACH;FMTTYPE=image/jpeg:https://www.usbormiese.com/wp-content/uploads/2015/07/calcio2.jpg
END:VEVENT
BEGIN:VEVENT
DTSTART;TZID=Europe/Rome:20151107T173000
DTEND;TZID=Europe/Rome:20151107T190000
DTSTAMP:20260421T235610
CREATED:20151007T142849Z
LAST-MODIFIED:20151007T143007Z
UID:10497-1446917400-1446922800@www.usbormiese.com
SUMMARY:CALCIO\, Allievi - A Grosio: Grosio-Bormiese
DESCRIPTION:Campionato Allievi provinciali – Fase autunnale\nA Grosio\, Grosio-Bormiese
URL:https://www.usbormiese.com/event/calcio-allievi-a-grosio-grosio-bormiese-2/
CATEGORIES:CALCIO
END:VEVENT
BEGIN:VEVENT
DTSTART;VALUE=DATE:20151107
DTEND;VALUE=DATE:20151108
DTSTAMP:20260421T235610
CREATED:20151025T090855Z
LAST-MODIFIED:20151025T090855Z
UID:10831-1446854400-1446940799@www.usbormiese.com
SUMMARY:Pallavolo\, U14 femminile A 2015/2016. A Grosotto: Altavalle - Bormiese
DESCRIPTION:Pallavolo\, Campionato 2015/2016 Under 14 Femminile – Girone A  \nTerza Giornata \nSabato 7 novembre 2015\nore 17.00\nA GROSOTTO\nPALLAVOLO ALTAVALLE – U.S. BORMIESE OTTICA OCCHI
URL:https://www.usbormiese.com/event/pallavolo-u14-femminile-a-20152016-a-grosotto-altavalle-bormiese/
CATEGORIES:PALLAVOLO
ATTACH;FMTTYPE=image/jpeg:https://www.usbormiese.com/wp-content/uploads/2015/10/volley.jpg
END:VEVENT
BEGIN:VEVENT
DTSTART;VALUE=DATE:20151107
DTEND;VALUE=DATE:20151108
DTSTAMP:20260421T235610
CREATED:20151015T085812Z
LAST-MODIFIED:20151015T085812Z
UID:10588-1446854400-1446940799@www.usbormiese.com
SUMMARY:Calcio\, Esordienti: Bormiese vs Sondalo
DESCRIPTION:Sabato 7 novembre 2015 \nCampionato provinciale ESORDIENTI \nBORMIESE vs SONDALO\nA Bormio\, ore 15\,30
URL:https://www.usbormiese.com/event/calcio-esordienti-bormiese-vs-sondalo/
CATEGORIES:CALCIO
ATTACH;FMTTYPE=image/jpeg:https://www.usbormiese.com/wp-content/uploads/2015/10/calcio3.jpg
END:VEVENT
BEGIN:VEVENT
DTSTART;VALUE=DATE:20151107
DTEND;VALUE=DATE:20151108
DTSTAMP:20260421T235610
CREATED:20151015T085628Z
LAST-MODIFIED:20151015T085628Z
UID:10587-1446854400-1446940799@www.usbormiese.com
SUMMARY:Calcio\, primi calci: raggruppamento a Ponte Valtellina
DESCRIPTION:Sabato 7 novembre 2015 \nPRIMI CALCI\nRAGGRUPPAMENTO di Ponte Valtellina \n 
URL:https://www.usbormiese.com/event/calcio-primi-calci-raggruppamento-a-ponte-valtellina/
CATEGORIES:CALCIO
ATTACH;FMTTYPE=image/jpeg:https://www.usbormiese.com/wp-content/uploads/2015/10/calcio4.jpg
END:VEVENT
BEGIN:VEVENT
DTSTART;VALUE=DATE:20151106
DTEND;VALUE=DATE:20151109
DTSTAMP:20260421T235610
CREATED:20151022T125850Z
LAST-MODIFIED:20151022T125850Z
UID:10668-1446768000-1447027199@www.usbormiese.com
SUMMARY:Short track\, Coppa del Mondo 2015/2016 a Toronto
DESCRIPTION:Short track: Coppa del Mondo 2015/2016 \n \nDal 6 all’8 novembre 2015\nWorld Cup\, 2^ prova \nA Toronto (Can): partecipa la Squadra Nazionale \n\n  \n 
URL:https://www.usbormiese.com/event/short-track-coppa-del-mondo-20152016-a-toronto/
CATEGORIES:SHORT TRACK
ATTACH;FMTTYPE=image/jpeg:https://www.usbormiese.com/wp-content/uploads/2015/10/short-track-ita.jpg
END:VEVENT
BEGIN:VEVENT
DTSTART;VALUE=DATE:20151106
DTEND;VALUE=DATE:20151107
DTSTAMP:20260421T235610
CREATED:20151025T093535Z
LAST-MODIFIED:20151025T093535Z
UID:10842-1446768000-1446854399@www.usbormiese.com
SUMMARY:Pallavolo\, U16 femminile 2015/2016. A Bormio: Bormiese - Sondrio
DESCRIPTION:Pallavolo\, Campionato 2015/2016 Under 16 Femminile  \nUnder 16 Femminile – Girone A \nPrima Giornata \nVenerdì 6 novembre 2015\nore 20.30\nA BORMIO\nU.S. BORMIESE – NUOVA SONDRIO SPORTIVA VOLLEY A
URL:https://www.usbormiese.com/event/pallavolo-u16-femminile-20152016-a-bormio-bormiese-sondrio/
CATEGORIES:PALLAVOLO
ATTACH;FMTTYPE=image/jpeg:https://www.usbormiese.com/wp-content/uploads/2015/10/volley3.jpg
END:VEVENT
BEGIN:VEVENT
DTSTART;VALUE=DATE:20151101
DTEND;VALUE=DATE:20151102
DTSTAMP:20260421T235610
CREATED:20151026T191813Z
LAST-MODIFIED:20151026T193112Z
UID:10960-1446336000-1446422399@www.usbormiese.com
SUMMARY:Pallavolo\, U19 Maschile 2015/2016. A Regoledo di Cosio: Bormiese - Scanzorosciate
DESCRIPTION:Pallavolo\, Campionato 2015/2016 Under 19 Maschile \nUnder 19 Maschile \nSeconda Giornata \nDomenica 1 novembre 2015\nore 17.00\nA REGOLEDO DI COSIO\nU.S. BORMIESE ALLIANZ – U.S.D. SCANZOROSCIATE PALLAVOLO
URL:https://www.usbormiese.com/event/pallavolo-u19-maschile-20152016-a-regoledo-di-cosio-bormiese-scanzorosciate/
CATEGORIES:PALLAVOLO
END:VEVENT
BEGIN:VEVENT
DTSTART;VALUE=DATE:20151101
DTEND;VALUE=DATE:20151102
DTSTAMP:20260421T235610
CREATED:20151025T090635Z
LAST-MODIFIED:20151025T090635Z
UID:10830-1446336000-1446422399@www.usbormiese.com
SUMMARY:Pallavolo\, U14 femminile A 2015/2016. A Sondrio: Sondrio - Rio Scianno
DESCRIPTION:Pallavolo\, Campionato 2015/216 Under 14 Femminile – Girone A   \nSeconda Giornata \nDomenica 1 novembre 2015\nore 17.00\nA SONDRIO\nNUOVA SONDRIO SPORTIVA VOLLEY – G.S. RIO SCIANNO A
URL:https://www.usbormiese.com/event/pallavolo-u14-femminile-a-20152016-a-sondrio-sondrio-rio-scianno/
CATEGORIES:PALLAVOLO
ATTACH;FMTTYPE=image/jpeg:https://www.usbormiese.com/wp-content/uploads/2015/10/volley.jpg
END:VEVENT
BEGIN:VEVENT
DTSTART;VALUE=DATE:20151101
DTEND;VALUE=DATE:20151102
DTSTAMP:20260421T235610
CREATED:20151015T085410Z
LAST-MODIFIED:20151015T085410Z
UID:10586-1446336000-1446422399@www.usbormiese.com
SUMMARY:Calcio\, prima squadra: Bormiese vs Brivio
DESCRIPTION:Domenica 1° novembre 2015 \nPRIMA SQUADRA\nCampionato provinciale di seconda categoria \nBORMIESE vs BRIVIO\nA Bormio\, ore 14\,30
URL:https://www.usbormiese.com/event/calcio-prima-squadra-bormiese-vs-brivio/
CATEGORIES:CALCIO
ATTACH;FMTTYPE=image/jpeg:https://www.usbormiese.com/wp-content/uploads/2015/08/calcioSquadra.jpg
END:VEVENT
BEGIN:VEVENT
DTSTART;VALUE=DATE:20151101
DTEND;VALUE=DATE:20151102
DTSTAMP:20260421T235610
CREATED:20151015T085152Z
LAST-MODIFIED:20151015T085152Z
UID:10585-1446336000-1446422399@www.usbormiese.com
SUMMARY:Calcio\, Giovanissimi: Bormiese vs Grosio
DESCRIPTION:Domenica 1° novembre 215 \nCampionato provinciale GIOVANISSIMI \nBORMIESE vs GROSIO\nA Bormio\, ore 10\,30
URL:https://www.usbormiese.com/event/calcio-giovanissimi-bormiese-vs-grosio/
CATEGORIES:CALCIO
ATTACH;FMTTYPE=image/jpeg:https://www.usbormiese.com/wp-content/uploads/2015/10/calcio3.jpg
END:VEVENT
BEGIN:VEVENT
DTSTART;TZID=Europe/Rome:20151031T173000
DTEND;TZID=Europe/Rome:20151031T190000
DTSTAMP:20260421T235610
CREATED:20151007T142734Z
LAST-MODIFIED:20151007T142734Z
UID:10496-1446312600-1446318000@www.usbormiese.com
SUMMARY:CALCIO\, Allievi - A Bormio: Bormiese-Pontese
DESCRIPTION:Campionato Allievi provinciali – Fase autunnale\nA Bormio\, Bormiese-Pontese
URL:https://www.usbormiese.com/event/calcio-allievi-a-bormio-bormiese-pontese-2/
CATEGORIES:CALCIO
END:VEVENT
BEGIN:VEVENT
DTSTART;VALUE=DATE:20151031
DTEND;VALUE=DATE:20151114
DTSTAMP:20260421T235610
CREATED:20151028T154942Z
LAST-MODIFIED:20151028T154942Z
UID:11020-1446249600-1447459199@www.usbormiese.com
SUMMARY:Bocce: torneo sociale 2015
DESCRIPTION:La Bocciofila Bormio organizza\, da lunedì 2 novembre\, il TORNEO SOCIALE 2015. Il torneo è aperto ai 20 soci tesserati al settore BOCCE e ad ulteriori giocatori ad invito.\nLe iscrizioni dovranno essere regolarizzate entro SABATO 31 OTTOBRE 2015\, ore 14\,00.\nIl sorteggio verrà effettuato sempre SABATO 31 OTTOBRE 2015 alle ore 15\,00 presso il bocciodromo di Bormio.\nInizio partite LUNEDÌ 02 NOVEMBRE 2015\, ore 20\,30.\nQuote di iscrizione € 5\,00 per tutti i partecipanti (sia i soci tesserati sia i giocatori invitati) Le premiazioni con la cena sociale verranno effettuate VENERDÌ 13 NOVEMBRE 2015 (la quota di partecipazione alla cena per i NON SOCI è di € 15\,00 – gratuita per gli abbonati ai campi) \nInfo e iscrizioni: UNIONE SPORTIVA BORMIESE tel. 0342/901482 BORDONI CRISTIAN cell. 347/9476541 www.usbormiese.com e-mail: bocciofilabormio@gmail.com
URL:https://www.usbormiese.com/event/bocce-torneo-sociale-2015/
CATEGORIES:BOCCE
ATTACH;FMTTYPE=image/jpeg:https://www.usbormiese.com/wp-content/uploads/2015/07/bocce.jpg
END:VEVENT
BEGIN:VEVENT
DTSTART;VALUE=DATE:20151031
DTEND;VALUE=DATE:20151102
DTSTAMP:20260421T235610
CREATED:20151022T094040Z
LAST-MODIFIED:20151022T094040Z
UID:10663-1446249600-1446422399@www.usbormiese.com
SUMMARY:Short track: Coppa Italia 2015/2016 a Bormio
DESCRIPTION:Short Track: a Bormio la prima prova della Coppa Italia 2015/2016 \n \nSabato 31 ottobre e domenica 1° novembre 2015\nCoppa Italia\, prima prova\nBormio (Ita) – Sen/Jun A/B/C/D \n>> LOCANDINA EVENTO
URL:https://www.usbormiese.com/event/short-track-coppa-italia-20152016-a-bormio/
CATEGORIES:SHORT TRACK
ATTACH;FMTTYPE=image/jpeg:https://www.usbormiese.com/wp-content/uploads/2015/10/short-track-2.jpg
END:VEVENT
BEGIN:VEVENT
DTSTART;VALUE=DATE:20151031
DTEND;VALUE=DATE:20151101
DTSTAMP:20260421T235610
CREATED:20151025T084000Z
LAST-MODIFIED:20151025T084000Z
UID:10819-1446249600-1446335999@www.usbormiese.com
SUMMARY:Pallavolo\, U14 femminile B 2015/2016. A Bormio: Rio Scianno - Morbegno
DESCRIPTION:Pallavolo\, Campionato 2015/2016 Under 14 Femminile – Girone B \nSeconda Giornata \nSabato 31 ottobre 2015\nore 18.00\nA BORMIO\nG.S. RIO SCIANNO B – VOLLEY MORBEGNO
URL:https://www.usbormiese.com/event/pallavolo-u14-femminile-b-20152016-a-bormio-rio-scianno-morbegno/
CATEGORIES:PALLAVOLO
ATTACH;FMTTYPE=image/jpeg:https://www.usbormiese.com/wp-content/uploads/2015/10/volley.jpg
END:VEVENT
END:VCALENDAR