BEGIN:VCALENDAR
VERSION:2.0
PRODID:-//Unione Sportiva Bormiese - ECPv6.8.2.1//NONSGML v1.0//EN
CALSCALE:GREGORIAN
METHOD:PUBLISH
X-ORIGINAL-URL:https://www.usbormiese.com
X-WR-CALDESC:Eventi per Unione Sportiva Bormiese
REFRESH-INTERVAL;VALUE=DURATION:PT1H
X-Robots-Tag:noindex
X-PUBLISHED-TTL:PT1H
BEGIN:VTIMEZONE
TZID:Europe/Rome
BEGIN:DAYLIGHT
TZOFFSETFROM:+0100
TZOFFSETTO:+0200
TZNAME:CEST
DTSTART:20150329T010000
END:DAYLIGHT
BEGIN:STANDARD
TZOFFSETFROM:+0200
TZOFFSETTO:+0100
TZNAME:CET
DTSTART:20151025T010000
END:STANDARD
END:VTIMEZONE
BEGIN:VEVENT
DTSTART;VALUE=DATE:20151106
DTEND;VALUE=DATE:20151109
DTSTAMP:20260422T031404
CREATED:20151022T125850Z
LAST-MODIFIED:20151022T125850Z
UID:10668-1446768000-1447027199@www.usbormiese.com
SUMMARY:Short track\, Coppa del Mondo 2015/2016 a Toronto
DESCRIPTION:Short track: Coppa del Mondo 2015/2016 \n \nDal 6 all’8 novembre 2015\nWorld Cup\, 2^ prova \nA Toronto (Can): partecipa la Squadra Nazionale \n\n  \n 
URL:https://www.usbormiese.com/event/short-track-coppa-del-mondo-20152016-a-toronto/
CATEGORIES:SHORT TRACK
ATTACH;FMTTYPE=image/jpeg:https://www.usbormiese.com/wp-content/uploads/2015/10/short-track-ita.jpg
END:VEVENT
BEGIN:VEVENT
DTSTART;VALUE=DATE:20151106
DTEND;VALUE=DATE:20151107
DTSTAMP:20260422T031404
CREATED:20151025T093535Z
LAST-MODIFIED:20151025T093535Z
UID:10842-1446768000-1446854399@www.usbormiese.com
SUMMARY:Pallavolo\, U16 femminile 2015/2016. A Bormio: Bormiese - Sondrio
DESCRIPTION:Pallavolo\, Campionato 2015/2016 Under 16 Femminile  \nUnder 16 Femminile – Girone A \nPrima Giornata \nVenerdì 6 novembre 2015\nore 20.30\nA BORMIO\nU.S. BORMIESE – NUOVA SONDRIO SPORTIVA VOLLEY A
URL:https://www.usbormiese.com/event/pallavolo-u16-femminile-20152016-a-bormio-bormiese-sondrio/
CATEGORIES:PALLAVOLO
ATTACH;FMTTYPE=image/jpeg:https://www.usbormiese.com/wp-content/uploads/2015/10/volley3.jpg
END:VEVENT
BEGIN:VEVENT
DTSTART;VALUE=DATE:20151101
DTEND;VALUE=DATE:20151102
DTSTAMP:20260422T031404
CREATED:20151026T191813Z
LAST-MODIFIED:20151026T193112Z
UID:10960-1446336000-1446422399@www.usbormiese.com
SUMMARY:Pallavolo\, U19 Maschile 2015/2016. A Regoledo di Cosio: Bormiese - Scanzorosciate
DESCRIPTION:Pallavolo\, Campionato 2015/2016 Under 19 Maschile \nUnder 19 Maschile \nSeconda Giornata \nDomenica 1 novembre 2015\nore 17.00\nA REGOLEDO DI COSIO\nU.S. BORMIESE ALLIANZ – U.S.D. SCANZOROSCIATE PALLAVOLO
URL:https://www.usbormiese.com/event/pallavolo-u19-maschile-20152016-a-regoledo-di-cosio-bormiese-scanzorosciate/
CATEGORIES:PALLAVOLO
END:VEVENT
BEGIN:VEVENT
DTSTART;VALUE=DATE:20151101
DTEND;VALUE=DATE:20151102
DTSTAMP:20260422T031404
CREATED:20151025T090635Z
LAST-MODIFIED:20151025T090635Z
UID:10830-1446336000-1446422399@www.usbormiese.com
SUMMARY:Pallavolo\, U14 femminile A 2015/2016. A Sondrio: Sondrio - Rio Scianno
DESCRIPTION:Pallavolo\, Campionato 2015/216 Under 14 Femminile – Girone A   \nSeconda Giornata \nDomenica 1 novembre 2015\nore 17.00\nA SONDRIO\nNUOVA SONDRIO SPORTIVA VOLLEY – G.S. RIO SCIANNO A
URL:https://www.usbormiese.com/event/pallavolo-u14-femminile-a-20152016-a-sondrio-sondrio-rio-scianno/
CATEGORIES:PALLAVOLO
ATTACH;FMTTYPE=image/jpeg:https://www.usbormiese.com/wp-content/uploads/2015/10/volley.jpg
END:VEVENT
BEGIN:VEVENT
DTSTART;VALUE=DATE:20151101
DTEND;VALUE=DATE:20151102
DTSTAMP:20260422T031404
CREATED:20151015T085410Z
LAST-MODIFIED:20151015T085410Z
UID:10586-1446336000-1446422399@www.usbormiese.com
SUMMARY:Calcio\, prima squadra: Bormiese vs Brivio
DESCRIPTION:Domenica 1° novembre 2015 \nPRIMA SQUADRA\nCampionato provinciale di seconda categoria \nBORMIESE vs BRIVIO\nA Bormio\, ore 14\,30
URL:https://www.usbormiese.com/event/calcio-prima-squadra-bormiese-vs-brivio/
CATEGORIES:CALCIO
ATTACH;FMTTYPE=image/jpeg:https://www.usbormiese.com/wp-content/uploads/2015/08/calcioSquadra.jpg
END:VEVENT
BEGIN:VEVENT
DTSTART;VALUE=DATE:20151101
DTEND;VALUE=DATE:20151102
DTSTAMP:20260422T031404
CREATED:20151015T085152Z
LAST-MODIFIED:20151015T085152Z
UID:10585-1446336000-1446422399@www.usbormiese.com
SUMMARY:Calcio\, Giovanissimi: Bormiese vs Grosio
DESCRIPTION:Domenica 1° novembre 215 \nCampionato provinciale GIOVANISSIMI \nBORMIESE vs GROSIO\nA Bormio\, ore 10\,30
URL:https://www.usbormiese.com/event/calcio-giovanissimi-bormiese-vs-grosio/
CATEGORIES:CALCIO
ATTACH;FMTTYPE=image/jpeg:https://www.usbormiese.com/wp-content/uploads/2015/10/calcio3.jpg
END:VEVENT
BEGIN:VEVENT
DTSTART;TZID=Europe/Rome:20151031T173000
DTEND;TZID=Europe/Rome:20151031T190000
DTSTAMP:20260422T031404
CREATED:20151007T142734Z
LAST-MODIFIED:20151007T142734Z
UID:10496-1446312600-1446318000@www.usbormiese.com
SUMMARY:CALCIO\, Allievi - A Bormio: Bormiese-Pontese
DESCRIPTION:Campionato Allievi provinciali – Fase autunnale\nA Bormio\, Bormiese-Pontese
URL:https://www.usbormiese.com/event/calcio-allievi-a-bormio-bormiese-pontese-2/
CATEGORIES:CALCIO
END:VEVENT
BEGIN:VEVENT
DTSTART;VALUE=DATE:20151031
DTEND;VALUE=DATE:20151114
DTSTAMP:20260422T031404
CREATED:20151028T154942Z
LAST-MODIFIED:20151028T154942Z
UID:11020-1446249600-1447459199@www.usbormiese.com
SUMMARY:Bocce: torneo sociale 2015
DESCRIPTION:La Bocciofila Bormio organizza\, da lunedì 2 novembre\, il TORNEO SOCIALE 2015. Il torneo è aperto ai 20 soci tesserati al settore BOCCE e ad ulteriori giocatori ad invito.\nLe iscrizioni dovranno essere regolarizzate entro SABATO 31 OTTOBRE 2015\, ore 14\,00.\nIl sorteggio verrà effettuato sempre SABATO 31 OTTOBRE 2015 alle ore 15\,00 presso il bocciodromo di Bormio.\nInizio partite LUNEDÌ 02 NOVEMBRE 2015\, ore 20\,30.\nQuote di iscrizione € 5\,00 per tutti i partecipanti (sia i soci tesserati sia i giocatori invitati) Le premiazioni con la cena sociale verranno effettuate VENERDÌ 13 NOVEMBRE 2015 (la quota di partecipazione alla cena per i NON SOCI è di € 15\,00 – gratuita per gli abbonati ai campi) \nInfo e iscrizioni: UNIONE SPORTIVA BORMIESE tel. 0342/901482 BORDONI CRISTIAN cell. 347/9476541 www.usbormiese.com e-mail: bocciofilabormio@gmail.com
URL:https://www.usbormiese.com/event/bocce-torneo-sociale-2015/
CATEGORIES:BOCCE
ATTACH;FMTTYPE=image/jpeg:https://www.usbormiese.com/wp-content/uploads/2015/07/bocce.jpg
END:VEVENT
BEGIN:VEVENT
DTSTART;VALUE=DATE:20151031
DTEND;VALUE=DATE:20151102
DTSTAMP:20260422T031404
CREATED:20151022T094040Z
LAST-MODIFIED:20151022T094040Z
UID:10663-1446249600-1446422399@www.usbormiese.com
SUMMARY:Short track: Coppa Italia 2015/2016 a Bormio
DESCRIPTION:Short Track: a Bormio la prima prova della Coppa Italia 2015/2016 \n \nSabato 31 ottobre e domenica 1° novembre 2015\nCoppa Italia\, prima prova\nBormio (Ita) – Sen/Jun A/B/C/D \n>> LOCANDINA EVENTO
URL:https://www.usbormiese.com/event/short-track-coppa-italia-20152016-a-bormio/
CATEGORIES:SHORT TRACK
ATTACH;FMTTYPE=image/jpeg:https://www.usbormiese.com/wp-content/uploads/2015/10/short-track-2.jpg
END:VEVENT
BEGIN:VEVENT
DTSTART;VALUE=DATE:20151031
DTEND;VALUE=DATE:20151101
DTSTAMP:20260422T031404
CREATED:20151025T084000Z
LAST-MODIFIED:20151025T084000Z
UID:10819-1446249600-1446335999@www.usbormiese.com
SUMMARY:Pallavolo\, U14 femminile B 2015/2016. A Bormio: Rio Scianno - Morbegno
DESCRIPTION:Pallavolo\, Campionato 2015/2016 Under 14 Femminile – Girone B \nSeconda Giornata \nSabato 31 ottobre 2015\nore 18.00\nA BORMIO\nG.S. RIO SCIANNO B – VOLLEY MORBEGNO
URL:https://www.usbormiese.com/event/pallavolo-u14-femminile-b-20152016-a-bormio-rio-scianno-morbegno/
CATEGORIES:PALLAVOLO
ATTACH;FMTTYPE=image/jpeg:https://www.usbormiese.com/wp-content/uploads/2015/10/volley.jpg
END:VEVENT
BEGIN:VEVENT
DTSTART;VALUE=DATE:20151031
DTEND;VALUE=DATE:20151101
DTSTAMP:20260422T031404
CREATED:20151014T171131Z
LAST-MODIFIED:20151014T171131Z
UID:10584-1446249600-1446335999@www.usbormiese.com
SUMMARY:Calcio\, esordienti: Tiranese - Bormiese
DESCRIPTION:Sabato 31 ottobre 2015 \nCampionato provinciale ESORDIENTI \nTIRANESE vs BORMIESE \nA Tirano\, ore 15\,00
URL:https://www.usbormiese.com/event/calcio-esordienti-tiranese-bormiese/
CATEGORIES:CALCIO
ATTACH;FMTTYPE=image/jpeg:https://www.usbormiese.com/wp-content/uploads/2015/10/calcio3.jpg
END:VEVENT
BEGIN:VEVENT
DTSTART;VALUE=DATE:20151030
DTEND;VALUE=DATE:20151102
DTSTAMP:20260422T031404
CREATED:20151022T093727Z
LAST-MODIFIED:20151022T093727Z
UID:10660-1446163200-1446422399@www.usbormiese.com
SUMMARY:Short track: Coppa del mondo 2015/2016 a Montreal
DESCRIPTION:Short track: Coppa del Mondo 2015/2016 \n \nDal 30 ottobre al 1° novembre 2015\nWorld Cup\, 1^ prova \nA Montreal (Can): partecipa la Squadra Nazionale
URL:https://www.usbormiese.com/event/short-track-coppa-del-mondo-20152016-a-montreal/
CATEGORIES:SHORT TRACK
ATTACH;FMTTYPE=image/jpeg:https://www.usbormiese.com/wp-content/uploads/2015/10/short-track-ita.jpg
END:VEVENT
BEGIN:VEVENT
DTSTART;TZID=Europe/Rome:20151025T143000
DTEND;TZID=Europe/Rome:20151025T163000
DTSTAMP:20260422T031404
CREATED:20151007T142300Z
LAST-MODIFIED:20151007T142300Z
UID:10492-1445783400-1445790600@www.usbormiese.com
SUMMARY:CALCIO\, Prima squadra - A Bormio: Bormiese-Rovagnate
DESCRIPTION:Campionato 2^ Categoria – Girone d’andata\nA Bormio\, Bormiese-Rovagnate
URL:https://www.usbormiese.com/event/calcio-prima-squadra-a-bormio-bormiese-rovagnate/
CATEGORIES:CALCIO
END:VEVENT
BEGIN:VEVENT
DTSTART;VALUE=DATE:20151025
DTEND;VALUE=DATE:20151026
DTSTAMP:20260422T031404
CREATED:20151025T090254Z
LAST-MODIFIED:20151025T090254Z
UID:10829-1445731200-1445817599@www.usbormiese.com
SUMMARY:Pallavolo\, U14 femminile A 2015/2016. A Bormio: Bormiese - Sondrio
DESCRIPTION:Pallavolo\, Campionato 2015/216 Under 14 Femminile – Girone A  \nPrima Giornata \nDomenica 25 ottobre 2015\nore 18.00\nA BORMIO\nU.S. BORMIESE OTTICA OCCHI – NUOVA SONDRIO SPORTIVA VOLLEY
URL:https://www.usbormiese.com/event/pallavolo-u14-femminile-a-20152016-a-bormio-bormiese-sondrio/
CATEGORIES:PALLAVOLO
ATTACH;FMTTYPE=image/jpeg:https://www.usbormiese.com/wp-content/uploads/2015/10/volley.jpg
END:VEVENT
BEGIN:VEVENT
DTSTART;VALUE=DATE:20151025
DTEND;VALUE=DATE:20151026
DTSTAMP:20260422T031404
CREATED:20151014T170913Z
LAST-MODIFIED:20151014T170913Z
UID:10583-1445731200-1445817599@www.usbormiese.com
SUMMARY:Calcio\, giovanissimi: Tiranese - Bormiese
DESCRIPTION:Domenica 25 ottobre 2015 \nCampionato GIOVANISSIMI \nTIRANESE vs BORMIESE\nA Tirano\, ore 10\,30
URL:https://www.usbormiese.com/event/calcio-giovanissimi-tiranese-bormiese/
CATEGORIES:CALCIO
ATTACH;FMTTYPE=image/jpeg:https://www.usbormiese.com/wp-content/uploads/2015/10/calcio3.jpg
END:VEVENT
BEGIN:VEVENT
DTSTART;VALUE=DATE:20151025
DTEND;VALUE=DATE:20151026
DTSTAMP:20260422T031404
CREATED:20150918T084404Z
LAST-MODIFIED:20150918T084404Z
UID:10319-1445731200-1445817599@www.usbormiese.com
SUMMARY:Short track: corso di avviamento al pattinaggio\, autunno 2015
DESCRIPTION:Corso di avviamento al pattinaggio autunno 2015 \nLA BORMIO GHIACCIO INVITA TUTTI I BAMBINI A PROVARE L’EMOZIONE DEL PATTINAGGIO CON IL CORSO DI AVVIAMENTO IN PROGRAMMA DAL 26 SETTEMBRE AL 25 OTTOBRE.\nAL TERMINE DEI CORSI POTRANNO ENTRARE A FAR PARTE DELLE SQUADRE E PARTECIPARE ALLE GARE IN PROGRAMMA NEL CORSO DELLA STAGIONE 2015/2016 \nProgramma \n\nDomenica 25 ottobre 2015\, dalle 18.00 alle 19.00
URL:https://www.usbormiese.com/event/short-track-corso-di-avviamento-al-pattinaggio-autunno-2015-8/
CATEGORIES:SHORT TRACK
ATTACH;FMTTYPE=image/jpeg:https://www.usbormiese.com/wp-content/uploads/2015/09/short-track-1.jpg
END:VEVENT
BEGIN:VEVENT
DTSTART;VALUE=DATE:20151025
DTEND;VALUE=DATE:20151026
DTSTAMP:20260422T031404
CREATED:20150618T172405Z
LAST-MODIFIED:20150618T172405Z
UID:8181-1445731200-1445817599@www.usbormiese.com
SUMMARY:Corsa in montagna: 58° trofeo Vanoni a Morbegno
DESCRIPTION:Domenica 25 ottobre 2015 58° Trofeo Vanoni a MORBEGNO  \nTROFEO VANONI\nGara di Corsa in Montagna Internazionale \nCategorie: TUTTE \n58° TROFEO EZIO VANONI – gara internazionale TOP di corsa in montagna a staffetta a 3 elementi maschile (7 km)\n33° VANONI FEMMINILE – gara internazionale di corsa in montagna individuale femminile (5 km)\n38° MINIVANONI gara nazionale di corsa in montagna individuale giovanile m/f \nIscrizioni entro le ore 12 di giovedì 22 ottobre\nOre 9.00 partenza gare Es A/rag/cad/all m/f\nOre 11.00 partenza gara a individuale Donne (jun/pro/sen/mas f)\nOre 14.00 partenza gara a staffetta Uomini (jun/pro/sen/mas m)\nOre 17.30 premiazioni \nOrg. G.S. CSI Morbegno IVC Rovagnati\nTel e fax 0342-637225\nResp. Org. Giovanni Ruffoni (cell. 340/4606881)\nMail: info@gscsimorbegno.org\nInfo: www.gscsimorbegno.org
URL:https://www.usbormiese.com/event/corsa-in-montagna-58-trofeo-vanoni-a-morbegno/
CATEGORIES:ATLETICA
ATTACH;FMTTYPE=image/jpeg:https://www.usbormiese.com/wp-content/uploads/2015/06/atleticaAd.jpg
END:VEVENT
BEGIN:VEVENT
DTSTART;TZID=Europe/Rome:20151024T173000
DTEND;TZID=Europe/Rome:20151024T190000
DTSTAMP:20260422T031404
CREATED:20151007T142647Z
LAST-MODIFIED:20151007T142647Z
UID:10495-1445707800-1445713200@www.usbormiese.com
SUMMARY:CALCIO\, Allievi - A Bormio: Bormiese-PentaPiateda
DESCRIPTION:Campionato Allievi provinciali – Fase autunnale\nA Bormio\, Bormiese-PentaPiateda
URL:https://www.usbormiese.com/event/calcio-allievi-a-bormio-bormiese-pentapiateda/
CATEGORIES:CALCIO
END:VEVENT
BEGIN:VEVENT
DTSTART;VALUE=DATE:20151024
DTEND;VALUE=DATE:20151025
DTSTAMP:20260422T031404
CREATED:20151014T170708Z
LAST-MODIFIED:20151014T170708Z
UID:10582-1445644800-1445731199@www.usbormiese.com
SUMMARY:Calcio\, esordienti: Bormiese - Grosio
DESCRIPTION:Sabato 24 ottobre 2015 \nCampionato provinciale ESORDIENTI \nBORMIESE vs GROSIO\nA Bormio\, ore 15\,30
URL:https://www.usbormiese.com/event/calcio-esordienti-bormiese-grosio/
CATEGORIES:CALCIO
ATTACH;FMTTYPE=image/jpeg:https://www.usbormiese.com/wp-content/uploads/2015/10/calcio3.jpg
END:VEVENT
BEGIN:VEVENT
DTSTART;VALUE=DATE:20151024
DTEND;VALUE=DATE:20151025
DTSTAMP:20260422T031404
CREATED:20151014T170407Z
LAST-MODIFIED:20151014T170407Z
UID:10580-1445644800-1445731199@www.usbormiese.com
SUMMARY:Calcio\, primi calci: raggruppamento di Grosio
DESCRIPTION:Sabato 24 ottobre 2015 \nPRIMI CALCI\nRAGGRUPPAMENTO di GROSIO \nCampo comunale di Grosio
URL:https://www.usbormiese.com/event/calcio-primi-calci-raggruppamento-di-grosio/
CATEGORIES:CALCIO
ATTACH;FMTTYPE=image/jpeg:https://www.usbormiese.com/wp-content/uploads/2015/10/calcio4.jpg
END:VEVENT
BEGIN:VEVENT
DTSTART;VALUE=DATE:20151023
DTEND;VALUE=DATE:20151026
DTSTAMP:20260422T031404
CREATED:20151022T091314Z
LAST-MODIFIED:20151022T091314Z
UID:10658-1445558400-1445817599@www.usbormiese.com
SUMMARY:Short track: circuito Star Class a Torino
DESCRIPTION:Short track\, circuito Star Cass  \nDal 23 al 25 ottobre 2015\nStar Class 1 (junior C/D) \nA Torino (Ita) per le categorie Junior C/D
URL:https://www.usbormiese.com/event/short-track-circuito-star-class-a-torino/
CATEGORIES:SHORT TRACK
ATTACH;FMTTYPE=image/jpeg:https://www.usbormiese.com/wp-content/uploads/2015/10/short-track.jpg
END:VEVENT
BEGIN:VEVENT
DTSTART;VALUE=DATE:20151023
DTEND;VALUE=DATE:20151024
DTSTAMP:20260422T031404
CREATED:20151014T165604Z
LAST-MODIFIED:20151014T165604Z
UID:10579-1445558400-1445644799@www.usbormiese.com
SUMMARY:Calcio\, pulcini: Bormiese - Livigno
DESCRIPTION:Venerdì 23 ottobre 2015 \nTornei categoria PULCINI \nBORMIESE vs LIVIGNO\na Bormio\, ore 15\,00
URL:https://www.usbormiese.com/event/calcio-pulcini-bormiese-livigno/
CATEGORIES:CALCIO
ATTACH;FMTTYPE=image/jpeg:https://www.usbormiese.com/wp-content/uploads/2015/10/calcio3.jpg
END:VEVENT
BEGIN:VEVENT
DTSTART;VALUE=DATE:20151022
DTEND;VALUE=DATE:20151023
DTSTAMP:20260422T031404
CREATED:20151022T155244Z
LAST-MODIFIED:20151022T155244Z
UID:10675-1445472000-1445558399@www.usbormiese.com
SUMMARY:Short track\, Trofeo Interregionale a Bormio
DESCRIPTION:A Bormio si sfidano i giovanissimi Sabato 19 dicembre 2015\, alle 14.30\, al palazzo del ghiaccio di Bormio\nOrganizzato dalla Bormio Ghiaccio\nè in programma la prima prova del Trofeo Interregionale\nper le categorie Junior E/F & promozionale
URL:https://www.usbormiese.com/event/short-track-trofeo-interregionale-a-bormio/
CATEGORIES:SHORT TRACK
ATTACH;FMTTYPE=image/jpeg:https://www.usbormiese.com/wp-content/uploads/2015/09/short-track-1.jpg
END:VEVENT
BEGIN:VEVENT
DTSTART;TZID=Europe/Rome:20151018T153000
DTEND;TZID=Europe/Rome:20151018T173000
DTSTAMP:20260422T031404
CREATED:20151007T142200Z
LAST-MODIFIED:20151007T142200Z
UID:10491-1445182200-1445189400@www.usbormiese.com
SUMMARY:CALCIO\, Prima squadra - A Sondrio: Pontese-Bormiese
DESCRIPTION:Campionato 2^ Categoria – Girone d’andata\nA Sondrio\, Pontese-Bormiese
URL:https://www.usbormiese.com/event/calcio-prima-squadra-a-sondrio-pontese-bormiese/
CATEGORIES:CALCIO
END:VEVENT
BEGIN:VEVENT
DTSTART;VALUE=DATE:20151018
DTEND;VALUE=DATE:20151019
DTSTAMP:20260422T031404
CREATED:20151013T114813Z
LAST-MODIFIED:20151013T114813Z
UID:10556-1445126400-1445212799@www.usbormiese.com
SUMMARY:Calcio\, pulcini: Bormiese A/B - Grosio A/B
DESCRIPTION:PULCINI\nDomenica\, 18 ottobre 2015 Bormio ore 14\,30 \nBORMIESE A/B – GROSIO A/B
URL:https://www.usbormiese.com/event/calcio-pulcini-bormiese-ab-grosio-ab/
CATEGORIES:CALCIO
ATTACH;FMTTYPE=image/jpeg:https://www.usbormiese.com/wp-content/uploads/2015/10/calcio3.jpg
END:VEVENT
BEGIN:VEVENT
DTSTART;VALUE=DATE:20151018
DTEND;VALUE=DATE:20151019
DTSTAMP:20260422T031404
CREATED:20151013T114639Z
LAST-MODIFIED:20151013T114639Z
UID:10555-1445126400-1445212799@www.usbormiese.com
SUMMARY:Calcio\, Giovanissimi: Bormiese - Livigno
DESCRIPTION:GIOVANISSIMI\nDomenica\, 18 ottobre 2015 Bormio ore 10\,30 \nBORMIESE – LIVIGNO
URL:https://www.usbormiese.com/event/calcio-giovanissimi-bormiese-livigno/
CATEGORIES:CALCIO
ATTACH;FMTTYPE=image/jpeg:https://www.usbormiese.com/wp-content/uploads/2015/10/calcio3.jpg
END:VEVENT
BEGIN:VEVENT
DTSTART;VALUE=DATE:20151018
DTEND;VALUE=DATE:20151019
DTSTAMP:20260422T031404
CREATED:20150918T084301Z
LAST-MODIFIED:20150918T084301Z
UID:10318-1445126400-1445212799@www.usbormiese.com
SUMMARY:Short track: corso di avviamento al pattinaggio\, autunno 2015
DESCRIPTION:Corso di avviamento al pattinaggio autunno 2015 \nLA BORMIO GHIACCIO INVITA TUTTI I BAMBINI A PROVARE L’EMOZIONE DEL PATTINAGGIO CON IL CORSO DI AVVIAMENTO IN PROGRAMMA DAL 26 SETTEMBRE AL 25 OTTOBRE.\nAL TERMINE DEI CORSI POTRANNO ENTRARE A FAR PARTE DELLE SQUADRE E PARTECIPARE ALLE GARE IN PROGRAMMA NEL CORSO DELLA STAGIONE 2015/2016 \nProgramma \n\nDomenica 18 ottobre 2015\, dalle 18.00 alle 19.00\nDomenica 25 ottobre 2015\, dalle 18.00 alle 19.00
URL:https://www.usbormiese.com/event/short-track-corso-di-avviamento-al-pattinaggio-autunno-2015-7/
CATEGORIES:SHORT TRACK
ATTACH;FMTTYPE=image/jpeg:https://www.usbormiese.com/wp-content/uploads/2015/09/short-track-1.jpg
END:VEVENT
BEGIN:VEVENT
DTSTART;VALUE=DATE:20151018
DTEND;VALUE=DATE:20151019
DTSTAMP:20260422T031404
CREATED:20150618T161607Z
LAST-MODIFIED:20150618T161607Z
UID:8180-1445126400-1445212799@www.usbormiese.com
SUMMARY:Atletica: a Grosio il Giro dei 5 Campanili 2015
DESCRIPTION:Domenica 18 ottobre 2015 11° Giro dei 5 Campanili a GROSIO  \n11^ Ed. GIRO DEI 5 CAMPANILI\nGara di corsa in Montagna Provinciale \nGROSIO \nCategorie: J/P/S/M \nRitrovo ore 7.30\,\nChiusura iscrizioni 9.00\nInizio gare ore 9.30. \nOrg.. G.P. Rupe Magna\nResp. Org.: Franzini Andrea (347/9955895)
URL:https://www.usbormiese.com/event/atletica-a-grosio-il-giro-dei-5-campanili-2015/
CATEGORIES:ATLETICA
ATTACH;FMTTYPE=image/jpeg:https://www.usbormiese.com/wp-content/uploads/2015/06/atleticaAd.jpg
END:VEVENT
BEGIN:VEVENT
DTSTART;TZID=Europe/Rome:20151017T173000
DTEND;TZID=Europe/Rome:20151017T190000
DTSTAMP:20260422T031404
CREATED:20151007T142521Z
LAST-MODIFIED:20151007T142546Z
UID:10494-1445103000-1445108400@www.usbormiese.com
SUMMARY:CALCIO\, Allievi - A Sondalo: Sondalo-Bormiese
DESCRIPTION:Campionato Allievi provinciali – Fase autunnale\nA Sondalo\, Sondalo-Bormiese
URL:https://www.usbormiese.com/event/calcio-allievi-a-sondalo-sondalo-bormiese/
CATEGORIES:CALCIO
END:VEVENT
BEGIN:VEVENT
DTSTART;VALUE=DATE:20151017
DTEND;VALUE=DATE:20151018
DTSTAMP:20260422T031404
CREATED:20151014T165122Z
LAST-MODIFIED:20151014T165122Z
UID:10578-1445040000-1445126399@www.usbormiese.com
SUMMARY:Calcio\, esordienti: Polisportiva Villa vs Bormiese
DESCRIPTION:Sabato 17 ottobre 2015 \nCampionato provinciale ESORDIENTI\nPOLISPORTIVA VILLA VS BORMIESE \nA Stazzona\, ore 15\,00
URL:https://www.usbormiese.com/event/calcio-esordienti-polisportiva-villa-vs-bormiese/
CATEGORIES:CALCIO
ATTACH;FMTTYPE=image/jpeg:https://www.usbormiese.com/wp-content/uploads/2015/10/calcio3.jpg
END:VEVENT
END:VCALENDAR