BEGIN:VCALENDAR
VERSION:2.0
PRODID:-//Unione Sportiva Bormiese - ECPv6.8.2.1//NONSGML v1.0//EN
CALSCALE:GREGORIAN
METHOD:PUBLISH
X-ORIGINAL-URL:https://www.usbormiese.com
X-WR-CALDESC:Eventi per Unione Sportiva Bormiese
REFRESH-INTERVAL;VALUE=DURATION:PT1H
X-Robots-Tag:noindex
X-PUBLISHED-TTL:PT1H
BEGIN:VTIMEZONE
TZID:Europe/Rome
BEGIN:DAYLIGHT
TZOFFSETFROM:+0100
TZOFFSETTO:+0200
TZNAME:CEST
DTSTART:20150329T010000
END:DAYLIGHT
BEGIN:STANDARD
TZOFFSETFROM:+0200
TZOFFSETTO:+0100
TZNAME:CET
DTSTART:20151025T010000
END:STANDARD
END:VTIMEZONE
BEGIN:VEVENT
DTSTART;VALUE=DATE:20150919
DTEND;VALUE=DATE:20150920
DTSTAMP:20260422T131913
CREATED:20150911T090512Z
LAST-MODIFIED:20150923T062821Z
UID:10130-1442620800-1442707199@www.usbormiese.com
SUMMARY:Sabato 19 settembre 2015: la Strafadiga\, 14^ edizione
DESCRIPTION:E’ in programma sabato 19 settembre 2015 la 14^ edizione della Strafadiga\, la prova a coppie non competitiva di nordic walking che si disputa sui 58 tornanti per 712 metri di dislivello del sentiero della Croce della Reit.\nLa manifestazione\, organizzata dall’Unione Sportiva Bormiese e dallo Sci Club Alta Valtellina SkiAlp ricorda Federico Valgoi\, il giovane di Bormio tragicamente scomparso proprio 15 anni per un incidente in montagna. I suoi amici\, gli allenatori dello Sci Club Bormio e gli sportivi di tutta la provincia lo ricordano con un evento decisamente spettacolare che – ricordano i promotori – si svolgerà con ogni condizione meteo.\nIl programma prevede il raduno al bivio tra la “pedemontana della Reit” e il sentiero della Croce della Reit alle 14.30; alle 14.30 la partenza della prima coppia. \nPer i dettagli vedi la locandina allegata \nClassifiche\ninfo@usbormiese.com
URL:https://www.usbormiese.com/event/sabato-19-settembre-2015-la-strafadiga-14-edizione/
ATTACH;FMTTYPE=image/jpeg:https://www.usbormiese.com/wp-content/uploads/2015/09/strafadiga2015_box.jpg
END:VEVENT
BEGIN:VEVENT
DTSTART;TZID=Europe/Rome:20150913T153000
DTEND;TZID=Europe/Rome:20150913T173000
DTSTAMP:20260422T131913
CREATED:20150907T110135Z
LAST-MODIFIED:20150907T110135Z
UID:10093-1442158200-1442165400@www.usbormiese.com
SUMMARY:CALCIO\, Prima squadra - A Bormio: Bormiese-Piantedo
DESCRIPTION:Campionato 2^ Categoria – Girone d’andata\nA Bormio\, Bormiese-Piantedo
URL:https://www.usbormiese.com/event/calcio-prima-squadra-a-bormio-bormiese-piantedo/
END:VEVENT
BEGIN:VEVENT
DTSTART;TZID=Europe/Rome:20150913T110000
DTEND;TZID=Europe/Rome:20150913T123000
DTSTAMP:20260422T131913
CREATED:20150907T105727Z
LAST-MODIFIED:20150907T105727Z
UID:10089-1442142000-1442147400@www.usbormiese.com
SUMMARY:CALCIO\, Giovanissimi - A Livigno: Livigno-Bormiese
DESCRIPTION:Campionato provinciale Giovanissimi – Fase Autunnale\nA Livigno\, Livigno-Bormiese
URL:https://www.usbormiese.com/event/calcio-giovanissimi-a-livigno-livigno-bormiese-3/
END:VEVENT
BEGIN:VEVENT
DTSTART;VALUE=DATE:20150913
DTEND;VALUE=DATE:20150914
DTSTAMP:20260422T131913
CREATED:20150618T101543Z
LAST-MODIFIED:20150618T101543Z
UID:8173-1442102400-1442188799@www.usbormiese.com
SUMMARY:Corsa in montagna: 30^ edizione della Fusino - Malghera
DESCRIPTION:Domenica 13 settembre 2015\, 30a edizione della FUSINO-MALGHERA\, gara di Corsa in Montagna Provinciale  \nGROSIO – Località Fusino \nCategorie: J/P/S/M \nRitrovo ore 7.30\nChiusura iscrizioni 8.45\nInizio gare ore 9.10. \nOrg.. G.P. Rupe Magna\nResp. Org.: Franzini Andrea (347/9955895)
URL:https://www.usbormiese.com/event/corsa-in-montagna-30-edizione-della-fusino-malghera/
CATEGORIES:ATLETICA
ATTACH;FMTTYPE=image/jpeg:https://www.usbormiese.com/wp-content/uploads/2015/06/corsainmontagna.jpg
END:VEVENT
BEGIN:VEVENT
DTSTART;VALUE=DATE:20150913
DTEND;VALUE=DATE:20150914
DTSTAMP:20260422T131913
CREATED:20150614T103033Z
LAST-MODIFIED:20150614T103033Z
UID:8134-1442102400-1442188799@www.usbormiese.com
SUMMARY:Ciclismo: a Bianzone\, Trofeo La Bratta\, Trofeo Scalatore 2015
DESCRIPTION:Domenica 13 settembre 2015 a Bianzone è in programma l’8^ prova del Trofeo Provinciale dello scalatore 2015   \nDettagli\, informazioni ed iscrizioni su \nhttp://www.ciclistivaltellinesi.it/trofeo-dello-scalatore.html
URL:https://www.usbormiese.com/event/ciclismo-a-bianzone-trofeo-la-bratta-trofeo-scalatore-2015/
CATEGORIES:CICLISMO
ATTACH;FMTTYPE=image/jpeg:https://www.usbormiese.com/wp-content/uploads/2015/06/ciclismo1.jpg
END:VEVENT
BEGIN:VEVENT
DTSTART;TZID=Europe/Rome:20150912T173000
DTEND;TZID=Europe/Rome:20150912T193000
DTSTAMP:20260422T131913
CREATED:20150907T105332Z
LAST-MODIFIED:20150907T105332Z
UID:10086-1442079000-1442086200@www.usbormiese.com
SUMMARY:CALCIO\, Allievi - A Bormio: Bormiese-Sondalo
DESCRIPTION:Campionato provinciale Allievi – Fase Autunnale\nA Bormio\, Bormiese-Sondalo
URL:https://www.usbormiese.com/event/calcio-allievi-a-bormio-bormiese-sondalo/
CATEGORIES:CALCIO
END:VEVENT
BEGIN:VEVENT
DTSTART;VALUE=DATE:20150912
DTEND;VALUE=DATE:20150913
DTSTAMP:20260422T131913
CREATED:20150618T101313Z
LAST-MODIFIED:20150618T101313Z
UID:8172-1442016000-1442102399@www.usbormiese.com
SUMMARY:Atletica: a Chiuro IX riunione provinciale in pista
DESCRIPTION:Sabato 12 settembre 2015\, a Chiuro\, IX riunione provinciale in pista \nIX RIUNIONE PROVINCIALE SU PISTA\nCHIURO – centro sportivo comunale \nCategorie: R/C/A/J/P/S/M \nRitrovo ore 15\nChiusura Iscrizioni ore 15\,30\nInizio gare ore .16 \nProgramma Gare:\nRAG M/F: 60-alto-peso gomma\nCAD M/F: 80-600-alto-giavellotto gr600\nALL M/F: 200-triplo-800-peso\nJ/P/S/MAS M/F: 200-triplo-800-peso \nOrg Pentacom\nRaffaella Riva 3383611126\nPiccinali Mauro 3388479897\ne-mail :a.s.pentacom@libero.it
URL:https://www.usbormiese.com/event/atletica-a-chiuro-ix-riunione-provinciale-in-pista/
CATEGORIES:ATLETICA
ATTACH;FMTTYPE=image/jpeg:https://www.usbormiese.com/wp-content/uploads/2015/06/atletica1.jpg
END:VEVENT
BEGIN:VEVENT
DTSTART;VALUE=DATE:20150912
DTEND;VALUE=DATE:20150913
DTSTAMP:20260422T131913
CREATED:20150614T102650Z
LAST-MODIFIED:20150614T102650Z
UID:8132-1442016000-1442102399@www.usbormiese.com
SUMMARY:Mtb: a Livigno Enduro Cup 2015
DESCRIPTION:Sabato 12 e domenica 13 settembre 2015 a Livigno  \nMTB Enduro Cup Lombardia \nTutti i dettagli su \nhttp://www.endurocuplombardia.it/site/
URL:https://www.usbormiese.com/event/mtb-a-livigno-enduro-cup-2015/
CATEGORIES:MOUNTAIN BIKE
ATTACH;FMTTYPE=image/jpeg:https://www.usbormiese.com/wp-content/uploads/2015/06/mtbEnduro.jpg
END:VEVENT
BEGIN:VEVENT
DTSTART;VALUE=DATE:20150910
DTEND;VALUE=DATE:20150911
DTSTAMP:20260422T131913
CREATED:20150831T091710Z
LAST-MODIFIED:20150911T090532Z
UID:10033-1441843200-1441929599@www.usbormiese.com
SUMMARY:Podismo & atletica\, Bormio: "staffette ad inseguimento"
DESCRIPTION:Staffette ad inseguimento. Centro sportivo di Bormio: 10 settembre 2015\, ore 18.30  \nAl termine del Circuito Podistico delle Valli 2015\, l’US Bormiese ha organizzato (giovedì 10 settembre 2015\, alle 18.30) la kermesse “staffette ad inseguimento”.\nLa manifestazione podistica prevede l’effettuazione di una prova su un percorso di 200 mt. solo per la categoria BABY F e M. Successivamente i concorrenti iscritti delle altre categorie verranno inseriti in due distinte staffette.\nLe due staffette partiranno contemporaneamente (una staffetta sulla classica linea di partenza della pista di atletica\, l’altra staffetta ai 200 metri). La prova verrà effettuata con il sistema ad inseguimento. Ciascun concorrente effettuerà un giro completo di pista\, dando poi il cambio con il testimone al successivo concorrente della propria squadra.\nVincerà la staffetta che terminerà per prima la prova. \nLA LOCANDINA
URL:https://www.usbormiese.com/event/podismo-atletica-bormio-staffette-ad-inseguimento/
CATEGORIES:ATLETICA
ATTACH;FMTTYPE=image/jpeg:https://www.usbormiese.com/wp-content/uploads/2015/06/atletica1.jpg
END:VEVENT
BEGIN:VEVENT
DTSTART;VALUE=DATE:20150906
DTEND;VALUE=DATE:20150907
DTSTAMP:20260422T131913
CREATED:20150831T083619Z
LAST-MODIFIED:20150831T092117Z
UID:10031-1441497600-1441583999@www.usbormiese.com
SUMMARY:Calcio\, campionato 2015/2016 di seconda categoria: Grosio - Bormiese
DESCRIPTION:Calcio\, campionato 2015/2016 di seconda categoria  \nDomenica 6 settembre 2015\, ore 15.30 \nA Grosio\, \nGrosio – Bormiese
URL:https://www.usbormiese.com/event/calcio-campionato-20152016-di-seconda-categoria-grosio-bormiese/
CATEGORIES:CALCIO
ATTACH;FMTTYPE=image/jpeg:https://www.usbormiese.com/wp-content/uploads/2015/08/calcioSquadra.jpg
END:VEVENT
BEGIN:VEVENT
DTSTART;VALUE=DATE:20150906
DTEND;VALUE=DATE:20150907
DTSTAMP:20260422T131913
CREATED:20150618T101018Z
LAST-MODIFIED:20150618T101018Z
UID:8171-1441497600-1441583999@www.usbormiese.com
SUMMARY:Corsa in montagna: ad Albosaggia\, Trofeo Giugni 2015
DESCRIPTION:Domenica 6 settembre 2015\, ad Albosaggia\, 22° TROFEO GIUGNI\, gara di corsa in Montagna Provinciale  \nALBOSAGGIA – Loc. Moia \nCategorie: J/P/S/M \nRitrovo ore 8.30\,\nChiusura Iscrizioni ore 9.00\nInizio gare ore 9.45. \nOrg . Pol Albosaggia\nResp. org: Cristini Gianluca\ntel. 0343.893117 fax . 0343.893117\nwww.polalbosaggia.com
URL:https://www.usbormiese.com/event/corsa-in-montagna-ad-albosaggia-trofeo-giugni-2015/
CATEGORIES:ATLETICA
ATTACH;FMTTYPE=image/jpeg:https://www.usbormiese.com/wp-content/uploads/2015/06/corsainmontagna.jpg
END:VEVENT
BEGIN:VEVENT
DTSTART;VALUE=DATE:20150906
DTEND;VALUE=DATE:20150907
DTSTAMP:20260422T131913
CREATED:20150614T101722Z
LAST-MODIFIED:20150614T101722Z
UID:8131-1441497600-1441583999@www.usbormiese.com
SUMMARY:Ciclismo: a Postalesio\, Trofeo Industria e Commercio
DESCRIPTION:Domenica 6 settembre 2015 a Postalesio\, Trofeo Industria e Commercio\, 3^ prova campionato Provinciale  \nInfo e iscrizioni \nhttp://www.ciclistivaltellinesi.it/calendario.php
URL:https://www.usbormiese.com/event/ciclismo-a-postalesio-trofeo-industria-e-commercio/
CATEGORIES:CICLISMO
ATTACH;FMTTYPE=image/jpeg:https://www.usbormiese.com/wp-content/uploads/2015/06/ciclismo3.jpg
END:VEVENT
BEGIN:VEVENT
DTSTART;VALUE=DATE:20150906
DTEND;VALUE=DATE:20150907
DTSTAMP:20260422T131913
CREATED:20150614T085006Z
LAST-MODIFIED:20150614T085006Z
UID:8119-1441497600-1441583999@www.usbormiese.com
SUMMARY:Mountain bike: a Grosio Circuiito Asso Bike Giovanissimi 2015
DESCRIPTION:Domenica 6 settembre 2015 tappa del Circuito ASSO BIKE Lombardia a Grosio  \nRegionale – Giovanile – GIOVANISSIMI \nTipo Calendario: GIOVANILE \nTipo Gara: Crosscountry Giovanile \nOrganizzatore\nASSOCIAZIONE SPORTIVA DILETTANTISTICA GROSIO CICLISMO VIA ROMA 2 23033 GROSIO SO \nTelefono: 0342847272 \nEMail: FRANCESCO.QUETTI@ALICE.IT
URL:https://www.usbormiese.com/event/mountain-bike-a-grosio-circuiito-asso-bike-giovanissimi-2015/
CATEGORIES:MOUNTAIN BIKE
ATTACH;FMTTYPE=image/jpeg:https://www.usbormiese.com/wp-content/uploads/2015/06/mtbJun.jpg
END:VEVENT
BEGIN:VEVENT
DTSTART;VALUE=DATE:20150903
DTEND;VALUE=DATE:20150904
DTSTAMP:20260422T131913
CREATED:20150618T100716Z
LAST-MODIFIED:20150831T080748Z
UID:8170-1441238400-1441324799@www.usbormiese.com
SUMMARY:Atletica: a Chiuro edizione 2015 della "serata delle siepi e del mezzofondo"
DESCRIPTION:Giovedì 3 settembre 2015\, a Chiuro\, è in programma la Serata delle siepi e del mezzofondo\nSERATA DELLE SIEPI E MEZZOFONDO \nGara regionale di atletica leggera su pista\nCATEGORIE: Ragazzi/Cadetti/Allievi/Junior/Promesse/Senior/Master m/f\nRitrovo ore 18:00\nInizio gare ore 19:00\nPROGRAMMA GARE:\nRAG M/F: 1000\nCAD M/F: 2000 – 1200st\nALL M/F: 3000 – 2000st\nJ/P/S/MAS F: 3000 – 2000st\nJ/P/S/MAS M: 3000 – 3000st\nOrganizzazione: GP VALCHIAVENNA\nPer informazioni: Tel. 0343/35657\, Cell. 347/6076920\, info@gpvalchiavenna.it\nSito: info@gpvalchiavenna.it
URL:https://www.usbormiese.com/event/atletica-a-chiuro-edizione-2015-della-serata-delle-siepi-e-del-mezzofondo/
CATEGORIES:ATLETICA
ATTACH;FMTTYPE=image/jpeg:https://www.usbormiese.com/wp-content/uploads/2015/06/atletica1.jpg
END:VEVENT
BEGIN:VEVENT
DTSTART;VALUE=DATE:20150830
DTEND;VALUE=DATE:20150831
DTSTAMP:20260422T131913
CREATED:20150614T101118Z
LAST-MODIFIED:20150614T101226Z
UID:8130-1440892800-1440979199@www.usbormiese.com
SUMMARY:Ciclismo: Trofeo Alpe Teglio\, 7^ prova trofeo dello Scalatore 2015
DESCRIPTION:A Teglio\, domenica 30 agosto 2015\, settima tappa del Trofeo dello Scalatore 2015  \nOrganizzazione US Acli \nInfo e iscrizioni \nhttp://www.ciclistivaltellinesi.it/trofeo-dello-scalatore.html
URL:https://www.usbormiese.com/event/ciclismo-trofeo-alpe-teglio-7-prova-trofeo-dello-scalatore-2015/
CATEGORIES:CICLISMO
ATTACH;FMTTYPE=image/jpeg:https://www.usbormiese.com/wp-content/uploads/2015/06/ciclismo1.jpg
END:VEVENT
BEGIN:VEVENT
DTSTART;VALUE=DATE:20150828
DTEND;VALUE=DATE:20150829
DTSTAMP:20260422T131913
CREATED:20150602T091906Z
LAST-MODIFIED:20150831T091749Z
UID:7972-1440720000-1440806399@www.usbormiese.com
SUMMARY:Circuito podistico delle valli 2015: a Sondalo\, i Girinpista
DESCRIPTION:28 AGOSTO 2015 – GIRINPISTA – Sondalo \n6^ e ultima prova del circuito podistico delle valli – Prova di podismo in pista\nOrganizzazione Unione Sportiva Bormiese\nInfo e iscrizioni: Unione Sportiva Bormiese tel. 0342/901482
URL:https://www.usbormiese.com/event/circuito-podistico-delle-valli-2015-a-sondalo-i-girinpista/
CATEGORIES:ATLETICA,MANIFESTAZIONI
ATTACH;FMTTYPE=image/jpeg:https://www.usbormiese.com/wp-content/uploads/2014/08/circuitoPistaSondalo.jpg
END:VEVENT
BEGIN:VEVENT
DTSTART;VALUE=DATE:20150826
DTEND;VALUE=DATE:20150827
DTSTAMP:20260422T131913
CREATED:20150806T094754Z
LAST-MODIFIED:20150806T094754Z
UID:9731-1440547200-1440633599@www.usbormiese.com
SUMMARY:Scuola Calcio Alta Valtellina Estate 2015
DESCRIPTION:Scuola Calcio Alta Valtellina Estate 2015 \n \nOrganizzata da Unione Sportiva Bormiese\, Gruppo Sportivo Rio Scianno\, Polisportiva Valfurva e Amici dello Sport di Valdisotto\, si svolge nei mesi di maggio\, giugno\, luglio ed agosto la “scuola calcio Alta Valtellina”. \nNel mese di AGOSTO l’attività si svolge sul campo di Santa Lucia in Valdisotto secondo il calendario indicato sotto e nell’agenda \nIL PROGRAMMA DEL MESE DI AGOSTO 2015\nPer iscrizioni rivolgersi direttamente agli uffici dell’US Bormiese.\nVedi indicazioni nella brochure allegata
URL:https://www.usbormiese.com/event/scuola-calcio-alta-valtellina-estate-2015-30/
CATEGORIES:CALCIO
ATTACH;FMTTYPE=image/jpeg:https://www.usbormiese.com/wp-content/uploads/2015/08/scuolaCalcio.jpg
END:VEVENT
BEGIN:VEVENT
DTSTART;VALUE=DATE:20150824
DTEND;VALUE=DATE:20150825
DTSTAMP:20260422T131913
CREATED:20150806T094646Z
LAST-MODIFIED:20150806T094646Z
UID:9730-1440374400-1440460799@www.usbormiese.com
SUMMARY:Scuola Calcio Alta Valtellina Estate 2015
DESCRIPTION:Scuola Calcio Alta Valtellina Estate 2015 \n \nOrganizzata da Unione Sportiva Bormiese\, Gruppo Sportivo Rio Scianno\, Polisportiva Valfurva e Amici dello Sport di Valdisotto\, si svolge nei mesi di maggio\, giugno\, luglio ed agosto la “scuola calcio Alta Valtellina”. \nNel mese di AGOSTO l’attività si svolge sul campo di Santa Lucia in Valdisotto secondo il calendario indicato sotto e nell’agenda \nIL PROGRAMMA DEL MESE DI AGOSTO 2015\nPer iscrizioni rivolgersi direttamente agli uffici dell’US Bormiese.\nVedi indicazioni nella brochure allegata
URL:https://www.usbormiese.com/event/scuola-calcio-alta-valtellina-estate-2015-29/
CATEGORIES:CALCIO
ATTACH;FMTTYPE=image/jpeg:https://www.usbormiese.com/wp-content/uploads/2015/08/scuolaCalcio.jpg
END:VEVENT
BEGIN:VEVENT
DTSTART;VALUE=DATE:20150823
DTEND;VALUE=DATE:20150830
DTSTAMP:20260422T131913
CREATED:20150721T155508Z
LAST-MODIFIED:20150721T155508Z
UID:9594-1440288000-1440892799@www.usbormiese.com
SUMMARY:Bormio Calcio Estate 2015: ritiro Ausonia
DESCRIPTION:Dal 23 al 29  agosto 2015\, sul campo del centro sportivo di Bormio\, è in programma il ritiro precampionato del settore giovanile dell’Ausonia Calcio \nUlteriori informazioni sul sito della società \nhttp://www.ausonia1931.net/
URL:https://www.usbormiese.com/event/bormio-calcio-estate-2015-ritiro-ausonia/
CATEGORIES:CALCIO
ATTACH;FMTTYPE=image/jpeg:https://www.usbormiese.com/wp-content/uploads/2015/07/calcioEstate.jpg
END:VEVENT
BEGIN:VEVENT
DTSTART;VALUE=DATE:20150823
DTEND;VALUE=DATE:20150824
DTSTAMP:20260422T131913
CREATED:20150618T100332Z
LAST-MODIFIED:20150618T100332Z
UID:8169-1440288000-1440374399@www.usbormiese.com
SUMMARY:Corsa in montagna: 31^ edizione della Rasura - Bar Bianco
DESCRIPTION:Domenica 23 agosto 2015 è in programma la 31^ Rasura-Bar Bianco\, gara di corsa in Montagna Regionale  \nRASURA – Polifunzionale Via Foppa \nCategorie: J/P/S/M \n4° prova Campionato Regionale di Società J/P/S M/F \nRitrovo ore 8.00\,\nInizio gare ore 10.00. \nOrg. G.S. Valgerola\ntel. 3394034813 (Piganzoli)\ne-mail: info@gsvalgerola.it – www.gsvalgerola.it
URL:https://www.usbormiese.com/event/corsa-in-montagna-31-edizione-della-rasura-bar-bianco/
CATEGORIES:ATLETICA
ATTACH;FMTTYPE=image/jpeg:https://www.usbormiese.com/wp-content/uploads/2015/06/corsainmontagna.jpg
END:VEVENT
BEGIN:VEVENT
DTSTART;VALUE=DATE:20150823
DTEND;VALUE=DATE:20150824
DTSTAMP:20260422T131913
CREATED:20150614T100744Z
LAST-MODIFIED:20150614T100744Z
UID:8129-1440288000-1440374399@www.usbormiese.com
SUMMARY:Ciclismo: a Lanzada\, Trofeo Campo Moro 2015
DESCRIPTION:Domenica 23 agosto 2015\, a Lanzada\, la salita di Campo Moro valida come sesta prova del Trofeo dello Scalatore 2015   \nOrganizzazione Velo Club Sondriese \ninfo e dettagli su \nhttp://www.ciclistivaltellinesi.it/calendario.php \nhttp://www.ciclistivaltellinesi.it/trofeo-dello-scalatore.html
URL:https://www.usbormiese.com/event/ciclismo-a-lanzada-trofeo-campo-moro-2015/
CATEGORIES:CICLISMO
ATTACH;FMTTYPE=image/jpeg:https://www.usbormiese.com/wp-content/uploads/2015/06/ciclismo1.jpg
END:VEVENT
BEGIN:VEVENT
DTSTART;VALUE=DATE:20150823
DTEND;VALUE=DATE:20150824
DTSTAMP:20260422T131913
CREATED:20150614T083956Z
LAST-MODIFIED:20150817T075741Z
UID:8116-1440288000-1440374399@www.usbormiese.com
SUMMARY:Mountain bike: Circuito Asso Bike 2015 in Valdidentro
DESCRIPTION:In Valdidentro\, domenica 23 agosto 2015  \nSi svolgerà domenica 23 agosto la “Sbicicleteda 2015”\, 3° Memorial Benedetta Galli\, giunta alla 10° edizione\, inserita nel calendario del circuito “ASSOBIKE JUNIOR 2015” e valida come Campionato Provinciale di Sondrio.\nLa gara si svolge su tre percorsi con diverse difficoltà a seconda delle varie categorie partendo dal percorso più semplice per i G1 (5 minuti di percorrenza) per raggiungere quello più tosto dei G6 (20 minuti di percorrenza). Percorso molto tecnico\, (alterna tratti su prato a sentieri all’interno del bosco con degli spettacolari passaggi di Single track) ben visibile (la gara dei G1 si vede tutta dalla zona arrivo) e soprattutto si corre in una cornice quale lo Ski stadium del fondo che ha già ospitato prove di coppa del mondo di sci nordico e anche una tappa del giro d’Italia di ciclocross .\nAnche quest’anno il Valdidentro bike team ha voluto intitolare la manifestazione ad un’amica prematuramente scomparsa (Benedetta Galli) che è stata un esempio per il suo modo di vivere i veri valori dello sport che ha segnato profondamente il nostro spirito di squadra.\nRingraziamo anticipatamente tutti i nostri sponsor in particolare la Pro Loco e il Comune di Valdidentro che ci danno la possibilità di organizzare sia questo campionato PROVINCIALE ma soprattutto di continuare questo sogno qual è il Valdidentro Bike team. \nProgramma\nDOMENICA 23 Agosto 2015\nA partire dalle ore 8\,30 ritrovo presso lo Ski Stadium del fondo di Valdidentro\nOre 10 .00 inizio gare\nOre 12.30 Gara promozionale ASILO (MEMORIAL NONNO TONI) aperta a tutti i bambini Anche non tesserati (G0)\nOre 13.00 Pranzo presso Il polifunzionale di Rasin (pasta party offerto a tutti gli atleti)\nOre 14.30 Premiazioni (saranno premiati tutti i “piccoli Bikers”) \n  \n 
URL:https://www.usbormiese.com/event/mountain-bike-circuito-asso-bike-2015-in-valdidentro/
CATEGORIES:MOUNTAIN BIKE
ATTACH;FMTTYPE=image/jpeg:https://www.usbormiese.com/wp-content/uploads/2015/06/mtbJun.jpg
END:VEVENT
BEGIN:VEVENT
DTSTART;VALUE=DATE:20150821
DTEND;VALUE=DATE:20150824
DTSTAMP:20260422T131913
CREATED:20150721T155122Z
LAST-MODIFIED:20150721T155122Z
UID:9592-1440115200-1440374399@www.usbormiese.com
SUMMARY:Bormio Calcio Estate 2015: ritiro Albate
DESCRIPTION:Tre giorni di ritiro precampionato a Bormio per l’Albate Calcio che milita in seconda categoria. La squadra si allenerà al centro sportivo di Bormio dal 21 al 23  agosto 2015
URL:https://www.usbormiese.com/event/bormio-calcio-estate-2015-ritiro-albate/
CATEGORIES:CALCIO
ATTACH;FMTTYPE=image/jpeg:https://www.usbormiese.com/wp-content/uploads/2015/07/calcioEstate.jpg
END:VEVENT
BEGIN:VEVENT
DTSTART;VALUE=DATE:20150821
DTEND;VALUE=DATE:20150822
DTSTAMP:20260422T131913
CREATED:20150806T094548Z
LAST-MODIFIED:20150806T094548Z
UID:9729-1440115200-1440201599@www.usbormiese.com
SUMMARY:Scuola Calcio Alta Valtellina Estate 2015
DESCRIPTION:Scuola Calcio Alta Valtellina Estate 2015 \n \nOrganizzata da Unione Sportiva Bormiese\, Gruppo Sportivo Rio Scianno\, Polisportiva Valfurva e Amici dello Sport di Valdisotto\, si svolge nei mesi di maggio\, giugno\, luglio ed agosto la “scuola calcio Alta Valtellina”. \nNel mese di AGOSTO l’attività si svolge sul campo di Santa Lucia in Valdisotto secondo il calendario indicato sotto e nell’agenda \nIL PROGRAMMA DEL MESE DI AGOSTO 2015\nPer iscrizioni rivolgersi direttamente agli uffici dell’US Bormiese.\nVedi indicazioni nella brochure allegata
URL:https://www.usbormiese.com/event/scuola-calcio-alta-valtellina-estate-2015-28/
CATEGORIES:CALCIO
ATTACH;FMTTYPE=image/jpeg:https://www.usbormiese.com/wp-content/uploads/2015/08/scuolaCalcio.jpg
END:VEVENT
BEGIN:VEVENT
DTSTART;VALUE=DATE:20150819
DTEND;VALUE=DATE:20150820
DTSTAMP:20260422T131913
CREATED:20150806T094344Z
LAST-MODIFIED:20150806T094405Z
UID:9728-1439942400-1440028799@www.usbormiese.com
SUMMARY:Scuola Calcio Alta Valtellina Estate 2015
DESCRIPTION:Scuola Calcio Alta Valtellina Estate 2015 \n \nOrganizzata da Unione Sportiva Bormiese\, Gruppo Sportivo Rio Scianno\, Polisportiva Valfurva e Amici dello Sport di Valdisotto\, si svolge nei mesi di maggio\, giugno\, luglio ed agosto la “scuola calcio Alta Valtellina”. \nNel mese di AGOSTO l’attività si svolge sul campo di Santa Lucia in Valdisotto secondo il calendario indicato sotto e nell’agenda \nIL PROGRAMMA DEL MESE DI AGOSTO 2015\nPer iscrizioni rivolgersi direttamente agli uffici dell’US Bormiese.\nVedi indicazioni nella brochure allegata
URL:https://www.usbormiese.com/event/scuola-calcio-alta-valtellina-estate-2015-27/
CATEGORIES:CALCIO
ATTACH;FMTTYPE=image/jpeg:https://www.usbormiese.com/wp-content/uploads/2015/08/scuolaCalcio.jpg
END:VEVENT
BEGIN:VEVENT
DTSTART;VALUE=DATE:20150817
DTEND;VALUE=DATE:20150818
DTSTAMP:20260422T131913
CREATED:20150806T094235Z
LAST-MODIFIED:20150806T094235Z
UID:9726-1439769600-1439855999@www.usbormiese.com
SUMMARY:Scuola Calcio Alta Valtellina Estate 2015
DESCRIPTION:Scuola Calcio Alta Valtellina Estate 2015 \n \nOrganizzata da Unione Sportiva Bormiese\, Gruppo Sportivo Rio Scianno\, Polisportiva Valfurva e Amici dello Sport di Valdisotto\, si svolge nei mesi di maggio\, giugno\, luglio ed agosto la “scuola calcio Alta Valtellina”. \nNel mese di AGOSTO l’attività si svolge sul campo di Santa Lucia in Valdisotto secondo il calendario indicato sotto e nell’agenda \nIL PROGRAMMA DEL MESE DI AGOSTO 2015\nPer iscrizioni rivolgersi direttamente agli uffici dell’US Bormiese.\nVedi indicazioni nella brochure allegata
URL:https://www.usbormiese.com/event/scuola-calcio-alta-valtellina-estate-2015-26/
CATEGORIES:CALCIO
ATTACH;FMTTYPE=image/jpeg:https://www.usbormiese.com/wp-content/uploads/2015/08/scuolaCalcio.jpg
END:VEVENT
BEGIN:VEVENT
DTSTART;VALUE=DATE:20150814
DTEND;VALUE=DATE:20150815
DTSTAMP:20260422T131913
CREATED:20150811T094842Z
LAST-MODIFIED:20150819T113012Z
UID:9828-1439510400-1439596799@www.usbormiese.com
SUMMARY:Circuito Podistico delle Valli 2015: 19° Intergiro di Cepina
DESCRIPTION:L’Associazione Amici dello Sport organizza venerdì 14 agosto 2015 la 19^ edizione dell’Intergiro Cepina 17° Trofeo Museo Mineralogico Naturalistico di Bormio valevole per il Circuito Podistico delle Valli. \nProgramma: ore 19.00 ritrovo presso la piazza della Chiesa; ore 20.00 partenza prima categoria … e a seguire le premiazioni. Le iscrizioni verranno raccolte prima della gara. Quota: € 5\,00 per tutte le categorie. Premi ai primi classificati e omaggio a tutti Baby a Cadetti \nLa gara di corsa campestre è riservata alle seguenti categorie maschili e femminili: \nBaby sprint nati nel 2008 e successivi percorso: anello nei pressi della Chiesa\, un giro Km 0\,2 \nCuccioli nati nel 2006 e 2007 percorso: anello nei pressi della Chiesa\, due giri Km 0\,4 \nEsordienti nati nel 2004 e 2005 percorso: Piazza della Chiesa\, vicolo Martinelli\, anello nei pressi della Chiesa\, Km 0\,73 \nRagazzi nati nel 2002 e 2003 percorso: precedente per due volte \nCadetti nati nel 2000 e nel 2001 percorso: come precedente \nAllievi nati nel ‘98 e nel ‘99 e Adulti nati nel ‘97 e precedenti percorso: Piazza della Chiesa\, Via Dosso della Benedizione\, Zola\, via Roma\, via Piccagnoni\, via Dosso della Benedizione\, via Fraccari\, Via Roma\, Piazza della Chiesa\, Km 4\,2. \nInfo 339 – 2724462 Pro Loco Valdisotto o www.adsv.it\nIscrizioni prima della gara \nLA LOCANDINA \n 
URL:https://www.usbormiese.com/event/circuito-podistico-delle-valli-2015-19-intergiro-di-cepina/
CATEGORIES:ATLETICA
ATTACH;FMTTYPE=image/jpeg:https://www.usbormiese.com/wp-content/uploads/2015/08/cepina14rep.jpg
END:VEVENT
BEGIN:VEVENT
DTSTART;VALUE=DATE:20150812
DTEND;VALUE=DATE:20150813
DTSTAMP:20260422T131913
CREATED:20150806T094129Z
LAST-MODIFIED:20150806T094129Z
UID:9725-1439337600-1439423999@www.usbormiese.com
SUMMARY:Scuola Calcio Alta Valtellina Estate 2015
DESCRIPTION:Scuola Calcio Alta Valtellina Estate 2015 \n \nOrganizzata da Unione Sportiva Bormiese\, Gruppo Sportivo Rio Scianno\, Polisportiva Valfurva e Amici dello Sport di Valdisotto\, si svolge nei mesi di maggio\, giugno\, luglio ed agosto la “scuola calcio Alta Valtellina”. \nNel mese di AGOSTO l’attività si svolge sul campo di Santa Lucia in Valdisotto secondo il calendario indicato sotto e nell’agenda \nIL PROGRAMMA DEL MESE DI AGOSTO 2015\nPer iscrizioni rivolgersi direttamente agli uffici dell’US Bormiese.\nVedi indicazioni nella brochure allegata
URL:https://www.usbormiese.com/event/scuola-calcio-alta-valtellina-estate-2015-25/
CATEGORIES:CALCIO
ATTACH;FMTTYPE=image/jpeg:https://www.usbormiese.com/wp-content/uploads/2015/08/scuolaCalcio.jpg
END:VEVENT
BEGIN:VEVENT
DTSTART;VALUE=DATE:20150810
DTEND;VALUE=DATE:20150811
DTSTAMP:20260422T131913
CREATED:20150806T094026Z
LAST-MODIFIED:20150806T094026Z
UID:9724-1439164800-1439251199@www.usbormiese.com
SUMMARY:Scuola Calcio Alta Valtellina Estate 2015
DESCRIPTION:Scuola Calcio Alta Valtellina Estate 2015 \n \nOrganizzata da Unione Sportiva Bormiese\, Gruppo Sportivo Rio Scianno\, Polisportiva Valfurva e Amici dello Sport di Valdisotto\, si svolge nei mesi di maggio\, giugno\, luglio ed agosto la “scuola calcio Alta Valtellina”. \nNel mese di AGOSTO l’attività si svolge sul campo di Santa Lucia in Valdisotto secondo il calendario indicato sotto e nell’agenda \nIL PROGRAMMA DEL MESE DI AGOSTO 2015\nPer iscrizioni rivolgersi direttamente agli uffici dell’US Bormiese.\nVedi indicazioni nella brochure allegata
URL:https://www.usbormiese.com/event/scuola-calcio-alta-valtellina-estate-2015-24/
CATEGORIES:CALCIO
ATTACH;FMTTYPE=image/jpeg:https://www.usbormiese.com/wp-content/uploads/2015/08/scuolaCalcio.jpg
END:VEVENT
BEGIN:VEVENT
DTSTART;VALUE=DATE:20150809
DTEND;VALUE=DATE:20150815
DTSTAMP:20260422T131913
CREATED:20150721T154922Z
LAST-MODIFIED:20150721T154922Z
UID:9591-1439078400-1439596799@www.usbormiese.com
SUMMARY:Bormio Calcio Estate 2015: Sondrio in ritiro precampionato
DESCRIPTION:Il Sondrio Calcio\, che nella prossma stagione 2015/22016 disputerà il campionato di serie D   \nsarà in ritiro a Bormio dal 9 al 14 agosto 2015. \nIn programma anche alcune amichevoli+ \nper informazioni \ninfo@usbormiese.com
URL:https://www.usbormiese.com/event/bormio-calcio-estate-2015-sondrio-in-ritiro-precampionato/
CATEGORIES:CALCIO
ATTACH;FMTTYPE=image/jpeg:https://www.usbormiese.com/wp-content/uploads/2015/07/calcioEstate.jpg
END:VEVENT
END:VCALENDAR