BEGIN:VCALENDAR
VERSION:2.0
PRODID:-//Unione Sportiva Bormiese - ECPv6.8.2.1//NONSGML v1.0//EN
CALSCALE:GREGORIAN
METHOD:PUBLISH
X-WR-CALNAME:Unione Sportiva Bormiese
X-ORIGINAL-URL:https://www.usbormiese.com
X-WR-CALDESC:Eventi per Unione Sportiva Bormiese
REFRESH-INTERVAL;VALUE=DURATION:PT1H
X-Robots-Tag:noindex
X-PUBLISHED-TTL:PT1H
BEGIN:VTIMEZONE
TZID:Europe/Rome
BEGIN:DAYLIGHT
TZOFFSETFROM:+0100
TZOFFSETTO:+0200
TZNAME:CEST
DTSTART:20170326T010000
END:DAYLIGHT
BEGIN:STANDARD
TZOFFSETFROM:+0200
TZOFFSETTO:+0100
TZNAME:CET
DTSTART:20171029T010000
END:STANDARD
END:VTIMEZONE
BEGIN:VEVENT
DTSTART;VALUE=DATE:20170326
DTEND;VALUE=DATE:20170327
DTSTAMP:20260419T150807
CREATED:20170203T095029Z
LAST-MODIFIED:20170203T095056Z
UID:17526-1490486400-1490572799@www.usbormiese.com
SUMMARY:Calcio\, Campionato Allievi Regionali B
DESCRIPTION:Campionato Allievi Regionali B\, primavera 2017 – Girone C\n26 marzo 2017\nAd Usmate Velate\,\nNuova Usmate vs BORMIESE\nOre 10.00\, centro sportivo di Usmate
URL:https://www.usbormiese.com/event/calcio-campionato-allievi-regionali-b-8/
CATEGORIES:CALCIO
ATTACH;FMTTYPE=image/jpeg:https://www.usbormiese.com/wp-content/uploads/2017/02/bann-calcio-17a.jpg
END:VEVENT
BEGIN:VEVENT
DTSTART;VALUE=DATE:20170326
DTEND;VALUE=DATE:20170327
DTSTAMP:20260419T150807
CREATED:20160923T081956Z
LAST-MODIFIED:20160923T081956Z
UID:14928-1490486400-1490572799@www.usbormiese.com
SUMMARY:Calcio\, prima squadra: campionato provinciale di 3^ categoria 2016/2017
DESCRIPTION:3^ CATEGORIA – PRIMA SQUADRA\nSTAGIONE 2016/2017 \n\nGIRONE DI RITORNO \n20^ GIORNATA \nA Bormio\, 26/03/2017\nBORMIESE – SONDRIESE
URL:https://www.usbormiese.com/event/calcio-prima-squadra-campionato-provinciale-di-3-categoria-20162017-18/
CATEGORIES:CALCIO
ATTACH;FMTTYPE=image/jpeg:https://www.usbormiese.com/wp-content/uploads/2015/08/calcioSquadra.jpg
END:VEVENT
BEGIN:VEVENT
DTSTART;VALUE=DATE:20170325
DTEND;VALUE=DATE:20170326
DTSTAMP:20260419T150807
CREATED:20170127T181336Z
LAST-MODIFIED:20170127T181336Z
UID:17400-1490400000-1490486399@www.usbormiese.com
SUMMARY:Short track: Trofeo Interregionale Lombardia/Piemonte 2017 a Pinerolo
DESCRIPTION:Il 25 marzo si svolge a Pinerolo/Torino la terza prova del Trofeo Interregionale Lombardia/Piemonte per i giovanissimi…  \nUltimo atto della stagione per i più piccoli in attesa dei vari campionati regionali
URL:https://www.usbormiese.com/event/short-track-trofeo-interregionale-lombardiapiemonte-2017-a-pinerolo/
CATEGORIES:SHORT TRACK
ATTACH;FMTTYPE=image/jpeg:https://www.usbormiese.com/wp-content/uploads/2017/01/bann-ghiaccio-17b.jpg
END:VEVENT
BEGIN:VEVENT
DTSTART;VALUE=DATE:20170324
DTEND;VALUE=DATE:20170327
DTSTAMP:20260419T150807
CREATED:20170127T180601Z
LAST-MODIFIED:20170127T180601Z
UID:17394-1490313600-1490572799@www.usbormiese.com
SUMMARY:Short track: Europa Cup Final 2017 a Hasselt (Belgio)
DESCRIPTION:Da 24 al 26 marzo 2017 è in programma l’Europa Cup Final \nLa manifestazione è riservata ai QUALIFICATI della Star Class e della Danubia Cup\, i circuiti dell’Europa occidentale ed orientale dello short track giovanile \n\nShort Track Int. Hasselt (BEL)\nJunior A\, B\, C\, D \nTutto live su www.shorttrackonline.org
URL:https://www.usbormiese.com/event/short-track-europa-cup-final-2017-a-hasselt-belgio/
CATEGORIES:SHORT TRACK
ATTACH;FMTTYPE=image/jpeg:https://www.usbormiese.com/wp-content/uploads/2017/01/bann-ghiaccio-17b.jpg
END:VEVENT
BEGIN:VEVENT
DTSTART;VALUE=DATE:20170319
DTEND;VALUE=DATE:20170320
DTSTAMP:20260419T150807
CREATED:20170203T100743Z
LAST-MODIFIED:20170203T100743Z
UID:17550-1489881600-1489967999@www.usbormiese.com
SUMMARY:Calcio\, campionato giovanissimi - Primavera 2017
DESCRIPTION:Calcio\, campionato giovanissimi – Primavera 2017\n19 marzo 2017 – 5^ giornata\nBORMIESE vs Albosaggia Ponchiera B\nA Bormio\, centro sportivo comunale\, ore 10.30
URL:https://www.usbormiese.com/event/calcio-campionato-giovanissimi-primavera-2017-5/
CATEGORIES:CALCIO
ATTACH;FMTTYPE=image/jpeg:https://www.usbormiese.com/wp-content/uploads/2017/02/bann-calcio-17b.jpg
END:VEVENT
BEGIN:VEVENT
DTSTART;VALUE=DATE:20170319
DTEND;VALUE=DATE:20170320
DTSTAMP:20260419T150807
CREATED:20170203T094643Z
LAST-MODIFIED:20170203T094643Z
UID:17524-1489881600-1489967999@www.usbormiese.com
SUMMARY:Calcio\, Campionato Allievi Regionali B
DESCRIPTION:Campionato Allievi Regionali B\, primavera 2017 – Girone C\n19 marzo 2017\nA Bormio\,\nBORMIESE vs Penta Piateda\nOre 10.00\, campo sportivo Comunale Bormio
URL:https://www.usbormiese.com/event/calcio-campionato-allievi-regionali-b-7/
CATEGORIES:CALCIO
ATTACH;FMTTYPE=image/jpeg:https://www.usbormiese.com/wp-content/uploads/2017/02/bann-calcio-17a.jpg
END:VEVENT
BEGIN:VEVENT
DTSTART;VALUE=DATE:20170319
DTEND;VALUE=DATE:20170320
DTSTAMP:20260419T150807
CREATED:20160923T081734Z
LAST-MODIFIED:20160923T081734Z
UID:14926-1489881600-1489967999@www.usbormiese.com
SUMMARY:Calcio\, prima squadra: campionato provinciale di 3^ categoria 2016/2017
DESCRIPTION:3^ CATEGORIA – PRIMA SQUADRA\nSTAGIONE 2016/2017 \n\nGIRONE DI RITORNO \n19^ GIORNATA \nA Tresenda\, 19/03/2017\nTRESENDA – BORMIESE
URL:https://www.usbormiese.com/event/calcio-prima-squadra-campionato-provinciale-di-3-categoria-20162017-17/
CATEGORIES:CALCIO
ATTACH;FMTTYPE=image/jpeg:https://www.usbormiese.com/wp-content/uploads/2015/08/calcioSquadra.jpg
END:VEVENT
BEGIN:VEVENT
DTSTART;VALUE=DATE:20170319
DTEND;VALUE=DATE:20170320
DTSTAMP:20260419T150807
CREATED:20170225T105343Z
LAST-MODIFIED:20170225T105343Z
UID:17857-1489881600-1489967999@www.usbormiese.com
SUMMARY:Campestre sulla neve: a Santa Caterina Valfurva il 2° Snow Cross
DESCRIPTION:CAMPESTRE PROVINCIALE – Domenica 19 marzo 2017\nSANTA CATERINA VALFURVA – 2° SNOW CROSS \nCATEGORIE: E/R/C \nRitrovo ore 10:00\nInizio gare ore 11:30 \nOrg. ATL ALTA VALTELLINA\nResp. Org. Thomas Gianoli (3479234630)\nthomas.gianoli@tiscali.it\nwww.atleticaaltavaltellina.it
URL:https://www.usbormiese.com/event/campestre-sulla-neve-a-santa-caterina-valfurva-il-2-snow-cross/
CATEGORIES:ATLETICA,MANIFESTAZIONI
ATTACH;FMTTYPE=image/jpeg:https://www.usbormiese.com/wp-content/uploads/2017/02/snowcross.jpg
END:VEVENT
BEGIN:VEVENT
DTSTART;VALUE=DATE:20170318
DTEND;VALUE=DATE:20170320
DTSTAMP:20260419T150807
CREATED:20170127T175851Z
LAST-MODIFIED:20170201T070939Z
UID:17392-1489795200-1489967999@www.usbormiese.com
SUMMARY:Short track: Campionati Italiani Assoluti 2016/2017
DESCRIPTION:Il 18 e 19 marzo sono in programma i Campionati Italiani Assoluti di short track  \nShort Track Naz. Courmayeur\nSenior\, Jun A/B \nDettagli sul portale ufficiale della Federghiaccio\nwww.fisg.
URL:https://www.usbormiese.com/event/short-track-campionati-italiani-assoluti-20162017/
CATEGORIES:SHORT TRACK
ATTACH;FMTTYPE=image/jpeg:https://www.usbormiese.com/wp-content/uploads/2017/01/bann-ghiaccio-17a.jpg
END:VEVENT
BEGIN:VEVENT
DTSTART;VALUE=DATE:20170312
DTEND;VALUE=DATE:20170313
DTSTAMP:20260419T150807
CREATED:20170203T094527Z
LAST-MODIFIED:20170203T094527Z
UID:17522-1489276800-1489363199@www.usbormiese.com
SUMMARY:Calcio\, Campionato Allievi Regionali B
DESCRIPTION:Campionato Allievi Regionali B\, primavera 2017 – Girone C\n12 marzo 2017\nA Merate\,\nBrianza Cernuso Merate vs BORMIESE\nOre 10.00\, campo sportivo Comunale di Merate
URL:https://www.usbormiese.com/event/calcio-campionato-allievi-regionali-b-6/
CATEGORIES:CALCIO
ATTACH;FMTTYPE=image/jpeg:https://www.usbormiese.com/wp-content/uploads/2017/02/bann-calcio-17a.jpg
END:VEVENT
BEGIN:VEVENT
DTSTART;VALUE=DATE:20170312
DTEND;VALUE=DATE:20170313
DTSTAMP:20260419T150807
CREATED:20160923T081309Z
LAST-MODIFIED:20160923T081309Z
UID:14925-1489276800-1489363199@www.usbormiese.com
SUMMARY:Calcio\, prima squadra: campionato provinciale di 3^ categoria 2016/2017
DESCRIPTION:3^ CATEGORIA – PRIMA SQUADRA\nSTAGIONE 2016/2017 \n\nGIRONE DI RITORNO \n18^ GIORNATA\nA Bormio\, 12/03/2017\nBORMIESE – SONDALO
URL:https://www.usbormiese.com/event/calcio-prima-squadra-campionato-provinciale-di-3-categoria-20162017-16/
CATEGORIES:CALCIO
ATTACH;FMTTYPE=image/jpeg:https://www.usbormiese.com/wp-content/uploads/2015/08/calcioSquadra.jpg
END:VEVENT
BEGIN:VEVENT
DTSTART;VALUE=DATE:20170311
DTEND;VALUE=DATE:20170313
DTSTAMP:20260419T150807
CREATED:20170201T072336Z
LAST-MODIFIED:20170201T072336Z
UID:17453-1489190400-1489363199@www.usbormiese.com
SUMMARY:Short track: Trofeo Giovanissimi a Bergamo
DESCRIPTION:Sabato 11 e domenica 12 marzo 2017 appuntamento a Bergamo con il Trofeo Giovanissimi.  \nLa manifestazione è riservata alle categorie junior D\, junior E e junior F \nPer dettagli gara ed annuncio il riferimento è il portale della Federghiaccio \nwww.fisg.it
URL:https://www.usbormiese.com/event/short-track-trofeo-giovanissimi-a-bergamo/
CATEGORIES:SHORT TRACK
ATTACH;FMTTYPE=image/jpeg:https://www.usbormiese.com/wp-content/uploads/2017/01/bann-ghiaccio-17b.jpg
END:VEVENT
BEGIN:VEVENT
DTSTART;VALUE=DATE:20170311
DTEND;VALUE=DATE:20170312
DTSTAMP:20260419T150807
CREATED:20170203T100655Z
LAST-MODIFIED:20170203T100655Z
UID:17548-1489190400-1489276799@www.usbormiese.com
SUMMARY:Calcio\, campionato giovanissimi - Primavera 2017
DESCRIPTION:Calcio\, campionato giovanissimi – Primavera 2017\n11 marzo 2017 – 4^ giornata\nPolisportiva Valmalenco vs BORMIESE\nA Chiesa Valmalenco\, campo comunale sintetico\, ore 17.45
URL:https://www.usbormiese.com/event/calcio-campionato-giovanissimi-primavera-2017-4/
CATEGORIES:CALCIO
ATTACH;FMTTYPE=image/jpeg:https://www.usbormiese.com/wp-content/uploads/2017/02/bann-calcio-17b.jpg
END:VEVENT
BEGIN:VEVENT
DTSTART;VALUE=DATE:20170310
DTEND;VALUE=DATE:20170313
DTSTAMP:20260419T150807
CREATED:20170127T174833Z
LAST-MODIFIED:20170127T174938Z
UID:17389-1489104000-1489363199@www.usbormiese.com
SUMMARY:Short track: Campionati del mondo a Rotterdam
DESCRIPTION:Dal 10 al 12 marzo a Rotterdam\, ISU World Championships 2017 \nShort Track Int. Rotterdam (NED)\nSquadra Nazionale \nInfo web/internet\nRisultati
URL:https://www.usbormiese.com/event/short-track-campionati-del-mondo-a-rotterdam/
CATEGORIES:SHORT TRACK
ATTACH;FMTTYPE=image/jpeg:https://www.usbormiese.com/wp-content/uploads/2017/01/bann-ghiaccio-17a.jpg
END:VEVENT
BEGIN:VEVENT
DTSTART;TZID=Europe/Rome:20170308T000000
DTEND;TZID=Europe/Rome:20170731T235900
DTSTAMP:20260419T150807
CREATED:20170308T112005Z
LAST-MODIFIED:20170308T112554Z
UID:17953-1488931200-1501545540@www.usbormiese.com
SUMMARY:Campagna tesseramento 2017 dell'Unione Sportiva Bormiese
DESCRIPTION:E’ aperta la campagna di tesseramento 2017 all’Unione Sportiva Bormiese.  \nLe quote associative per associarsi e tesserarsi all’USB sono  \n\ndi 25 euro per i nati dopo il 1° gennaio 2001 \ne di 30 euro per i nati prima del 2001 (30 dicembre 2000).\n\n  \n\nI tesserati all’Usb avranno diritto all’abbonamento annuale alla rivista Bormio Sport;\nallo sconto sugli abbonamenti presso la palstra Bormio Fitness;\nallo sconto sulle iscrizioni agli eventi e manifestazioni organizzati dall’US Bormiese;\nallo sconto sull’utilizzo della struttura del curling;\nalla possibilità di acquisto della divisa sociale e dell’abbigliamento griffato USB a prezzi agevolati e convenzionati;\nal servizio di segreteria per chiarimenti su attività sportive e su modalità di adesione e partecipazione a gare e manifestazioni sportive organizzate da altre associazioni.\n\nwww.usbormiese.com\ninfo@usbormiese.com\n0342.901482
URL:https://www.usbormiese.com/event/campagna-tesseramento-2017-dellunione-sportiva-bormiese/
CATEGORIES:IN EVIDENZA 2
ATTACH;FMTTYPE=image/jpeg:https://www.usbormiese.com/wp-content/uploads/2017/01/Logo-usb-orizzontale.jpg
END:VEVENT
BEGIN:VEVENT
DTSTART;VALUE=DATE:20170305
DTEND;VALUE=DATE:20170306
DTSTAMP:20260419T150807
CREATED:20170203T100457Z
LAST-MODIFIED:20170203T100457Z
UID:17546-1488672000-1488758399@www.usbormiese.com
SUMMARY:Calcio\, campionato giovanissimi - Primavera 2017
DESCRIPTION:Calcio\, campionato giovanissimi – Primavera 2017\n5 marzo 2017 – 3^ giornata\nBORMIESE vs Tiranese\nA Bormio\, centro sportivo comunale\, ore 10.30
URL:https://www.usbormiese.com/event/calcio-campionato-giovanissimi-primavera-2017-3/
CATEGORIES:CALCIO
ATTACH;FMTTYPE=image/jpeg:https://www.usbormiese.com/wp-content/uploads/2017/02/bann-calcio-17b.jpg
END:VEVENT
BEGIN:VEVENT
DTSTART;VALUE=DATE:20170305
DTEND;VALUE=DATE:20170306
DTSTAMP:20260419T150807
CREATED:20170203T094417Z
LAST-MODIFIED:20170203T094417Z
UID:17520-1488672000-1488758399@www.usbormiese.com
SUMMARY:Calcio\, Campionato Allievi Regionali B
DESCRIPTION:Campionato Allievi Regionali B\, primavera 2017 – Girone C\n5 marzo 2017\nA Bormio\,\nBORMIESE vs Chiavennese US\nOre 10.00\, campo sportivo Comunale Bormio (o Grosio)
URL:https://www.usbormiese.com/event/calcio-campionato-allievi-regionali-b-5/
CATEGORIES:CALCIO
ATTACH;FMTTYPE=image/jpeg:https://www.usbormiese.com/wp-content/uploads/2017/02/bann-calcio-17a.jpg
END:VEVENT
BEGIN:VEVENT
DTSTART;VALUE=DATE:20170305
DTEND;VALUE=DATE:20170306
DTSTAMP:20260419T150807
CREATED:20170128T133324Z
LAST-MODIFIED:20170308T112100Z
UID:17413-1488672000-1488758399@www.usbormiese.com
SUMMARY:Manifestazioni: a Oga\, "deguski & Trofeo San Colombano"
DESCRIPTION:Domenica 5 marzo 2017 imperdibile\, per gli appassionati di natura\, pelli di foca e prodotti tipici\, a Oga\, la “deguski & Trofeo San Colombano”. \n \nSi tratta di una escursione sulla neve con tappe gastronomiche e prova scialpinistica a coppie proposta ed organizzata dagli amici dello sport \ninfo@usbormiese.com
URL:https://www.usbormiese.com/event/manifestazioni-a-oga-deguski-trofeo-san-colombano/
CATEGORIES:MANIFESTAZIONI,SCI ALPINISMO
ATTACH;FMTTYPE=image/jpeg:https://www.usbormiese.com/wp-content/uploads/2017/01/bann-skialp-17a.jpg
END:VEVENT
BEGIN:VEVENT
DTSTART;VALUE=DATE:20170305
DTEND;VALUE=DATE:20170306
DTSTAMP:20260419T150807
CREATED:20160923T081140Z
LAST-MODIFIED:20160923T081140Z
UID:14924-1488672000-1488758399@www.usbormiese.com
SUMMARY:Calcio\, prima squadra: campionato provinciale di 3^ categoria 2016/2017
DESCRIPTION:3^ CATEGORIA – PRIMA SQUADRA\nSTAGIONE 2016/2017 \n\nGIRONE DI RITORNO \n17^ GIORNATA \nA Chiesa Valmalenco\, 05/03/2017\nPOL. VALMALENCO – BORMIESE
URL:https://www.usbormiese.com/event/calcio-prima-squadra-campionato-provinciale-di-3-categoria-20162017-15/
CATEGORIES:CALCIO
ATTACH;FMTTYPE=image/jpeg:https://www.usbormiese.com/wp-content/uploads/2015/08/calcioSquadra.jpg
END:VEVENT
BEGIN:VEVENT
DTSTART;VALUE=DATE:20170305
DTEND;VALUE=DATE:20170306
DTSTAMP:20260419T150807
CREATED:20170225T105959Z
LAST-MODIFIED:20170225T105959Z
UID:17860-1488672000-1488758399@www.usbormiese.com
SUMMARY:Sci alpinismo: Ski Alp Valle di Rezzalo
DESCRIPTION:Domenica 5 marzo 2017 dalle ore 9.15\n17^ edizione Ski Alp Valle di Rezzalo e 5^ prova Coppa Italia Giovani  \ndalle ore 7.00: distribuzione pettorali c/o Sci Club Sondalo; trasferimento in zona partenza;\nore 9.15: inizio gare;\nore 12.00: pasta party e premiazioni c/o Oratorio Sondalo\nInfo ed iscrizioni: Sci Club Sondalo – scsondalo@tiscali .it\nSondalo\, località Fumero
URL:https://www.usbormiese.com/event/sci-alpinismo-ski-alp-valle-di-rezzalo/
CATEGORIES:MANIFESTAZIONI,SCI ALPINISMO
END:VEVENT
BEGIN:VEVENT
DTSTART;VALUE=DATE:20170304
DTEND;VALUE=DATE:20170306
DTSTAMP:20260419T150807
CREATED:20170127T174152Z
LAST-MODIFIED:20170127T174152Z
UID:17387-1488585600-1488758399@www.usbormiese.com
SUMMARY:Short track: Coppa Italia 2016/2017 a Pontebba
DESCRIPTION:Il 4 e 5 marzo è in programma a Pontebba la 3^ prova della Coppa Italia 2016/2017 \nShort Track Naz. Pontebba\nSen./Jun A\, B\, C\, D\, E & F
URL:https://www.usbormiese.com/event/short-track-coppa-italia-20162017-a-pontebba/
CATEGORIES:SHORT TRACK
ATTACH;FMTTYPE=image/jpeg:https://www.usbormiese.com/wp-content/uploads/2017/01/bann-ghiaccio-17b.jpg
END:VEVENT
BEGIN:VEVENT
DTSTART;VALUE=DATE:20170226
DTEND;VALUE=DATE:20170227
DTSTAMP:20260419T150807
CREATED:20170203T100406Z
LAST-MODIFIED:20170203T100406Z
UID:17544-1488067200-1488153599@www.usbormiese.com
SUMMARY:Calcio\, campionato giovanissimi - Primavera 2017
DESCRIPTION:Calcio\, campionato giovanissimi – Primavera 2017\n26 febbraio 2017 – 2^ giornata\nAlto Lario Calcio vs BORMIESE\nA Gravedona\, centro sportivo comunale\, ore 10.00
URL:https://www.usbormiese.com/event/calcio-campionato-giovanissimi-primavera-2017-2/
CATEGORIES:CALCIO
ATTACH;FMTTYPE=image/jpeg:https://www.usbormiese.com/wp-content/uploads/2017/02/bann-calcio-17b.jpg
END:VEVENT
BEGIN:VEVENT
DTSTART;VALUE=DATE:20170226
DTEND;VALUE=DATE:20170227
DTSTAMP:20260419T150807
CREATED:20170203T094311Z
LAST-MODIFIED:20170203T094311Z
UID:17518-1488067200-1488153599@www.usbormiese.com
SUMMARY:Calcio\, Campionato Allievi Regionali B
DESCRIPTION:Campionato Allievi Regionali B\, primavera 2017 – Girone C\n26 febbraio 2017\nLa Bormiese osserva il turno di riposo
URL:https://www.usbormiese.com/event/calcio-campionato-allievi-regionali-b-4/
CATEGORIES:CALCIO
ATTACH;FMTTYPE=image/jpeg:https://www.usbormiese.com/wp-content/uploads/2017/02/bann-calcio-17a.jpg
END:VEVENT
BEGIN:VEVENT
DTSTART;VALUE=DATE:20170226
DTEND;VALUE=DATE:20170227
DTSTAMP:20260419T150807
CREATED:20160923T080939Z
LAST-MODIFIED:20160923T080939Z
UID:14923-1488067200-1488153599@www.usbormiese.com
SUMMARY:Calcio\, prima squadra: campionato provinciale di 3^ categoria 2016/2017
DESCRIPTION:3^ CATEGORIA – PRIMA SQUADRA\nSTAGIONE 2016/2017 \n\nGIRONE DI RITORNO \n16^ GIORNATA\nA Bormio\, 26/02/2017\nBORMIESE – SPORTING CLUB LIVIGNO
URL:https://www.usbormiese.com/event/calcio-prima-squadra-campionato-provinciale-di-3-categoria-20162017-14/
CATEGORIES:CALCIO
ATTACH;FMTTYPE=image/jpeg:https://www.usbormiese.com/wp-content/uploads/2015/08/calcioSquadra.jpg
END:VEVENT
BEGIN:VEVENT
DTSTART;VALUE=DATE:20170222
DTEND;VALUE=DATE:20170301
DTSTAMP:20260419T150807
CREATED:20170127T173849Z
LAST-MODIFIED:20170127T173849Z
UID:17384-1487721600-1488326399@www.usbormiese.com
SUMMARY:Eventi: Giochi Olimpici Invernali Militari 2017 a Sochi
DESCRIPTION:Dal 22 al 28 febbraio 2017 si svolgeranno a Sochi\, in Russia\, Giochi Olimpici Invernali Militari \n\nShort Track Int. Sochi (RUS)\nSquadra Nazionale \nIl sito ufficiale
URL:https://www.usbormiese.com/event/eventi-giochi-olimpici-invernali-militari-2017-a-sochi/
CATEGORIES:SCI ALPINO,SCI FONDO,SHORT TRACK
ATTACH;FMTTYPE=image/jpeg:https://www.usbormiese.com/wp-content/uploads/2017/01/sochi-2017.jpg
END:VEVENT
BEGIN:VEVENT
DTSTART;VALUE=DATE:20170219
DTEND;VALUE=DATE:20170220
DTSTAMP:20260419T150807
CREATED:20170203T100255Z
LAST-MODIFIED:20170203T100255Z
UID:17541-1487462400-1487548799@www.usbormiese.com
SUMMARY:Calcio\, campionato giovanissimi - Primavera 2017
DESCRIPTION:Calcio\, campionato giovanissimi – Primavera 2017 \n19 febbraio 2017 – 1^ giornata\nBORMIESE vs Berbenno\nA Bormio\, centro sportivo comunale\, ore 10.30
URL:https://www.usbormiese.com/event/calcio-campionato-giovanissimi-primavera-2017/
CATEGORIES:CALCIO
ATTACH;FMTTYPE=image/jpeg:https://www.usbormiese.com/wp-content/uploads/2017/02/bann-calcio-17b.jpg
END:VEVENT
BEGIN:VEVENT
DTSTART;VALUE=DATE:20170219
DTEND;VALUE=DATE:20170220
DTSTAMP:20260419T150807
CREATED:20170203T094209Z
LAST-MODIFIED:20170203T094209Z
UID:17516-1487462400-1487548799@www.usbormiese.com
SUMMARY:Calcio\, Campionato Allievi Regionali B
DESCRIPTION:Campionato Allievi Regionali B\, primavera 2017 – Girone C\n19 febbraio 2017  \nA Bormio\,\nBORMIESE vs Brugherio Calcio\nOre 10.00\, campo sportivo Comunale Bormio (o Grosio)
URL:https://www.usbormiese.com/event/calcio-campionato-allievi-regionali-b-3/
CATEGORIES:CALCIO
ATTACH;FMTTYPE=image/jpeg:https://www.usbormiese.com/wp-content/uploads/2017/02/bann-calcio-17a.jpg
END:VEVENT
BEGIN:VEVENT
DTSTART;VALUE=DATE:20170219
DTEND;VALUE=DATE:20170220
DTSTAMP:20260419T150807
CREATED:20160923T080740Z
LAST-MODIFIED:20160923T080740Z
UID:14922-1487462400-1487548799@www.usbormiese.com
SUMMARY:Calcio\, prima squadra: campionato provinciale di 3^ categoria 2016/2017
DESCRIPTION:3^ CATEGORIA – PRIMA SQUADRA\nSTAGIONE 2016/2017 \n\nGIRONE DI RITORNO \n15^ GIORNATA\nA Bormio\, 19/02/2017\nBORMIESE – SPORT.CLUB DONGO
URL:https://www.usbormiese.com/event/calcio-prima-squadra-campionato-provinciale-di-3-categoria-20162017-13/
CATEGORIES:CALCIO
ATTACH;FMTTYPE=image/jpeg:https://www.usbormiese.com/wp-content/uploads/2015/08/calcioSquadra.jpg
END:VEVENT
BEGIN:VEVENT
DTSTART;VALUE=DATE:20170218
DTEND;VALUE=DATE:20170219
DTSTAMP:20260419T150807
CREATED:20170128T133007Z
LAST-MODIFIED:20170128T133007Z
UID:17410-1487376000-1487462399@www.usbormiese.com
SUMMARY:Manifestazioni: "su e ò in de la nef"
DESCRIPTION:Quadro dì (più uno) concentrati un una sola giornata con la spettacolare e collaudatissima staffetta alpina multidisciplinare… \n \nSabato 18 febbraio 2017 è in programma nell’area ski stadium di Bormio la staffetta alpina con sci da fondo\, da discesa\, da scialpinismo\, slittino\, ciaspole e attrezzatura d’epoca… \nPer informazioni contattare direttamente l’Unione Sportiva Bormiese \n0342.901482\ninfo@usbormiese.com
URL:https://www.usbormiese.com/event/manifestazioni-su-e-o-in-de-la-nef/
CATEGORIES:MANIFESTAZIONI
ATTACH;FMTTYPE=image/jpeg:https://www.usbormiese.com/wp-content/uploads/2017/01/nef.jpg
END:VEVENT
BEGIN:VEVENT
DTSTART;VALUE=DATE:20170218
DTEND;VALUE=DATE:20170219
DTSTAMP:20260419T150807
CREATED:20161220T172821Z
LAST-MODIFIED:20161220T172821Z
UID:16748-1487376000-1487462399@www.usbormiese.com
SUMMARY:Short track: corso di avviamento al pattinaggio. Inverno 2017
DESCRIPTION:Short track\, stagione 2016/2017: secondo corso di avviamento al pattinaggio. \nLa Bormio Ghiaccio organizza un corso di avviamento al pattinaggio per i bambini e le bambine dell’ultimo anno della scuola dell’infanzia e le prime tre classi della scuola primaria (1^\, 2^ e 3^ elementare) \nLA SCHEDA DI ADESIONE DEVE ESSERE COMPILATA ENTRO IL 20 GENNAIO 2017 PRESSO L’UFFICIO USB \nIl costo di partecipazione al corso è di 50 euro da versare all’atto dell’iscrizione \nPROGRAMMA \n\nInizio corso domenica 22 gennaio 2017\nsabato 28 gennaio 2017\ndomenica 29 gennaio 2017\nsabato 4 febbraio 2017\ndomenica 5 febbraio 2017\nsabato 11 febbraio 2017\ndomenica 12 febbraio 2017\nsabato 18 febbraio 2017\n\n\n\n\n\n\n\n\n\nBORMIO GHIACCIO A.S.D.\nVia Manzoni – 23032 BORMIO (SO)\nTel e Fax +39 0342 911415\ne-mail – bormioghiaccio@gmail.com
URL:https://www.usbormiese.com/event/short-track-corso-di-avviamento-al-pattinaggio-inverno-2017-8/
CATEGORIES:SHORT TRACK
ATTACH;FMTTYPE=image/jpeg:https://www.usbormiese.com/wp-content/uploads/2016/12/short-track-X1.jpg
END:VEVENT
END:VCALENDAR