BEGIN:VCALENDAR
VERSION:2.0
PRODID:-//Unione Sportiva Bormiese - ECPv6.8.2.1//NONSGML v1.0//EN
CALSCALE:GREGORIAN
METHOD:PUBLISH
X-ORIGINAL-URL:https://www.usbormiese.com
X-WR-CALDESC:Eventi per Unione Sportiva Bormiese
REFRESH-INTERVAL;VALUE=DURATION:PT1H
X-Robots-Tag:noindex
X-PUBLISHED-TTL:PT1H
BEGIN:VTIMEZONE
TZID:Europe/Rome
BEGIN:DAYLIGHT
TZOFFSETFROM:+0100
TZOFFSETTO:+0200
TZNAME:CEST
DTSTART:20150329T010000
END:DAYLIGHT
BEGIN:STANDARD
TZOFFSETFROM:+0200
TZOFFSETTO:+0100
TZNAME:CET
DTSTART:20151025T010000
END:STANDARD
END:VTIMEZONE
BEGIN:VEVENT
DTSTART;VALUE=DATE:20150503
DTEND;VALUE=DATE:20150504
DTSTAMP:20260423T095331
CREATED:20150427T160142Z
LAST-MODIFIED:20150427T160142Z
UID:7297-1430611200-1430697599@www.usbormiese.com
SUMMARY:Atletica: a Chiuro campionato provinciale prove multiple ragazzi e cadetti
DESCRIPTION:Domenica 3 maggio 2015 a Chiuro è in programma il CAMPIONATO PROVINCIALE PROVE MULTIPLE RAGAZZI/CADETTI TROFEO CIRCUITO CREDITO VALTELLINESE \nPROGRAMMA GARE:\nRagazzi/e: triathlon 60hs-alto-vortex\nCadetti/e: pentathlon\nAllievi/e: 200-1500\nJunior/Promesse/Senior/Master m/f: 200-1500\nRitrovo ore 09:00\nInizio gare ore 10:00\nOrganizzazione: PENTACOM\nPer informazioni: Raffaella Riva 338/3611126\, Piccinali Mauro 3388479897 \, a.s.pentacom@libero.it
URL:https://www.usbormiese.com/event/atletica-a-chiuro-campionato-provinciale-prove-multiple-ragazzi-e-cadetti/
CATEGORIES:ATLETICA
ATTACH;FMTTYPE=image/jpeg:https://www.usbormiese.com/wp-content/uploads/2015/01/UsbAtletica.jpg
END:VEVENT
BEGIN:VEVENT
DTSTART;TZID=Europe/Rome:20150502T190000
DTEND;TZID=Europe/Rome:20150502T203000
DTSTAMP:20260423T095331
CREATED:20141012T131206Z
LAST-MODIFIED:20141021T134635Z
UID:5094-1430593200-1430598600@www.usbormiese.com
SUMMARY:PALLAVOLO\, 1^ Divisione Femminile - A Porlezza: Volley 2 Laghi - US Bormiese
DESCRIPTION:Campionato Prima Divisione Femminile – 22^Giornata \nA Porlezza\, Volley 2 Laghi – Us Bormiese Idealcasa \nSabato 2 maggio 2015  –  ore 19.00 \n 
URL:https://www.usbormiese.com/event/pallavolo-1-divisione-femminile-a-porlezza-volley-2-laghi-us-bormiese/
LOCATION:Porlezza
CATEGORIES:PALLAVOLO
END:VEVENT
BEGIN:VEVENT
DTSTART;TZID=Europe/Rome:20150502T170000
DTEND;TZID=Europe/Rome:20150502T200000
DTSTAMP:20260423T095331
CREATED:20150429T131435Z
LAST-MODIFIED:20150504T104423Z
UID:7336-1430586000-1430596800@www.usbormiese.com
SUMMARY:PALLAVOLO\, IL PROGRAMMA DELLE PARTITE
DESCRIPTION:PROGRAMMA PARTITE PALLAVOLO \nDEL 2 MAGGIO 2015 \n \n\nUnder 13 Femminile – Quarti di finale (Ritorno)\nA Bormio\, Sabato 2 maggio 2015 – ore 18.00\nUS BORMIESE  –  PALLAVOLO CHIAVENNA\n\n\nPrima Divisione Femminile\nA Porlezza\, Sabato 2 maggio 2015 – ore 19.00\nVOLLEY 2 LAGHI  –  US BORMIESE “IDEALCASA”
URL:https://www.usbormiese.com/event/pallavolo-il-programma-delle-partite-20/
CATEGORIES:PALLAVOLO
END:VEVENT
BEGIN:VEVENT
DTSTART;TZID=Europe/Rome:20150502T170000
DTEND;TZID=Europe/Rome:20150502T190000
DTSTAMP:20260423T095331
CREATED:20150316T214902Z
LAST-MODIFIED:20150316T214902Z
UID:6826-1430586000-1430593200@www.usbormiese.com
SUMMARY:CALCIO\, Allievi - A Chiuro: Penta08-Bormiese
DESCRIPTION:Campionato provinciale Allievi – Fase Primaverile\nA Chiuro\, Penta08-Bormiese
URL:https://www.usbormiese.com/event/calcio-allievi-a-chiuro-penta08-bormiese/
CATEGORIES:CALCIO
END:VEVENT
BEGIN:VEVENT
DTSTART;TZID=Europe/Rome:20150502T150000
DTEND;TZID=Europe/Rome:20150502T163000
DTSTAMP:20260423T095331
CREATED:20150316T213753Z
LAST-MODIFIED:20150316T213753Z
UID:6817-1430578800-1430584200@www.usbormiese.com
SUMMARY:CALCIO\, Esordienti - A Grosio: Grosio-Bormiese
DESCRIPTION:Campionato provinciale Esordienti – Fase Primaverile\nA Grosio\, Grosio-Bormiese
URL:https://www.usbormiese.com/event/calcio-esordienti-a-grosio-grosio-bormiese-2/
CATEGORIES:CALCIO
END:VEVENT
BEGIN:VEVENT
DTSTART;VALUE=DATE:20150430
DTEND;VALUE=DATE:20150501
DTSTAMP:20260423T095332
CREATED:20150414T142225Z
LAST-MODIFIED:20150414T142236Z
UID:7077-1430352000-1430438399@www.usbormiese.com
SUMMARY:Mountain bike: corso di avviamento e perfezionamento
DESCRIPTION:Dal 27 aprile al 4 luglio 2015 CORSO DI AVVIAMENTO e PERFEZIONAMENTO ALLA MTB  \nL’iniziativa è organizzata dal gruppo mountain bike del settore ciclismo dell’Unione Sportiva Bormiese ed è indirizzato a bambini e bambine da 6 a 12 anni. \nL’iniziativa si svolge nel nelle giornate di lunedì e giovedì in base al programma definito dagli istruttori \nPer adesioni ed informazioni >>> info@usbormiese.com – 0342.901482
URL:https://www.usbormiese.com/event/mountain-bike-corso-di-avviamento-e-perfezionamento-2/
CATEGORIES:MOUNTAIN BIKE
ATTACH;FMTTYPE=image/jpeg:https://www.usbormiese.com/wp-content/uploads/2015/04/mountainBike.jpg
END:VEVENT
BEGIN:VEVENT
DTSTART;VALUE=DATE:20150427
DTEND;VALUE=DATE:20150428
DTSTAMP:20260423T095332
CREATED:20150414T141908Z
LAST-MODIFIED:20150414T141908Z
UID:7074-1430092800-1430179199@www.usbormiese.com
SUMMARY:Mountain bike: corso di avviamento e perfezionamento
DESCRIPTION:Dal 27 aprile al 4 luglio 2015 CORSO DI AVVIAMENTO e PERFEZIONAMENTO ALLA MTB \nL’iniziativa è organizzata dal gruppo mountain bike del settore ciclismo dell’Unione Sportiva Bormiese ed è indirizzato a bambini e bambine da 6 a 12 anni. \nL’iniziativa si svolge nel nelle giornate di lunedì e giovedì in base al programma definito dagli istruttori \nPer adesioni ed informazioni >>> info@usbormiese.com – 0342.901482
URL:https://www.usbormiese.com/event/mountain-bike-corso-di-avviamento-e-perfezionamento/
CATEGORIES:MOUNTAIN BIKE
ATTACH;FMTTYPE=image/jpeg:https://www.usbormiese.com/wp-content/uploads/2015/04/mountainBike.jpg
END:VEVENT
BEGIN:VEVENT
DTSTART;TZID=Europe/Rome:20150426T153000
DTEND;TZID=Europe/Rome:20150426T173000
DTSTAMP:20260423T095332
CREATED:20150316T211524Z
LAST-MODIFIED:20150316T211524Z
UID:6802-1430062200-1430069400@www.usbormiese.com
SUMMARY:Calcio\, 2^categoria - A Bormio: Bormiese-Talamonese
DESCRIPTION:Campionato 2^ Categoria – Girone W – Girone di ritorno\nA Bormio\, Bormiese-Talamonese
URL:https://www.usbormiese.com/event/calcio-2categoria-a-bormio-bormiese-talamonese/
CATEGORIES:CALCIO
END:VEVENT
BEGIN:VEVENT
DTSTART;TZID=Europe/Rome:20150426T153000
DTEND;TZID=Europe/Rome:20150426T170000
DTSTAMP:20260423T095332
CREATED:20141012T131026Z
LAST-MODIFIED:20141021T134659Z
UID:5093-1430062200-1430067600@www.usbormiese.com
SUMMARY:PALLAVOLO\, 1^ Divisione Femminile - A Bormio: US Bormiese - Volley Morbegno
DESCRIPTION:Campionato Prima Divisione Femminile – 21^Giornata \nA Bormio\, Us Bormiese Idealcasa – Volley Morbegno \nDomenica 26 aprile 2015  –  ore 15.30 \n 
URL:https://www.usbormiese.com/event/pallavolo-1-divisione-femminile-a-bormio-us-bormiese-volley-morbegno/
LOCATION:Bormio
CATEGORIES:PALLAVOLO
END:VEVENT
BEGIN:VEVENT
DTSTART;VALUE=DATE:20150426
DTEND;VALUE=DATE:20150427
DTSTAMP:20260423T095332
CREATED:20150414T145029Z
LAST-MODIFIED:20150414T145029Z
UID:7097-1430006400-1430092799@www.usbormiese.com
SUMMARY:Memorial Chicco Longo 2015: skialp\, ciaspole e camminata
DESCRIPTION:Domenica 26 aprile 2015 appuntamento tra rifugio Forni e rifugio Pizzini per il Memorial Chicco Longo 2015  \nAppuntamento importante per ricordare l’amico Chicco Longo e per un’azione di solidarietà \nProgramma \nore 8.30 partenza dal rifugio Forni verso il rifugio Pizzini con sci d’alpinismo\, ciaspole o a piedi \nore 11.30 santa messa presso il rifugio Forni \nore 13.00 pranzo al rifugio Forni ed a seguire lotteria ed estrazione premi \nIscrizioni presso \nUnione Sportiva Bormiese – Consorzio Turisposrt Santa Caterina\, Pro Loco Valdidentro e Pro Loco Valdisotto \nIl ricavato servirà ad acquistare un defibrillatore da destinare ai rifugi alpini dell’Alta Valtellina
URL:https://www.usbormiese.com/event/memorial-chicco-longo-2015-skialp-ciaspole-e-camminata/
CATEGORIES:MANIFESTAZIONI
ATTACH;FMTTYPE=image/jpeg:https://www.usbormiese.com/wp-content/uploads/2015/04/skialp-eventi.jpg
END:VEVENT
BEGIN:VEVENT
DTSTART;TZID=Europe/Rome:20150425T180000
DTEND;TZID=Europe/Rome:20150425T193000
DTSTAMP:20260423T095332
CREATED:20150316T212819Z
LAST-MODIFIED:20150316T212819Z
UID:6810-1429984800-1429990200@www.usbormiese.com
SUMMARY:CALCIO\, Giovanissimi - A Sondrio: Sondrio-Bormiese
DESCRIPTION:Campionato provinciale Giovanissimi – Fase Primaverile\nA Sondrio\, Sondrio-Bormiese
URL:https://www.usbormiese.com/event/calcio-giovanissimi-a-sondrio-sondrio-bormiese-2/
CATEGORIES:CALCIO
END:VEVENT
BEGIN:VEVENT
DTSTART;TZID=Europe/Rome:20150425T173000
DTEND;TZID=Europe/Rome:20150425T193000
DTSTAMP:20260423T095332
CREATED:20150316T214748Z
LAST-MODIFIED:20150316T214748Z
UID:6825-1429983000-1429990200@www.usbormiese.com
SUMMARY:CALCIO\, Allievi - A Bormio: Bormiese-Pontese
DESCRIPTION:Campionato provinciale Allievi – Fase Primaverile\nA Bormio\, Bormiese-Pontese
URL:https://www.usbormiese.com/event/calcio-allievi-a-bormio-bormiese-pontese/
CATEGORIES:CALCIO
END:VEVENT
BEGIN:VEVENT
DTSTART;TZID=Europe/Rome:20150425T153000
DTEND;TZID=Europe/Rome:20150425T170000
DTSTAMP:20260423T095332
CREATED:20150316T214148Z
LAST-MODIFIED:20150316T214148Z
UID:6820-1429975800-1429981200@www.usbormiese.com
SUMMARY:CALCIO\, Esordienti - A Bormio: Bormiese-Tiranese
DESCRIPTION:Campionato provinciale Esordienti – Fase Primaverile\nA Bormio\, Bormiese-Tiranese
URL:https://www.usbormiese.com/event/calcio-esordienti-a-bormio-bormiese-tiranese-2/
CATEGORIES:CALCIO
END:VEVENT
BEGIN:VEVENT
DTSTART;TZID=Europe/Rome:20150425T080000
DTEND;TZID=Europe/Rome:20150426T200000
DTSTAMP:20260423T095332
CREATED:20150424T062117Z
LAST-MODIFIED:20150429T131509Z
UID:7279-1429948800-1430078400@www.usbormiese.com
SUMMARY:PALLAVOLO\, IL PROGRAMMA DELLE PARTITE
DESCRIPTION:PROGRAMMA PARTITE PALLAVOLO \nDAL 25 AL 26 APRILE 2015 \n \n\n1^ Tappa concentramenti Minivolley\nA Grosio\, Sabato 25 aprile 2015\n\n\nPrima Divisione Femminile\nA Bormio\, Sabato 25 aprile 2015 – ore 18.00\nUS BORMIESE “IDEALCASA”  –  VOLLEY MORBEGNO\n\n\nUnder 13 Femminile – Quarti di finale (Andata)\nA Prosto di Piuro\, Domenica 26 aprile 2015 – ore 19.30\nPALLAVOLO CHIAVENNA  –  US BORMIESE
URL:https://www.usbormiese.com/event/pallavolo-il-programma-delle-partite-19/
CATEGORIES:PALLAVOLO
END:VEVENT
BEGIN:VEVENT
DTSTART;VALUE=DATE:20150425
DTEND;VALUE=DATE:20150426
DTSTAMP:20260423T095332
CREATED:20150413T130036Z
LAST-MODIFIED:20150413T130036Z
UID:7066-1429920000-1430006399@www.usbormiese.com
SUMMARY:Atletica: 26° Trofeo Morbegnese
DESCRIPTION:Sabato 25 aprile 2015 a Morbegno (SO) – 26° TROFEO MORBEGNESE \nGara regionale di corsa su strada \nCampionato provinciale individuale e di società di corsa su strada \nTrofeo AVIS Morbegno alla prima società classificata \nCATEGORIE: TUTTE \nRitrovo ore 16:00 \nInizio gare ore 17:00 \nOrganizzazione: G.S. CSI MORBEGNO Latteria Sociale Valtellina Delebio – Rovagnati Carni \nPer informazioni: tel. 0342/637225\, info@gscsimorbegno.org\, www.gscsimorbegno.org
URL:https://www.usbormiese.com/event/atletica-26-trofeo-morbegnese/
CATEGORIES:ATLETICA
ATTACH;FMTTYPE=image/jpeg:https://www.usbormiese.com/wp-content/uploads/2015/01/UsbAtletica.jpg
END:VEVENT
BEGIN:VEVENT
DTSTART;TZID=Europe/Rome:20150419T153000
DTEND;TZID=Europe/Rome:20150419T173000
DTSTAMP:20260423T095332
CREATED:20150316T211315Z
LAST-MODIFIED:20150316T211315Z
UID:6800-1429457400-1429464600@www.usbormiese.com
SUMMARY:Calcio\, 2^categoria - A Tirano: Tiranese-Bormiese
DESCRIPTION:Campionato 2^ Categoria – Girone W – Girone di ritorno\nA Tirano\, Tiranese-Bormiese
URL:https://www.usbormiese.com/event/calcio-2categoria-a-tirano-tiranese-bormiese/
CATEGORIES:CALCIO
END:VEVENT
BEGIN:VEVENT
DTSTART;TZID=Europe/Rome:20150419T103000
DTEND;TZID=Europe/Rome:20150419T120000
DTSTAMP:20260423T095332
CREATED:20150316T212712Z
LAST-MODIFIED:20150316T212712Z
UID:6809-1429439400-1429444800@www.usbormiese.com
SUMMARY:CALCIO\, Giovanissimi - A Bormio: Bormiese-Sondalo
DESCRIPTION:Campionato provinciale Giovanissimi – Fase Primaverile\nA Bormio\, Bormiese-Sondalo
URL:https://www.usbormiese.com/event/calcio-giovanissimi-a-bormio-bormiese-sondalo-2/
CATEGORIES:CALCIO
END:VEVENT
BEGIN:VEVENT
DTSTART;TZID=Europe/Rome:20150418T203000
DTEND;TZID=Europe/Rome:20150418T220000
DTSTAMP:20260423T095332
CREATED:20141012T130907Z
LAST-MODIFIED:20141021T134731Z
UID:5091-1429389000-1429394400@www.usbormiese.com
SUMMARY:PALLAVOLO\, 1^ Divisione Femminile - A Sondrio: Libertas Berbenno - US Bormiese
DESCRIPTION:Campionato Prima Divisione Femminile – 20^Giornata \nA Sondrio\, Libertas Berbenno – Us Bormiese Idealcasa \nSabato 18 aprile 2015  –  ore 20.30 \n 
URL:https://www.usbormiese.com/event/pallavolo-1-divisione-femminile-a-sondrio-libertas-berbenno-us-bormiese/
LOCATION:Sondrio
CATEGORIES:PALLAVOLO
END:VEVENT
BEGIN:VEVENT
DTSTART;TZID=Europe/Rome:20150418T200000
DTEND;TZID=Europe/Rome:20150419T190000
DTSTAMP:20260423T095332
CREATED:20150415T131136Z
LAST-MODIFIED:20150424T062137Z
UID:7101-1429387200-1429470000@www.usbormiese.com
SUMMARY:PALLAVOLO\, IL PROGRAMMA DELLE PARTITE
DESCRIPTION:PROGRAMMA PARTITE PALLAVOLO \nDAL 18 AL 19 APRILE 2015 \n \n\nPrima Divisione Femminile\nA Sondrio\, Sabato 18 aprile 2015 – ore 20.30\nLIBERTAS BERBENNO  –  US BORMIESE “IDEALCASA”\n\n\nUnder 17 Maschile  –  3^Giornata Fase Regionale\nA Bormio\, Domenica 19 aprile 2015 – ore 17.00\nUS BORMIESE “ALLIANZ”  –  CALONI AGNELLI AZZANO
URL:https://www.usbormiese.com/event/pallavolo-il-programma-delle-partite-18/
CATEGORIES:PALLAVOLO
END:VEVENT
BEGIN:VEVENT
DTSTART;TZID=Europe/Rome:20150418T173000
DTEND;TZID=Europe/Rome:20150418T193000
DTSTAMP:20260423T095332
CREATED:20150316T214642Z
LAST-MODIFIED:20150316T214642Z
UID:6824-1429378200-1429385400@www.usbormiese.com
SUMMARY:CALCIO\, Allievi - A Bormio: Bormiese-Sondrio
DESCRIPTION:Campionato provinciale Allievi – Fase Primaverile\nA Bormio\, Bormiese-Sondrio
URL:https://www.usbormiese.com/event/calcio-allievi-a-bormio-bormiese-sondrio/
CATEGORIES:CALCIO
END:VEVENT
BEGIN:VEVENT
DTSTART;TZID=Europe/Rome:20150418T153000
DTEND;TZID=Europe/Rome:20150418T170000
DTSTAMP:20260423T095332
CREATED:20150316T214044Z
LAST-MODIFIED:20150316T214044Z
UID:6819-1429371000-1429376400@www.usbormiese.com
SUMMARY:CALCIO\, Esordienti - A Bormio: Bormiese-Livigno
DESCRIPTION:Campionato provinciale Esordienti – Fase Primaverile\nA Bormio\, Bormiese-Livigno
URL:https://www.usbormiese.com/event/calcio-esordienti-a-bormio-bormiese-livigno/
CATEGORIES:CALCIO
END:VEVENT
BEGIN:VEVENT
DTSTART;TZID=Europe/Rome:20150416T203000
DTEND;TZID=Europe/Rome:20150416T223000
DTSTAMP:20260423T095332
CREATED:20150316T211425Z
LAST-MODIFIED:20150316T211425Z
UID:6801-1429216200-1429223400@www.usbormiese.com
SUMMARY:Calcio\, 2^categoria - A Grosio: Grosio-Bormiese
DESCRIPTION:Campionato 2^ Categoria – Girone W – Girone di ritorno\nA Grosio\, Grosio-Bormiese
URL:https://www.usbormiese.com/event/calcio-2categoria-a-grosio-grosio-bormiese/
CATEGORIES:CALCIO
END:VEVENT
BEGIN:VEVENT
DTSTART;TZID=Europe/Rome:20150412T153000
DTEND;TZID=Europe/Rome:20150412T173000
DTSTAMP:20260423T095332
CREATED:20150316T211155Z
LAST-MODIFIED:20150316T211155Z
UID:6799-1428852600-1428859800@www.usbormiese.com
SUMMARY:Calcio\, 2^categoria - A Bormio: Bormiese-Chiavennese
DESCRIPTION:Campionato 2^ Categoria – Girone W – Girone di ritorno\nA Bormio\, Bormiese-Chiavennese
URL:https://www.usbormiese.com/event/calcio-2categoria-a-bormio-bormiese-chiavennese/
CATEGORIES:CALCIO
END:VEVENT
BEGIN:VEVENT
DTSTART;TZID=Europe/Rome:20150412T110000
DTEND;TZID=Europe/Rome:20150412T130000
DTSTAMP:20260423T095332
CREATED:20150316T212610Z
LAST-MODIFIED:20150316T212610Z
UID:6808-1428836400-1428843600@www.usbormiese.com
SUMMARY:CALCIO\, Giovanissimi - A Livigno: Livigno-Bormiese
DESCRIPTION:Campionato provinciale Giovanissimi – Fase Primaverile\nA Livigno\, Livigno-Bormiese
URL:https://www.usbormiese.com/event/calcio-giovanissimi-a-livigno-livigno-bormiese-2/
CATEGORIES:CALCIO
END:VEVENT
BEGIN:VEVENT
DTSTART;TZID=Europe/Rome:20150412T100000
DTEND;TZID=Europe/Rome:20150412T220000
DTSTAMP:20260423T095332
CREATED:20150410T063419Z
LAST-MODIFIED:20150415T131155Z
UID:7059-1428832800-1428876000@www.usbormiese.com
SUMMARY:PALLAVOLO\, IL PROGRAMMA DELLE PARTITE
DESCRIPTION:PROGRAMMA PARTITE PALLAVOLO \nDEL 12 APRILE 2015 \n \n\nUnder 12 Femminile\nA Sondrio\, Finali 9°-12° Posto\nore 10.00  GS RIO SCIANNO 3  –  US TALAMONESE\nA Sondrio\, Finali 15°-18° Posto\nore 11.00  GS RIO SCIANNO 2  –  GS RIO SCIANNO 1\nore 14.00  GS RIO SCIANNO 1  –  VOLLEY 2 LAGHI\nore 15.15   VOLLEY 2 LAGHI  –  GS RIO SCIANNO 2\n\n\n  \n\nUnder 17 Maschile – Fase Regionale\nA Malnate (VA)\, ore 21.00\nYAKA VOLLEY  –  US BORMIESE “ALLIANZ ASSICURAZIONI”\n\n 
URL:https://www.usbormiese.com/event/pallavolo-il-programma-delle-partite-17/
CATEGORIES:PALLAVOLO
END:VEVENT
BEGIN:VEVENT
DTSTART;TZID=Europe/Rome:20150411T180000
DTEND;TZID=Europe/Rome:20150411T200000
DTSTAMP:20260423T095332
CREATED:20150316T214543Z
LAST-MODIFIED:20150316T214543Z
UID:6823-1428775200-1428782400@www.usbormiese.com
SUMMARY:CALCIO\, Allievi - Ad Albosaggia: Albosaggia-Bormiese
DESCRIPTION:Campionato provinciale Allievi – Fase Primaverile\nAd Albosaggia\, Albosaggia-Bormiese
URL:https://www.usbormiese.com/event/calcio-allievi-ad-albosaggia-albosaggia-bormiese/
CATEGORIES:CALCIO
END:VEVENT
BEGIN:VEVENT
DTSTART;TZID=Europe/Rome:20150411T150000
DTEND;TZID=Europe/Rome:20150411T163000
DTSTAMP:20260423T095332
CREATED:20150316T213917Z
LAST-MODIFIED:20150316T213917Z
UID:6818-1428764400-1428769800@www.usbormiese.com
SUMMARY:CALCIO\, Esordienti - A Stazzona: Polisportiva Villa-Bormiese
DESCRIPTION:Campionato provinciale Esordienti – Fase Primaverile\nA Stazzona\, Polisportiva Villa-Bormiese
URL:https://www.usbormiese.com/event/calcio-esordienti-a-stazzona-polisportiva-villa-bormiese/
CATEGORIES:CALCIO
END:VEVENT
BEGIN:VEVENT
DTSTART;TZID=Europe/Rome:20150410T210000
DTEND;TZID=Europe/Rome:20150410T230000
DTSTAMP:20260423T095332
CREATED:20150316T212039Z
LAST-MODIFIED:20150316T212039Z
UID:6805-1428699600-1428706800@www.usbormiese.com
SUMMARY:Calcio\, Calcio a 5 - A Bormio: Bormiese-Valtellina Futsal
DESCRIPTION:Campionato serie C – Girone di ritorno\nA Bormio\, Bormiese-Valtellina Futsal
URL:https://www.usbormiese.com/event/calcio-calcio-a-5-a-bormio-bormiese-valtellina-futsal/
CATEGORIES:CALCIO
END:VEVENT
BEGIN:VEVENT
DTSTART;VALUE=DATE:20150409
DTEND;VALUE=DATE:20150410
DTSTAMP:20260423T095332
CREATED:20150331T075849Z
LAST-MODIFIED:20150414T151751Z
UID:6905-1428537600-1428623999@www.usbormiese.com
SUMMARY:Unione Sportiva Bormiese: assemblea ordinaria 2015
DESCRIPTION:UNIONE SPORTIVA BORMIESE ASSEMBLEA ORDINARIA DEI SOCI\nGIOVEDI’ 9 APRILE 2015 SALA RIUNIONI BANCA POPOLARE DI SONDRIO\nI SOCI DELL’UNIONE SPORTIVA BORMIESE SONO CONVOCATI IN ASSEMBLEA ORDINARIA PRESSO LA\nSALA RIUNIONI DELLA BANCA POPOLARE DI SONDRIO\, FILIALE DI BORMIO\, IN VIA ROMA 131 A BORMIO\,\nPER IL GIORNO GIOVEDÌ 9 APRILE 2015 ALLE ORE 17\,00 IN PRIMA CONVOCAZIONE ED ALLE ORE 20\,30\nIN SECONDA CONVOCAZIONE PER DISCUTERE E DELIBERARE SUL SEGUENTE ORDINE DEL GIORNO:\n1) SALUTO DEL PRESIDENTE \n2) APPROVAZIONE BILANCIO 2015 \n3) DETERMINAZIONE ED APPROVAZIONE QUOTE ASSOCIATIVE 2016 \n4) RELAZIONE SULLE ATTIVITÀ SVOLTE NELL’ANNO 2014 \n5) EVENTI PRIMAVERA ED ESTATE 2015 \n6) VARIE ED EVENTUALI\nIL PRESIDENTE PIERLUIGI SPECHENHAUSER
URL:https://www.usbormiese.com/event/unione-sportiva-bormiese-assemblea-ordinaria-2015/
ATTACH;FMTTYPE=image/png:https://www.usbormiese.com/wp-content/uploads/2014/07/g1161.png
END:VEVENT
BEGIN:VEVENT
DTSTART;TZID=Europe/Rome:20150408T200000
DTEND;TZID=Europe/Rome:20150508T230000
DTSTAMP:20260423T095332
CREATED:20150404T115152Z
LAST-MODIFIED:20150404T115346Z
UID:7027-1428523200-1431126000@www.usbormiese.com
SUMMARY:PALLAVOLO\, 5° TROFEO BLUE EYES
DESCRIPTION:Torneo primaverile di pallavolo organizzato da Polisportiva Valfurva e Us Bormiese \nCalendario e risultati a questo link
URL:https://www.usbormiese.com/event/pallavolo-5-trofeo-blue-eyes/
CATEGORIES:PALLAVOLO
END:VEVENT
END:VCALENDAR