BEGIN:VCALENDAR
VERSION:2.0
PRODID:-//Unione Sportiva Bormiese - ECPv6.8.2.1//NONSGML v1.0//EN
CALSCALE:GREGORIAN
METHOD:PUBLISH
X-WR-CALNAME:Unione Sportiva Bormiese
X-ORIGINAL-URL:https://www.usbormiese.com
X-WR-CALDESC:Eventi per Unione Sportiva Bormiese
REFRESH-INTERVAL;VALUE=DURATION:PT1H
X-Robots-Tag:noindex
X-PUBLISHED-TTL:PT1H
BEGIN:VTIMEZONE
TZID:Europe/Rome
BEGIN:DAYLIGHT
TZOFFSETFROM:+0100
TZOFFSETTO:+0200
TZNAME:CEST
DTSTART:20150329T010000
END:DAYLIGHT
BEGIN:STANDARD
TZOFFSETFROM:+0200
TZOFFSETTO:+0100
TZNAME:CET
DTSTART:20151025T010000
END:STANDARD
END:VTIMEZONE
BEGIN:VEVENT
DTSTART;TZID=Europe/Rome:20150408T180000
DTEND;TZID=Europe/Rome:20150408T200000
DTSTAMP:20260423T150859
CREATED:20150316T214433Z
LAST-MODIFIED:20150316T214433Z
UID:6822-1428516000-1428523200@www.usbormiese.com
SUMMARY:CALCIO\, Allievi - A Bormio: Bormiese-Ardenno
DESCRIPTION:Campionato provinciale Allievi – Fase Primaverile\nA Bormio\, Bormiese-Ardenno
URL:https://www.usbormiese.com/event/calcio-allievi-a-bormio-bormiese-ardenno/
CATEGORIES:CALCIO
END:VEVENT
BEGIN:VEVENT
DTSTART;TZID=Europe/Rome:20150406T153000
DTEND;TZID=Europe/Rome:20150406T173000
DTSTAMP:20260423T150859
CREATED:20150316T211014Z
LAST-MODIFIED:20150316T211014Z
UID:6798-1428334200-1428341400@www.usbormiese.com
SUMMARY:Calcio\, 2^categoria - A Bormio: Bormiese-Valmalenco
DESCRIPTION:Campionato 2^ Categoria – Girone W – Girone di ritorno\nA Bormio\, Bormiese-Valmalenco
URL:https://www.usbormiese.com/event/calcio-2categoria-a-bormio-bormiese-valmalenco/
CATEGORIES:CALCIO
END:VEVENT
BEGIN:VEVENT
DTSTART;TZID=Europe/Rome:20150404T174500
DTEND;TZID=Europe/Rome:20150404T194500
DTSTAMP:20260423T150859
CREATED:20150316T214326Z
LAST-MODIFIED:20150316T214326Z
UID:6821-1428169500-1428176700@www.usbormiese.com
SUMMARY:CALCIO\, Allievi - A Chiesa Valmalenco: Valmalenco-Bormiese
DESCRIPTION:Campionato provinciale Allievi – Fase Primaverile\nA Chiesa\, Valmalenco-Bormiese
URL:https://www.usbormiese.com/event/calcio-allievi-a-chiesa-valmalenco-valmalenco-bormiese-2/
CATEGORIES:CALCIO
END:VEVENT
BEGIN:VEVENT
DTSTART;VALUE=DATE:20150404
DTEND;VALUE=DATE:20150406
DTSTAMP:20260423T150859
CREATED:20141202T162939Z
LAST-MODIFIED:20141202T162939Z
UID:5830-1428105600-1428278399@www.usbormiese.com
SUMMARY:Short track - A Torino campionati regionali
DESCRIPTION:Sarà Torino\, nel primo fine settimana di aprile (data da confermare) ad ospitare i campionati regionali 2015 di short track (che diventano interregionali)
URL:https://www.usbormiese.com/event/short-track-a-torino-campionati-regionali/
CATEGORIES:SHORT TRACK
ATTACH;FMTTYPE=image/jpeg:https://www.usbormiese.com/wp-content/uploads/2014/10/logoBormioGhiaccio.jpg
END:VEVENT
BEGIN:VEVENT
DTSTART;TZID=Europe/Rome:20150329T153000
DTEND;TZID=Europe/Rome:20150329T173000
DTSTAMP:20260423T150859
CREATED:20150316T210833Z
LAST-MODIFIED:20150316T211044Z
UID:6797-1427643000-1427650200@www.usbormiese.com
SUMMARY:Calcio\, 2^categoria - A Civate: Oratorio San Giovanni-Bormiese
DESCRIPTION:Campionato 2^ Categoria – Girone W – Girone di ritorno\nA Civate\, Oratorio San Giovanni-Bormiese
URL:https://www.usbormiese.com/event/calcio-2categoria-a-civate-oratorio-san-giovanni-bormiese/
CATEGORIES:CALCIO
END:VEVENT
BEGIN:VEVENT
DTSTART;TZID=Europe/Rome:20150329T153000
DTEND;TZID=Europe/Rome:20150329T170000
DTSTAMP:20260423T150859
CREATED:20141012T130734Z
LAST-MODIFIED:20141021T134754Z
UID:5090-1427643000-1427648400@www.usbormiese.com
SUMMARY:PALLAVOLO\, 1^ Divisione Femminile - A Bormiese: US Bormiese - Cosio Volley
DESCRIPTION:Campionato Prima Divisione Femminile – 18^Giornata \nA Bormio\, Us Bormiese Idealcasa – Cosio Volley \nDomenica 29 marzo 2015  –  ore 15.30 \n 
URL:https://www.usbormiese.com/event/pallavolo-1-divisione-femminile-a-bormio-us-bormiese-cosio-volley/
LOCATION:Bormio
CATEGORIES:PALLAVOLO
END:VEVENT
BEGIN:VEVENT
DTSTART;TZID=Europe/Rome:20150329T100000
DTEND;TZID=Europe/Rome:20150329T120000
DTSTAMP:20260423T150859
CREATED:20150316T212444Z
LAST-MODIFIED:20150316T212444Z
UID:6807-1427623200-1427630400@www.usbormiese.com
SUMMARY:CALCIO\, Giovanissimi - A Grosio: Grosio-Bormiese
DESCRIPTION:Campionato provinciale Giovanissimi – Fase Primaverile\nA Grosio\, Grosio-Bormiese
URL:https://www.usbormiese.com/event/calcio-giovanissimi-a-grosio-grosio-bormiese-2/
CATEGORIES:CALCIO
END:VEVENT
BEGIN:VEVENT
DTSTART;TZID=Europe/Rome:20150328T173000
DTEND;TZID=Europe/Rome:20150328T193000
DTSTAMP:20260423T150859
CREATED:20150316T213346Z
LAST-MODIFIED:20150316T213346Z
UID:6814-1427563800-1427571000@www.usbormiese.com
SUMMARY:CALCIO\, Allievi - A Berbenno: Berbenno-Bormiese
DESCRIPTION:Campionato provinciale Allievi – Fase Primaverile\nA Berbenno\, Berbenno-Bormiese
URL:https://www.usbormiese.com/event/calcio-allievi-a-berbenno-berbenno-bormiese/
CATEGORIES:CALCIO
END:VEVENT
BEGIN:VEVENT
DTSTART;TZID=Europe/Rome:20150328T170000
DTEND;TZID=Europe/Rome:20150328T200000
DTSTAMP:20260423T150859
CREATED:20150326T071856Z
LAST-MODIFIED:20150410T063434Z
UID:6866-1427562000-1427572800@www.usbormiese.com
SUMMARY:PALLAVOLO\, IL PROGRAMMA DELLE PARTITE
DESCRIPTION:PROGRAMMA PARTITE PALLAVOLO \nDEL 28 MARZO 2015 \n \n\nUnder 15 Maschile\nA Bormio\, Sabato 28 marzo 2015 – ore 18.00\nUS BORMIESE “ALLIANZ”  –  PALLAVOLO ALTOLARIO\n\n\nPrima Divisione Femminile\nA Bormio\, Sabato 28 marzo 2015 – ore 19.30\nUS BORMIESE “IDEALCASA”  –  COSIO VOLLEY\n\n  \n 
URL:https://www.usbormiese.com/event/pallavolo-il-programma-delle-partite-16/
CATEGORIES:PALLAVOLO
END:VEVENT
BEGIN:VEVENT
DTSTART;TZID=Europe/Rome:20150328T153000
DTEND;TZID=Europe/Rome:20150328T170000
DTSTAMP:20260423T150859
CREATED:20150316T213631Z
LAST-MODIFIED:20150316T213631Z
UID:6816-1427556600-1427562000@www.usbormiese.com
SUMMARY:CALCIO\, Esordienti - A Bormio: Bormiese-Pontese
DESCRIPTION:Campionato provinciale Esordienti – Fase Primaverile\nA Bormio\, Bormiese-Pontese
URL:https://www.usbormiese.com/event/calcio-esordienti-a-bormio-bormiese-pontese/
CATEGORIES:CALCIO
END:VEVENT
BEGIN:VEVENT
DTSTART;VALUE=DATE:20150328
DTEND;VALUE=DATE:20150330
DTSTAMP:20260423T150859
CREATED:20150315T162759Z
LAST-MODIFIED:20150414T151438Z
UID:5829-1427500800-1427673599@www.usbormiese.com
SUMMARY:Short track - Campionati italiani 2015 di categoria a Bormio
DESCRIPTION:Anche quest’anno il gran finale della stagione dello short track è in programma a Bormio.   La Bormio Ghiaccio A.S.D. in collaborazione con la F.I.S.G.\, organizza i “CAMPIONATI ITALIANI per CATEGORIA” Short Track\, che si terranno il 28-29 marzo 2015 presso lo stadio del ghiaccio di Bormio in Via Manzoni. \nPROGRAMMA \n\nSabato\, 28 Marzo 2015\n\nore 08.15 riunione team leaders – c/o palaghiaccio\nore 08.30 allenamento ufficiale\nore 09.00 inizio gare\n\n\nDomenica\, 29 Marzo 2015\n\nore 08.00 Allenamento ufficiale\nore 09.00 Inizio gare\n\n\n\nCLASSIFICHE
URL:https://www.usbormiese.com/event/short-track-a-bormio-i-campionati-italiani-2015-per-categoria/
CATEGORIES:SHORT TRACK
ATTACH;FMTTYPE=image/jpeg:https://www.usbormiese.com/wp-content/uploads/2014/10/logoBormioGhiaccio.jpg
END:VEVENT
BEGIN:VEVENT
DTSTART;TZID=Europe/Rome:20150326T204500
DTEND;TZID=Europe/Rome:20150326T224500
DTSTAMP:20260423T150859
CREATED:20150316T211923Z
LAST-MODIFIED:20150316T211923Z
UID:6804-1427402700-1427409900@www.usbormiese.com
SUMMARY:Calcio\, Calcio a 5 - A Morbegno: Futura C5 Morbegno-Bormiese
DESCRIPTION:Campionato serie C – Girone di ritorno\nA Morbegno\, Futura C5 Morbegno-Bormiese
URL:https://www.usbormiese.com/event/calcio-calcio-a-5-a-morbegno-futura-c5-morbegno-bormiese/
CATEGORIES:CALCIO
END:VEVENT
BEGIN:VEVENT
DTSTART;TZID=Europe/Rome:20150322T143000
DTEND;TZID=Europe/Rome:20150322T163000
DTSTAMP:20260423T150859
CREATED:20150316T210707Z
LAST-MODIFIED:20150316T210707Z
UID:6796-1427034600-1427041800@www.usbormiese.com
SUMMARY:Calcio\, 2^categoria - A Bormio: Bormiese-Brongio
DESCRIPTION:Campionato 2^ Categoria – Girone W – Girone di ritorno\nA Bormio\, Bormiese-Brongio
URL:https://www.usbormiese.com/event/calcio-2categoria-a-bormio-bormiese-brongio/
CATEGORIES:CALCIO
END:VEVENT
BEGIN:VEVENT
DTSTART;TZID=Europe/Rome:20150322T103000
DTEND;TZID=Europe/Rome:20150322T123000
DTSTAMP:20260423T150859
CREATED:20150316T212336Z
LAST-MODIFIED:20150316T212336Z
UID:6806-1427020200-1427027400@www.usbormiese.com
SUMMARY:CALCIO\, Giovanissimi - A Bormio: Bormiese-Tiranese
DESCRIPTION:Campionato provinciale Giovanissimi – Fase Primaverile\nA Bormio\, Bormiese-Tiranese
URL:https://www.usbormiese.com/event/calcio-giovanissimi-a-bormio-bormiese-tiranese-2/
CATEGORIES:CALCIO
END:VEVENT
BEGIN:VEVENT
DTSTART;TZID=Europe/Rome:20150321T210000
DTEND;TZID=Europe/Rome:20150321T223000
DTSTAMP:20260423T150859
CREATED:20141123T143327Z
LAST-MODIFIED:20141123T143327Z
UID:5700-1426971600-1426977000@www.usbormiese.com
SUMMARY:PALLAVOLO\, 1^ Divisione Maschile - A Bormio: Us Bormiese - Movida
DESCRIPTION:Campionato Prima Divisione Maschile – 10^Giornata \nA Bormio\, Us Bormiese Pub Clem – Movida \nSabato 21 marzo 2015  –  ore 21.00 \n 
URL:https://www.usbormiese.com/event/pallavolo-1-divisione-maschile-a-bormio-us-bormiese-movida/
LOCATION:Bormio
CATEGORIES:PALLAVOLO
END:VEVENT
BEGIN:VEVENT
DTSTART;TZID=Europe/Rome:20150321T203000
DTEND;TZID=Europe/Rome:20150321T220000
DTSTAMP:20260423T150859
CREATED:20141012T130626Z
LAST-MODIFIED:20141021T134128Z
UID:5088-1426969800-1426975200@www.usbormiese.com
SUMMARY:PALLAVOLO\, 1^ Divisione Femminile - A Delebio: US Delebio - US Bormiese
DESCRIPTION:Campionato Prima Divisione Femminile – 17^Giornata \nA Delebio\, Us Delebio – Us Bormiese Idealcasa \nSabato 21 marzo 2015  –  ore 20.30 \n 
URL:https://www.usbormiese.com/event/pallavolo-1-divisione-femminile-a-delebio-us-delebio-us-bormiese/
LOCATION:Delebio
CATEGORIES:PALLAVOLO
END:VEVENT
BEGIN:VEVENT
DTSTART;TZID=Europe/Rome:20150321T173000
DTEND;TZID=Europe/Rome:20150321T193000
DTSTAMP:20260423T150859
CREATED:20150316T213220Z
LAST-MODIFIED:20150316T213220Z
UID:6813-1426959000-1426966200@www.usbormiese.com
SUMMARY:CALCIO\, Allievi - A Bormio: Bormiese-Penta08
DESCRIPTION:Campionato provinciale Allievi – Fase Primaverile\nA Bormio\, Bormiese-Penta08
URL:https://www.usbormiese.com/event/calcio-allievi-a-bormio-bormiese-penta08/
CATEGORIES:CALCIO
END:VEVENT
BEGIN:VEVENT
DTSTART;TZID=Europe/Rome:20150321T160000
DTEND;TZID=Europe/Rome:20150323T200000
DTSTAMP:20260423T150859
CREATED:20150319T072746Z
LAST-MODIFIED:20150326T071911Z
UID:6835-1426953600-1427140800@www.usbormiese.com
SUMMARY:PALLAVOLO\, IL PROGRAMMA DELLE PARTITE
DESCRIPTION:PROGRAMMA PARTITE PALLAVOLO \nDAL 21 AL 23 MARZO 2015 \n \n\nUnder 13 Femminile – Girone H\nA Bormio\, Sabato 21 marzo 2015 – ore 16.30\nGS RIO SCIANNO  –  COSIO VOLLEY\n\n\nUnder 13 Femminile – Finale 7°-8° Posto\nA S.Antonio valfurva\, Sabato 21 marzo 2015 – ore 16.30\nUS BORMIESE “OTTICA OCCHI”  –  COSIO VOLLEY\n\n\nUnder 13 Femminile – Girone D\nA Bormio\, Sabato 21 marzo 2015 – ore 19.30\nUS BORMIESE  –  ARDENNO\n\n\nPrima Divisione Femminile\nA Delebio\, Sabato 21 marzo 2015 – ore 20.30\nUS DELEBIO  –  US BORMIESE “IDEALCASA”\n\n\nPrima Divisione Maschile\nA Bormio\, Sabato 21 marzo 2015 – ore 21.00\nUS BORMIESE “CLEM PUB”  –  MOVIDA\n\n\nUnder 19 Maschile  –  2^Giornata Fase Regionale\nA Garlasco\, Domenica 22 marzo 2015 – ore 18.30\nOLYMPIA VOLLEY DORNO  –  US BORMIESE “CLEM PUB”\n\n\nUnder 15 Maschile\nA Tirano\, Lunedì 23 marzo 2015 – ore 19.00\nGS CSI TIRANO  –  US BORMIESE “ALLIANZ”
URL:https://www.usbormiese.com/event/pallavolo-il-programma-delle-partite-15/
CATEGORIES:PALLAVOLO
END:VEVENT
BEGIN:VEVENT
DTSTART;TZID=Europe/Rome:20150321T160000
DTEND;TZID=Europe/Rome:20150321T173000
DTSTAMP:20260423T150859
CREATED:20150316T213518Z
LAST-MODIFIED:20150316T213518Z
UID:6815-1426953600-1426959000@www.usbormiese.com
SUMMARY:CALCIO\, Esordienti - A Sondalo: Sondalo-Bormiese
DESCRIPTION:Campionato provinciale Esordienti – Fase Primaverile\nA Sondalo\, Sondalo-Bormiese
URL:https://www.usbormiese.com/event/calcio-esordienti-a-sondalo-sondalo-bormiese-2/
CATEGORIES:CALCIO
END:VEVENT
BEGIN:VEVENT
DTSTART;TZID=Europe/Rome:20150320T210000
DTEND;TZID=Europe/Rome:20150320T230000
DTSTAMP:20260423T150859
CREATED:20150316T211741Z
LAST-MODIFIED:20150316T211741Z
UID:6803-1426885200-1426892400@www.usbormiese.com
SUMMARY:CALCIO\, Calcio a 5 - A Bormio: Bormiese-Futsal Seregno
DESCRIPTION:Campionato serie C – Girone di ritorno\nA Bormio\, Bormiese-Futsal Seregno
URL:https://www.usbormiese.com/event/calcio-calcio-a-5-a-bormio-bormiese-futsal-seregno/
CATEGORIES:CALCIO
END:VEVENT
BEGIN:VEVENT
DTSTART;VALUE=DATE:20150320
DTEND;VALUE=DATE:20150323
DTSTAMP:20260423T150859
CREATED:20141202T162556Z
LAST-MODIFIED:20150331T075931Z
UID:5828-1426809600-1427068799@www.usbormiese.com
SUMMARY:Short track - Junior Europe Cup Final
DESCRIPTION:Sarà il palazzo del ghiaccio di Oberstdorf in Germania ad ospitare la finale 2015 dalla Junior Europe Cup  La sfida tra i migliori giovani pattinatori europei dell’est e dell’ovest\, dopo tre gare di qualificazione di Star Class e Danubia Cup\, va in scena dal 20 al 22 marzo 2015. \nDettagli su www.shorttrackonline.org
URL:https://www.usbormiese.com/event/short-track-junior-europe-cup-final/
CATEGORIES:SHORT TRACK
ATTACH;FMTTYPE=image/jpeg:https://www.usbormiese.com/wp-content/uploads/2014/10/logoBormioGhiaccio.jpg
END:VEVENT
BEGIN:VEVENT
DTSTART;TZID=Europe/Rome:20150315T153000
DTEND;TZID=Europe/Rome:20150315T170000
DTSTAMP:20260423T150859
CREATED:20141012T130449Z
LAST-MODIFIED:20141021T134816Z
UID:5087-1426433400-1426438800@www.usbormiese.com
SUMMARY:PALLAVOLO\, 1^ Divisione Femminile - A Bormio: US Bormiese - Pentacom
DESCRIPTION:Campionato Prima Divisione Femminile – 16^Giornata \nA Bormio\, Us Bormiese Idealcasa – Pentacom \nDomenica 15 marzo 2015  –  ore 15.30 \n 
URL:https://www.usbormiese.com/event/pallavolo-1-divisione-femminile-a-bormio-us-bormiese-pentacom/
LOCATION:Bormio
CATEGORIES:PALLAVOLO
END:VEVENT
BEGIN:VEVENT
DTSTART;VALUE=DATE:20150315
DTEND;VALUE=DATE:20150316
DTSTAMP:20260423T150859
CREATED:20150117T112805Z
LAST-MODIFIED:20150117T112805Z
UID:6172-1426377600-1426463999@www.usbormiese.com
SUMMARY:Campestre: meeting per rappresentative provinciali a Cortenova
DESCRIPTION:Domenica 15 marzo 2015\, 14° MEETING DI CORSA CAMPESTRE  \nPER RAPPRESENTATIVE PROVINCIALI\nTROFEO CENTRO SPORTIVO CORTENOVA\nOre 9.30 Ritrovo presso\nOre 10.30 Inizio Gare \n  \nCategorie R/C M/F\nCO035 – asd C.S. CORTENOVA tel. 0341901144\nResp. Org. Giovanni Selva e mail selva.giovanni@tiscali.it\nPer iscrizioni : segreteria@fidal-comolecco.it
URL:https://www.usbormiese.com/event/campestre-meeting-per-rappresentative-provinciali-a-cortenova/
CATEGORIES:ATLETICA
ATTACH;FMTTYPE=image/jpeg:https://www.usbormiese.com/wp-content/uploads/2015/01/UsbAtletica.jpg
END:VEVENT
BEGIN:VEVENT
DTSTART;TZID=Europe/Rome:20150314T170000
DTEND;TZID=Europe/Rome:20150315T200000
DTSTAMP:20260423T150859
CREATED:20150313T081941Z
LAST-MODIFIED:20150319T072801Z
UID:6692-1426352400-1426449600@www.usbormiese.com
SUMMARY:PALLAVOLO\, IL PROGRAMMA DELLE PARTITE
DESCRIPTION:PROGRAMMA PARTITE PALLAVOLO \nDAL 14 AL 15 MARZO 2015 \n \n\nUnder 13 Femminile – Girone H\nA Bormio\, Sabato 14 marzo 2015 – ore 17.30\nGS RIO SCIANNO  –  GS PIURO\n\n\nUnder 17 Maschile\nA Dongo\, Sabato 14 marzo 2015 – ore 17.30\nPALLAVOLO ALTOLARIO  –  US BORMIESE “ALLIANZ”\n\n\nUnder 15 Maschile\nA Sondrio\, Domenica 15 marzo 2015 – ore 16.00\nCOSIO VOLLEY  –  US BORMIESE “ALLIANZ”\n\n\nPrima Divisione Femminile\nA Bormio\, Domenica 15 marzo 2015 – ore 15.30\nUS BORMIESE “IDEALCASA”  –  PENTACOM\n\n\nUnder 16 Femminile – Finale 7°-8° Posto\nA Tresivio\, Domenica 15 marzo 2015 – ore 15.00\nPENTACOM  –  US BORMIESE “BORMIO TERME”\n\n\nUnder 14 Femminile – Quarti di finale (Ritorno)\nA Talamona\, Domenica 15 marzo 2015 – ore 19.00\nUS TALAMONESE  –  US BORMIESE “OTTICA OCCHI”+\n\n\n\nUnder 12 Femminile – 3^ Giornata\nA Bormio\, Domenica 15 marzo 2015\nore 14.00   GS RIO SCIANNO 3  –  PALLAVOLO ALTAVALLE\nore 15.00   PALLAVOLO ALTAVALLE  –  US DELEBIO \nore 16.00   US DELEBIO  –  GS RIO SCIANNO 1\nore 17.00   GS RIO SCIANNO 1  –  GS RIO SCIANNO 3 \nA Morbegno\, Domenica 15 marzo 2015\nore 15.00   COSIO VOLLEY  –  GS RIO SCIANNO 2 \nore 17.00   GS RIO SCIANNO 2  –  VOLLEY MORBEGNO\n\n 
URL:https://www.usbormiese.com/event/pallavolo-il-programma-delle-partite-14/
CATEGORIES:PALLAVOLO
ATTACH;FMTTYPE=image/jpeg:https://www.usbormiese.com/wp-content/uploads/2014/11/pallavoloAg.jpg
END:VEVENT
BEGIN:VEVENT
DTSTART;VALUE=DATE:20150314
DTEND;VALUE=DATE:20150316
DTSTAMP:20260423T150859
CREATED:20150117T112429Z
LAST-MODIFIED:20150117T112545Z
UID:6170-1426291200-1426463999@www.usbormiese.com
SUMMARY:Campestre: Campionati Italiani individuali a Fiuggi
DESCRIPTION:WEEK END DEL CROSS a FIUGGI Campionati Italiani di Staffette di Corsa Campestre\nCampionati italiani individuali e di società di Corsa Campestre\nCampionati Italiani individuali e per regioni di corsa campestre Cadetti \nINFORMAZIONI (VEDI ALLEGATO)
URL:https://www.usbormiese.com/event/campestre-campionati-italiani-individuali-a-fiuggi/
CATEGORIES:ATLETICA
ATTACH;FMTTYPE=image/jpeg:https://www.usbormiese.com/wp-content/uploads/2015/01/UsbAtletica.jpg
END:VEVENT
BEGIN:VEVENT
DTSTART;VALUE=DATE:20150314
DTEND;VALUE=DATE:20150316
DTSTAMP:20260423T150859
CREATED:20141202T162140Z
LAST-MODIFIED:20141202T162140Z
UID:5826-1426291200-1426463999@www.usbormiese.com
SUMMARY:Short track - Gara nazionale staffette
DESCRIPTION:Gara nazionale staffette.    \nOrganizzata dal Comitato Regionale Piemontese il 14 e 15 marzo 2015 è in programma la gara nazionale delle staffette dello short track
URL:https://www.usbormiese.com/event/short-track-gara-nazionale-staffette/
CATEGORIES:SHORT TRACK
ATTACH;FMTTYPE=image/jpeg:https://www.usbormiese.com/wp-content/uploads/2014/10/logoBormioGhiaccio.jpg
END:VEVENT
BEGIN:VEVENT
DTSTART;VALUE=DATE:20150313
DTEND;VALUE=DATE:20150316
DTSTAMP:20260423T150859
CREATED:20141202T162304Z
LAST-MODIFIED:20141202T162304Z
UID:5827-1426204800-1426463999@www.usbormiese.com
SUMMARY:Short track - Campionati mondiali 2015 a Mosca
DESCRIPTION:Il campionato mondiale 2015 di short track si disputa dal 13 al 15 marzo a Mosca
URL:https://www.usbormiese.com/event/short-track-campionati-mondiali-2015-a-mosca/
CATEGORIES:SHORT TRACK
ATTACH;FMTTYPE=image/jpeg:https://www.usbormiese.com/wp-content/uploads/2014/11/yuriWC2014a.jpg
END:VEVENT
BEGIN:VEVENT
DTSTART;TZID=Europe/Rome:20150311T210000
DTEND;TZID=Europe/Rome:20150311T223000
DTSTAMP:20260423T150859
CREATED:20141123T143150Z
LAST-MODIFIED:20141123T143150Z
UID:5698-1426107600-1426113000@www.usbormiese.com
SUMMARY:PALLAVOLO\, 1^ Divisione Maschile - A Chiavenna: Pallavolo Chiavenna - Us Bormiese
DESCRIPTION:Campionato Prima Divisione Maschile – 9^ giornata \nA Chiavenna\, Pallavolo Chiavenna – Us Bormiese Pub Clem \nMercoledì 11 marzo 2015 – ore 21.00
URL:https://www.usbormiese.com/event/pallavolo-1-divisione-maschile-a-chiavenna-pallavolo-chiavenna-us-bormiese/
LOCATION:Chiavenna
CATEGORIES:PALLAVOLO
END:VEVENT
BEGIN:VEVENT
DTSTART;TZID=Europe/Rome:20150307T210000
DTEND;TZID=Europe/Rome:20150307T223000
DTSTAMP:20260423T150859
CREATED:20141123T142940Z
LAST-MODIFIED:20141123T142940Z
UID:5697-1425762000-1425767400@www.usbormiese.com
SUMMARY:PALLAVOLO\, 1^ Divisione Maschile - A Bormio: Us Bormiese - Pallavolo Altolario
DESCRIPTION:Campionato Prima Divisione Maschile – 8^Giornata \nA Bormio\, Us Bormiese Pub Clem – Pallavolo Altolario \nSabato 7 marzo 2015  –  ore 21.00 \n 
URL:https://www.usbormiese.com/event/pallavolo-1-divisione-maschile-a-bormio-us-bormiese-pallavolo-altolario/
LOCATION:Bormio
CATEGORIES:PALLAVOLO
END:VEVENT
BEGIN:VEVENT
DTSTART;TZID=Europe/Rome:20150307T180000
DTEND;TZID=Europe/Rome:20150307T193000
DTSTAMP:20260423T150859
CREATED:20141012T130331Z
LAST-MODIFIED:20141021T134840Z
UID:5085-1425751200-1425756600@www.usbormiese.com
SUMMARY:PALLAVOLO\, 1^ Divisione Femminile - A Gordona: Gordona - US Bormiese
DESCRIPTION:Campionato Prima Divisione Femminile – 15^Giornata \nA Gordona\, Gordona – Us Bormiese Idealcasa \nSabato 7 marzo 2015  –  ore 18.00 \n 
URL:https://www.usbormiese.com/event/pallavolo-1-divisione-femminile-a-gordona-gordona-us-bormiese/
LOCATION:Gordona
CATEGORIES:PALLAVOLO
END:VEVENT
END:VCALENDAR