BEGIN:VCALENDAR
VERSION:2.0
PRODID:-//Unione Sportiva Bormiese - ECPv6.8.2.1//NONSGML v1.0//EN
CALSCALE:GREGORIAN
METHOD:PUBLISH
X-WR-CALNAME:Unione Sportiva Bormiese
X-ORIGINAL-URL:https://www.usbormiese.com
X-WR-CALDESC:Eventi per Unione Sportiva Bormiese
REFRESH-INTERVAL;VALUE=DURATION:PT1H
X-Robots-Tag:noindex
X-PUBLISHED-TTL:PT1H
BEGIN:VTIMEZONE
TZID:Europe/Rome
BEGIN:DAYLIGHT
TZOFFSETFROM:+0100
TZOFFSETTO:+0200
TZNAME:CEST
DTSTART:20150329T010000
END:DAYLIGHT
BEGIN:STANDARD
TZOFFSETFROM:+0200
TZOFFSETTO:+0100
TZNAME:CET
DTSTART:20151025T010000
END:STANDARD
END:VTIMEZONE
BEGIN:VEVENT
DTSTART;TZID=Europe/Rome:20150208T100000
DTEND;TZID=Europe/Rome:20150208T190000
DTSTAMP:20260423T231050
CREATED:20141208T134539Z
LAST-MODIFIED:20141208T134539Z
UID:5864-1423389600-1423422000@www.usbormiese.com
SUMMARY:PALLAVOLO\, Under 19 Maschile - A Dongo: 2^ Giornata
DESCRIPTION:Campionato Under 19 Maschile – 2^Giornata \nore 10.00  Pallavolo Altolario  –  Us Bormiese “Allianz” \nore 15.00  Us Bormiese “Allianz” – Us Bormiese “Clem Pub” \nore 17.30  Us Bormiese “Clem Pub – Pallavolo Altolario \nA Dongo\, Domenica 8 febbraio 2015 \n 
URL:https://www.usbormiese.com/event/pallavolo-under-19-maschile-a-dongo-2-giornata/
LOCATION:Dongo
CATEGORIES:PALLAVOLO
END:VEVENT
BEGIN:VEVENT
DTSTART;TZID=Europe/Rome:20150207T180000
DTEND;TZID=Europe/Rome:20150207T193000
DTSTAMP:20260423T231050
CREATED:20141104T203502Z
LAST-MODIFIED:20141104T203502Z
UID:5347-1423332000-1423337400@www.usbormiese.com
SUMMARY:PALLAVOLO\, Under 13 Femminile - a Bormio: Us Bormiese - Pallavolo Altavalle
DESCRIPTION:Campionato Under 13 Femminile – 10^Giornata \nA Bormio\, Us Bormiese – Pallavolo Altavalle \nSabato 7 febbraio 2015  –  ore 18.00 \n 
URL:https://www.usbormiese.com/event/pallavolo-under-13-femminile-a-bormio-us-bormiese-pallavolo-altavalle/
LOCATION:Bormio
CATEGORIES:PALLAVOLO
END:VEVENT
BEGIN:VEVENT
DTSTART;TZID=Europe/Rome:20150207T180000
DTEND;TZID=Europe/Rome:20150207T193000
DTSTAMP:20260423T231050
CREATED:20141012T125159Z
LAST-MODIFIED:20141021T135027Z
UID:5080-1423332000-1423337400@www.usbormiese.com
SUMMARY:PALLAVOLO\, 1^ Divisione Femminile - A Bormio: US Bormiese - Volley 2 Laghi
DESCRIPTION:Campionato Prima Divisione Femminile – 11^Giornata \nA Bormio\, Us Bormiese Idealcasa – Volley 2 Laghi \nSabato 7 febbraio 2015  –  ore 18.00 \n 
URL:https://www.usbormiese.com/event/pallavolo-1-divisione-femminile-a-bormio-us-bormiese-volley-2-laghi/
LOCATION:Bormio
CATEGORIES:PALLAVOLO
END:VEVENT
BEGIN:VEVENT
DTSTART;TZID=Europe/Rome:20150206T210000
DTEND;TZID=Europe/Rome:20150206T223000
DTSTAMP:20260423T231050
CREATED:20141123T142749Z
LAST-MODIFIED:20141123T142749Z
UID:5696-1423256400-1423261800@www.usbormiese.com
SUMMARY:PALLAVOLO\, 1^ Divisione Maschile - A Sondrio: Libertas Berbenno - Us Bormiese
DESCRIPTION:Campionato Prima Divisione Maschile – 6^Giornata \nA Sondrio\, Libertas Berbenno – Us Bormiese Pub Clem \nVenerdì 6 febbraio 2015  –  ore 21.00 \n 
URL:https://www.usbormiese.com/event/pallavolo-1-divisione-maschile-a-sondrio-libertas-berbenno-us-bormiese/
LOCATION:Bormio
CATEGORIES:PALLAVOLO
END:VEVENT
BEGIN:VEVENT
DTSTART;VALUE=DATE:20150206
DTEND;VALUE=DATE:20150209
DTSTAMP:20260423T231050
CREATED:20141202T110320Z
LAST-MODIFIED:20141202T110320Z
UID:5810-1423180800-1423439999@www.usbormiese.com
SUMMARY:Short track - Coppa del Mondo a Dresda (Ger)
DESCRIPTION:La quinta prova di Coppa del Mondo di short track è in programma dal 6 all’8 febbraio 2015.    \nDopo le trasferte nordamericana ed asiatica\, lo short track mondiale si incontra a Dresda per la quinta tappa di word cup. \nTutti gli aggiornamenti su www.isu.org
URL:https://www.usbormiese.com/event/short-track-coppa-del-mondo-a-dresda-ger/
CATEGORIES:SHORT TRACK
ATTACH;FMTTYPE=image/jpeg:https://www.usbormiese.com/wp-content/uploads/2014/11/yuriWC2014a.jpg
END:VEVENT
BEGIN:VEVENT
DTSTART;TZID=Europe/Rome:20150205T180000
DTEND;TZID=Europe/Rome:20150208T200000
DTSTAMP:20260423T231050
CREATED:20150203T160354Z
LAST-MODIFIED:20150212T072813Z
UID:6274-1423159200-1423425600@www.usbormiese.com
SUMMARY:PALLAVOLO\, IL PROGRAMMA DELLE PARTITE
DESCRIPTION:PROGRAMMA PARTITE PALLAVOLO \nDAL 5 AL 8 FEBBRAIO 2015 \n \n\nUnder 16 Femminile – Girone G\nA Bormio\, Giovedì 5 febbraio 2015 – ore 19.15\nUS BORMIESE “BORMIO TERME”  –  PGS AUXILIUM\n\n\nPrima Divisione Maschile\nA Sondrio\, Venerdì 6 febbraio 2015 – ore 21.00\nLIBERTAS BERBENNO  –  US BORMIESE “CLEM PUB”\n\n\nUnder 15 Maschile\nA Tirano\, Sabato 7 febbraio 2015 – ore 17.00\nGS CSI TIRANO  –  US BORMIESE “ALLIANZ”\n\n\nPrima Divisione Femminile\nA Bormio\, Sabato 7 febbraio 2015 – ore 18.00\nUS BORMIESE “IDEALCASA”  –  VOLLEY 2 LAGHI\n\n\nUnder 13 Femminile – Girone A\nA Bormio\, Sabato 7 febbraio 2015 – ore 18.00\nUS BORMIESE  –  PALLAVOLO ALTAVALLE\n\n\nUnder 15 Maschile\nA Dongo\, Domenica 8 febbraio 2015 – ore 14.00\nPALLAVOLO ALTOLARIO  –  US BORMIESE “ALLIANZ”\n\n\nUnder 13 Femminile – Girone A\nA Sondrio\, Domenica 8 febbraio 2015 – ore 15.00\nNUOVA SONDRIO SP.VOLLEY  –  GS RIO SCIANNO\n\n\n\nUnder 19 Maschile – 2^ Giornata\nA Dongo\, Domenica 8 febbraio 2015\nore 10.00   PALLAVOLO ALTOLARIO  –  US BORMIESE “ALLIANZ”\nore 16.00   US BORMIESE “ALLIANZ”  –  US BORMIESE “CLEM PUB”\nore 18.30   US BORMIESE “CLEM PUB”  –  PALLAVOLO ALTOLARIO
URL:https://www.usbormiese.com/event/pallavolo-il-programma-delle-partite-9/
CATEGORIES:PALLAVOLO
END:VEVENT
BEGIN:VEVENT
DTSTART;VALUE=DATE:20150204
DTEND;VALUE=DATE:20150216
DTSTAMP:20260423T231050
CREATED:20141202T110940Z
LAST-MODIFIED:20141202T110940Z
UID:5811-1423008000-1424044799@www.usbormiese.com
SUMMARY:Sport invernali - Universiadi 2015 a Granada
DESCRIPTION:Dal 4 al 14 febbraio 2015 sono in programma le Universiadi invernali.   \nLa 27^ edizione è in programma a Granada \n  \nwww.granada2015.org
URL:https://www.usbormiese.com/event/sport-invernali-universiadi-2015-a-granada/
ATTACH;FMTTYPE=image/png:https://www.usbormiese.com/wp-content/uploads/2014/12/universiadiInvernali2015.png
END:VEVENT
BEGIN:VEVENT
DTSTART;TZID=Europe/Rome:20150201T100000
DTEND;TZID=Europe/Rome:20150201T190000
DTSTAMP:20260423T231050
CREATED:20141208T135051Z
LAST-MODIFIED:20141208T135051Z
UID:5866-1422784800-1422817200@www.usbormiese.com
SUMMARY:PALLAVOLO\, Under 19 Maschile - A Bormio: 4^ Giornata
DESCRIPTION:Campionato Under 19 Maschile – 4^Giornata \nore 10.00 Us Bormiese “Clem Pub” – Us Bormiese “Allianz” \nore 15.00 Us Bormiese “Allianz” – Pallavolo Altolario \nore 17.30  Pallavolo Altolario – Us Bormiese “Clem Pub” \nA Bormio\, Domenica 1 febbraio 2015 \n 
URL:https://www.usbormiese.com/event/pallavolo-under-19-maschile-a-bormio-4-giornata/
LOCATION:Bormio
CATEGORIES:PALLAVOLO
END:VEVENT
BEGIN:VEVENT
DTSTART;VALUE=DATE:20150201
DTEND;VALUE=DATE:20150202
DTSTAMP:20260423T231050
CREATED:20150117T110920Z
LAST-MODIFIED:20150117T110920Z
UID:6167-1422748800-1422835199@www.usbormiese.com
SUMMARY:Atletica: Gran Premio Lombardia di Cross a Brescia
DESCRIPTION:Domenica 1 febbraio 2015 2^ PROVA FASE REGIONALE CDS ASSOLUTO DI CROSS \n \nBRESCIA\nCentro Sportivo Via Badia \n2^ Prova Gran Premio Lombardia di Cross\nRitrovo Ore 10.00\nCategorie A/J/P/S M/F\nOrg.: CP Brescia e AICS Brescia\nResp. Federico Danesi 3282119210 – segreteria@fidalbrescia.it\nAntonio Parente 3386548383 – parente1962@libero.it\nISCRIZIONI SOLO ON LINE\nVedere procedura pagg. 2 e 3\nDA INVIARE\nENTRO LE ORE 22.00 DI GIOVEDI’ 29 GENNAIO\nResp. Tecnico: Danzi Silvano Resp. CRL:
URL:https://www.usbormiese.com/event/atletica-gran-premio-lombardia-di-cross-a-brescia/
ATTACH;FMTTYPE=image/jpeg:https://www.usbormiese.com/wp-content/uploads/2015/01/UsbAtletica.jpg
END:VEVENT
BEGIN:VEVENT
DTSTART;TZID=Europe/Rome:20150131T200000
DTEND;TZID=Europe/Rome:20150131T213000
DTSTAMP:20260423T231050
CREATED:20141012T125054Z
LAST-MODIFIED:20141021T135052Z
UID:5078-1422734400-1422739800@www.usbormiese.com
SUMMARY:PALLAVOLO\, 1^ Divisione Femminile - A Morbegno: Volley Morbegno - US Bormiese
DESCRIPTION:Campionato Prima Divisione Femminile – 10^Giornata \nA Morbegno\, Volley Morbegno – Us Bormiese Idealcasa \nSabato 31 gennaio 2015  –  ore 20.00 \n 
URL:https://www.usbormiese.com/event/pallavolo-1-divisione-femminile-a-morbegno-volley-morbegno-us-bormiese/
LOCATION:Morbegno
CATEGORIES:PALLAVOLO
END:VEVENT
BEGIN:VEVENT
DTSTART;TZID=Europe/Rome:20150131T160000
DTEND;TZID=Europe/Rome:20150201T190000
DTSTAMP:20260423T231050
CREATED:20150128T075927Z
LAST-MODIFIED:20150203T160824Z
UID:6192-1422720000-1422817200@www.usbormiese.com
SUMMARY:PALLAVOLO\, IL PROGRAMMA DELLE PARTITE
DESCRIPTION:PROGRAMMA PARTITE PALLAVOLO \nDAL 31 GENNAIO AL 1 FEBBRAIO 2015 \n \n\nUnder 16 Femminile – Girone G\nA Delebio\, Sabato 31 gennaio 2015 – ore 16.00\nUS DELEBIO  –  US BORMIESE “BORMIO TERME”\n\n\nPrima Divisione Femminile\nA Morbegno\, Sabato 31 gennaio 2015 – ore 20.00\nVOLLEY MORBEGNO  –  US BORMIESE “IDEALCASA”\n\n\nUnder 19 Maschile – 4^ Giornata\nA Bormio\, Domenica 1 febbraio 2015\nore 10.00   US BORMIESE “CLEM PUB”  –  US BORMIESE “ALLIANZ”\nore 15.00   US BORMIESE “ALLIANZ”  –  PALLAVOLO ALTOLARIO\nore 17.30    PALLAVOLO ALTOLARIO  –  US BORMIESE “CLEM PUB”\n\n\n\nUnder 14 Femminile – Girone F\nA Gordona\, Domenica 1 febbraio 2015 – ore 11.00\nGORDONA A  –  US BORMIESE “OTTICA OCCHI”\n\n\nUnder 12 Femminile – 2^ Giornata\nA Bormio\, Domenica 1 febbraio 2015\nore 14.30   GS RIO SCIANNO 1  –  GS RIO SCIANNO 2\nore 16.30   GS RIO SCIANNO 2  –  VOLLEY MORBEGNO\nore 17.30   PGS AUXILIUM  –  GS RIO SCIANNO 1\n\n\n             A Regoledo di Cosio\, Domenica 1 febbraio 2015\n            ore 15.30   GS RIO SCIANNO 3  –  PENTACOM\n            ore 16.30   US TALAMONESE  –  GS RIO SCIANNO 3\n \n 
URL:https://www.usbormiese.com/event/pallavolo-il-programma-delle-partite-8/
CATEGORIES:PALLAVOLO
END:VEVENT
BEGIN:VEVENT
DTSTART;VALUE=DATE:20150130
DTEND;VALUE=DATE:20150202
DTSTAMP:20260423T231050
CREATED:20141202T110015Z
LAST-MODIFIED:20141202T110015Z
UID:5809-1422576000-1422835199@www.usbormiese.com
SUMMARY:Short track - Star Class a Heerenveen (Olanda). 2^ prova junior C e D
DESCRIPTION:La seconda prova della Star Class 2014/2015 per le categorie junior C e D è in programma in Olanda.   Dal 30 gennaio al 1° febbraio 2015 gli atleti saranno impegnati sul ghiaccio di Heerenween
URL:https://www.usbormiese.com/event/short-track-star-class-a-heerenveen-olanda-2-prova-junior-c-e-d/
CATEGORIES:SHORT TRACK
ATTACH;FMTTYPE=image/jpeg:https://www.usbormiese.com/wp-content/uploads/2014/10/logoBormioGhiaccio.jpg
END:VEVENT
BEGIN:VEVENT
DTSTART;TZID=Europe/Rome:20150125T150000
DTEND;TZID=Europe/Rome:20150125T163000
DTSTAMP:20260423T231050
CREATED:20141104T203304Z
LAST-MODIFIED:20141104T203304Z
UID:5346-1422198000-1422203400@www.usbormiese.com
SUMMARY:PALLAVOLO\, Under 13 Femminile - a Tresivio: Pentacom - Gs Rio Scianno
DESCRIPTION:Campionato Under 13 Femminile – 9^Giornata \nA Tresivio\, Pentacom – Gs Rio Scianno \nDomenica 25 gennaio 2015  –  ore 15.00 \n 
URL:https://www.usbormiese.com/event/pallavolo-under-13-femminile-a-tresivio-pentacom-gs-rio-scianno/
LOCATION:Tresivio
CATEGORIES:PALLAVOLO
END:VEVENT
BEGIN:VEVENT
DTSTART;TZID=Europe/Rome:20150125T100000
DTEND;TZID=Europe/Rome:20150125T190000
DTSTAMP:20260423T231050
CREATED:20141208T134821Z
LAST-MODIFIED:20141208T134847Z
UID:5865-1422180000-1422212400@www.usbormiese.com
SUMMARY:PALLAVOLO\, Under 19 Maschile - A Bormio: 3^ Giornata
DESCRIPTION:Campionato Under 19 Maschile – 3^Giornata \nore 10.00 Us Bormiese “Allianz” – Us Bormiese “Clem Pub” \nore 15.00 Pallavolo Altolario  –  “Us Bormiese “Clem Pub” \nore 17.30  Us Bormiese “Allianz” – Pallavolo Altolario \nA Bormio\, Domenica 25 gennaio 2015 \n 
URL:https://www.usbormiese.com/event/pallavolo-under-19-maschile-a-bormio-3-giornata/
LOCATION:Bormio
CATEGORIES:PALLAVOLO
END:VEVENT
BEGIN:VEVENT
DTSTART;VALUE=DATE:20150125
DTEND;VALUE=DATE:20150126
DTSTAMP:20260423T231050
CREATED:20150117T105638Z
LAST-MODIFIED:20150117T110709Z
UID:6164-1422144000-1422230399@www.usbormiese.com
SUMMARY:Campestre: 14° Cross Trementa XXL a Samolaco
DESCRIPTION:Domenica 25 gennaio 2015: 14° CROSS TREMENDA XXL \nCampestre Regionale \nSAMOLACO Località “La Roncaccina” \nCROSS GIOVANILE\n1^ PROVA TROFEO LOMBARDIA\n1^ PROVA TROFEO VOLPI R/C \nCampionato Regionale cat. RAGAZZI/CADETTI di corsa campestre\nCampionato provinciale Individuale di corsa campestre \nRitrovo ore 9.00 Località La Roncaccina\nInizio gare ore 09.45 \nOrg. G.P. Valchiavenna – Info: fax 1782271775 – tel. 3476076920 – e-mail: info@gpvalchiavenna.it Info: www.gpvalchiavenna.it
URL:https://www.usbormiese.com/event/campestre-14-cross-trementa-xxl-a-samolaco/
CATEGORIES:ATLETICA
ATTACH;FMTTYPE=image/jpeg:https://www.usbormiese.com/wp-content/uploads/2015/01/UsbAtletica.jpg
END:VEVENT
BEGIN:VEVENT
DTSTART;VALUE=DATE:20150125
DTEND;VALUE=DATE:20150126
DTSTAMP:20260423T231050
CREATED:20150113T100040Z
LAST-MODIFIED:20150113T100040Z
UID:6145-1422144000-1422230399@www.usbormiese.com
SUMMARY:Sci Alpino: circuito Ina ragazzi e allievi a Madesimo
DESCRIPTION:Domenica 25 gennaio 2015 slalom gigante   allievi e ragazzi sulle piste della Valmalenco. \nIl palio il Trofeo Valmalenco
URL:https://www.usbormiese.com/event/sci-alpino-circuito-ina-ragazzi-e-allievi-a-madesimo/
CATEGORIES:SCI ALPINO
END:VEVENT
BEGIN:VEVENT
DTSTART;TZID=Europe/Rome:20150124T200000
DTEND;TZID=Europe/Rome:20150124T213000
DTSTAMP:20260423T231050
CREATED:20141123T142618Z
LAST-MODIFIED:20141123T142813Z
UID:5695-1422129600-1422135000@www.usbormiese.com
SUMMARY:PALLAVOLO\, 1^ Divisione Maschile - A Berbenno: Movida - Us Bormiese
DESCRIPTION:Campionato Prima Divisione Maschile – 5^Giornata \nA Berbenno\, Movida – Us Bormiese Pub Clem \nSabato 24 gennaio 2015  –  ore 20.00 \n 
URL:https://www.usbormiese.com/event/pallavolo-1-divisione-maschile-a-berbenno-movida-us-bormiese/
LOCATION:Bormio
CATEGORIES:PALLAVOLO
END:VEVENT
BEGIN:VEVENT
DTSTART;TZID=Europe/Rome:20150124T180000
DTEND;TZID=Europe/Rome:20150125T200000
DTSTAMP:20260423T231050
CREATED:20150121T093212Z
LAST-MODIFIED:20150128T075943Z
UID:6179-1422122400-1422216000@www.usbormiese.com
SUMMARY:PALLAVOLO\, IL PROGRAMMA DELLE PARTITE
DESCRIPTION:PROGRAMMA PARTITE PALLAVOLO \nDAL 24 AL 25 GENNAIO 2015 \n \n\nPrima Divisione Femminile\nA Bormio\, Sabato 24 gennaio 2015 – ore 18.00\nUS BORMIESE “IDEALCASA”  –  LIBERTAS BERBENNO\n\n\nUnder 16 Femminile – Girone H\nA Valdisotto\, Sabato 24 gennaio 2015 – ore 19.30\nGS RIO SCIANNO “MUTTI ORTOFRUTTICOLA”  –  ASD VALMALENCO\n\n\nPrima Divisione Maschile\nA Berbenno\, Sabato 24 gennaio 2015 – ore 20.00\nMOVIDA  –  US BORMIESE “CLEM PUB”\n\n\nUnder 19 Maschile – 3^ Giornata\nA Bormio\, Domenica 25 gennaio 2015 \nore 15.00   PALLAVOLO ALTOLARIO  –  US BORMIESE “CLEM PUB”\nore 17.30    US BORMIESE “ALLIANZ”  –  PALLAVOLO ALTOLARIO\n\n\n\nUnder 13 Femminile – Girone A\nA Tresivio\, Domenica 25 gennaio 2015 – ore 15.00\nPENTACOM  –  GS RIO SCIANNO\n\n\nUnder 14 Femminile – Girone F\nA S.Antonio Valfurva\, Domenica 25 gennaio 2015 – ore 18.00\nUS BORMIESE “OTTICA OCCHI”  –  US DELEBIO
URL:https://www.usbormiese.com/event/pallavolo-il-programma-delle-partite-7/
CATEGORIES:PALLAVOLO
END:VEVENT
BEGIN:VEVENT
DTSTART;TZID=Europe/Rome:20150124T180000
DTEND;TZID=Europe/Rome:20150124T193000
DTSTAMP:20260423T231050
CREATED:20141012T124904Z
LAST-MODIFIED:20141021T135215Z
UID:5077-1422122400-1422127800@www.usbormiese.com
SUMMARY:PALLAVOLO\, 1^ Divisione Femminile - A Bormio: US Bormiese - Libertas Berbenno
DESCRIPTION:Campionato Prima Divisione Femminile – 9^Giornata \nA Bormio\, Us Bormiese Idealcasa -Libertas Berbenno \nSabato 24 gennaio 2015  –  ore 18.00 \n 
URL:https://www.usbormiese.com/event/pallavolo-1-divisione-femminile-a-bormio-us-bormiese-libertas-berbenno/
LOCATION:Bormio
CATEGORIES:PALLAVOLO
END:VEVENT
BEGIN:VEVENT
DTSTART;VALUE=DATE:20150124
DTEND;VALUE=DATE:20150125
DTSTAMP:20260423T231050
CREATED:20150113T095838Z
LAST-MODIFIED:20150113T095838Z
UID:6144-1422057600-1422143999@www.usbormiese.com
SUMMARY:Sci alpino: circuito Ina baby e cuccioli a Madesimo
DESCRIPTION:Slalom gigante a Madesimo per la categoria Allievi. La manifestazione\, tappa del circuito Ina 2015\, assegna il trofeo Beretta/Del Zoppo. \n 
URL:https://www.usbormiese.com/event/sci-alpino-circuito-ina-baby-e-cuccioli-a-madesimo/
CATEGORIES:SCI ALPINO
END:VEVENT
BEGIN:VEVENT
DTSTART;VALUE=DATE:20150124
DTEND;VALUE=DATE:20150125
DTSTAMP:20260423T231050
CREATED:20141202T112539Z
LAST-MODIFIED:20141202T161455Z
UID:5816-1422057600-1422143999@www.usbormiese.com
SUMMARY:Short track - A Bormio la terza prova del Trofeo Interregionale 2014/2015
DESCRIPTION:Terza e conclusiva prova del trofeo interregionale 2014/2015 a Bormio.   I giovanissimi della Bormio Ghiaccio si confronteranno\, sulla pista di casa\, sabato 14 febbraio 2015\, con i piccoli pattinatori delle società di Piemonte e Lombardia.
URL:https://www.usbormiese.com/event/short-track-a-bormio-la-terza-prova-del-trofeo-interregionale-20142015/
CATEGORIES:SHORT TRACK
ATTACH;FMTTYPE=image/jpeg:https://www.usbormiese.com/wp-content/uploads/2014/10/logoBormioGhiaccio.jpg
END:VEVENT
BEGIN:VEVENT
DTSTART;VALUE=DATE:20150123
DTEND;VALUE=DATE:20150126
DTSTAMP:20260423T231050
CREATED:20141202T105745Z
LAST-MODIFIED:20141202T105745Z
UID:5808-1421971200-1422230399@www.usbormiese.com
SUMMARY:Short track - Campionati europei a Dordrecht
DESCRIPTION:I Campionati Europei 2015 di short track sono in programma in Olanda\, a Dordrecht.     \nL’appuntamento per l’assegnazione dei titoli continentali di velocità su ghiaccio in pista corta è in programma dal 23 al 25 gennaio 2015 sul ghiaccio olandese di Dordrecht.
URL:https://www.usbormiese.com/event/short-track-campionati-europei-a-dordrecht/
CATEGORIES:SHORT TRACK
ATTACH;FMTTYPE=image/jpeg:https://www.usbormiese.com/wp-content/uploads/2014/11/avt2014cinque_shorttrack.jpg
END:VEVENT
BEGIN:VEVENT
DTSTART;VALUE=DATE:20150120
DTEND;VALUE=DATE:20150413
DTSTAMP:20260423T231050
CREATED:20150316T080029Z
LAST-MODIFIED:20150316T110747Z
UID:6024-1421712000-1428883199@www.usbormiese.com
SUMMARY:Curling a Bormio. Attività e tornei 2015
DESCRIPTION:A Bormio\, nel palazzetto a fianco del Palaghiaccio\, per tutta la stagione invernale\, si gioca a Curling.  \nLa struttura (la stessa che ospita i campi da bocce)\, è aperta tutti i giorni. \nNei mesi di gennaio e febbraio 2015 si gioca la terza edizione del Memorial Sisto Cicona\nLe iscrizioni devono essere effettuate entro il 14/01\, con costo di prenotazione ed iscrizione squadra di € 30\,00. Per ciascun incontro verrà richiesto un contributo di noleggio pista di € 5\,00 a giocatore. \nLA LOCANDINA DEL 3° MEMORIAL SISTO CICONA \nLE SQUADRE – CALENDARIO \nRISULTATI E CLASSIFICHE \ngli altri tornei della stagione su FACEBOOK \nAl di fuori dei tornei\, il costo per giocare a curling è di 30 euro il mattino\, di 40 euro il pomeriggio e di 50 euro la sera per un’ora e mezzo di gioco (il tempo medio di una partita). Sconti per i tesserati USB. \nPer informazioni e prenotazioni: \n\ninfo@usbormiese.com\n0342.901482 – 3292162072\n\nPAGINA FACEBOOK
URL:https://www.usbormiese.com/event/curling-a-bormio-attivita-e-tornei-2015/
ATTACH;FMTTYPE=image/jpeg:https://www.usbormiese.com/wp-content/uploads/2015/01/curling.jpg
END:VEVENT
BEGIN:VEVENT
DTSTART;VALUE=DATE:20150118
DTEND;VALUE=DATE:20150119
DTSTAMP:20260423T231050
CREATED:20150113T095233Z
LAST-MODIFIED:20150113T095233Z
UID:6143-1421539200-1421625599@www.usbormiese.com
SUMMARY:Sci Alpino: Circuito Ina ragazzi e allievi ad Aprica
DESCRIPTION:Sulle piste di Aprica\, domenica 18 gennaio 2015 slalom per le categorie allievi e ragazzi\, seconda prova di categoria del Circuito Ina 2015. \nOrganizzazione SC Aprica \nhttp://www.sciclubaprica.com/
URL:https://www.usbormiese.com/event/sci-alpino-circuito-ina-ragazzi-e-allievi-ad-aprica/
CATEGORIES:SCI ALPINO
END:VEVENT
BEGIN:VEVENT
DTSTART;TZID=Europe/Rome:20150117T180000
DTEND;TZID=Europe/Rome:20150117T193000
DTSTAMP:20260423T231050
CREATED:20141104T203151Z
LAST-MODIFIED:20141104T203151Z
UID:5345-1421517600-1421523000@www.usbormiese.com
SUMMARY:PALLAVOLO\, Under 13 Femminile - a Bormio: Gs Rio Scianno - Us Bormiese
DESCRIPTION:Campionato Under 13 Femminile – 8^Giornata \nA Bormio\, Gs Rio Scianno – Us Bormiese \nSabato 17 gennaio 2015  –  ore 18.00 \n 
URL:https://www.usbormiese.com/event/pallavolo-under-13-femminile-a-bormio-gs-rio-scianno-us-bormiese/
LOCATION:Bormio
CATEGORIES:PALLAVOLO
END:VEVENT
BEGIN:VEVENT
DTSTART;TZID=Europe/Rome:20150117T170000
DTEND;TZID=Europe/Rome:20150117T200000
DTSTAMP:20260423T231050
CREATED:20150114T084652Z
LAST-MODIFIED:20150121T093233Z
UID:6148-1421514000-1421524800@www.usbormiese.com
SUMMARY:PALLAVOLO\, IL PROGRAMMA DELLE PARTITE
DESCRIPTION:PROGRAMMA PARTITE PALLAVOLO \nDEL 17 GENNAIO 2015 \n \n\nUnder 16 Femminile – Girone G\nA Sondrio\, Sabato 17 gennaio 2015 – ore 18.00\nPGS AUXILIUM  –  US BORMIESE “BORMIO TERME”\n\n\nUnder 13 Femminile – Girone A\nA Bormio\, Sabato 17 gennaio 2015 – ore 18.00\nGS RIO SCIANNO  –  US BORMIESE\n\n\nUnder 16 Femminile – Girone H\nA Chiesa in Valmalenco\, Sabato 17 gennaio 2015 – ore 19.00\nASD VALMALENCO  –  GS RIO SCIANNO “MUTTI ORTOFRUTTICOLA”
URL:https://www.usbormiese.com/event/pallavolo-il-programma-delle-partite-5/
CATEGORIES:PALLAVOLO
END:VEVENT
BEGIN:VEVENT
DTSTART;VALUE=DATE:20150117
DTEND;VALUE=DATE:20150118
DTSTAMP:20260423T231050
CREATED:20150113T094836Z
LAST-MODIFIED:20150113T094836Z
UID:6142-1421452800-1421539199@www.usbormiese.com
SUMMARY:Sci Alpino: Trofeo Pinocchio sugli sci
DESCRIPTION:A Santa Caterina Valfurva\, sabato 17 gennaio 2015 selezione provincie Como\, Lecco e Sondrio del Trofeo Pinocchio sugli sci \nSlalom gigante per le categorie baby\, cuccioli\, ragazzi e allievi \nSocietà organizzatrice SC Santa Caterina \nhttp://www.sciclubscaterina.it
URL:https://www.usbormiese.com/event/sci-alpino-trofeo-pinocchio-sugli-sci/
CATEGORIES:SCI ALPINO
END:VEVENT
BEGIN:VEVENT
DTSTART;VALUE=DATE:20150117
DTEND;VALUE=DATE:20150118
DTSTAMP:20260423T231050
CREATED:20150109T123740Z
LAST-MODIFIED:20150109T123740Z
UID:6100-1421452800-1421539199@www.usbormiese.com
SUMMARY:Sci alpino: "i marcìn vistì de ros"\, edizione 2015
DESCRIPTION:Le giovani e meno giovani promesse dello Sci Club Bormio organizzano SABATO 17 GENNAIO 2015 il gran premio:\n“I MARCIN VISTI’ DE’ ROS’ ” – TROFEO “Marco & Silvano” \n\nGara in notturna di slalom Gigante con vari raggi di curva.\nProgramma:\n-16.00 Ritrovo\n– 17.00 partenza categoria Pulcini\nA seguire premiazione “bocia”\n– 19.30 Partenza categoria adulti\nLa gara è aperta a tutti…soci\, ex atleti e simpatizzanti.\nSeguira‘ premiazione. Vi aspettiamo per mangiare in\ncompagnia \, “Per troas amo’ insema come un olta…”\nIscrizione entro Venerdi 16/01 – Euro 10\,00 bocia + Pizza.\nAdulti – – Euro 10\,00 solo gara.\nPiu’ eventuale offerta libera presso:\n– Sci Club Bormio – Scuola Sci Alta Valtellina – Scuola Sci Anzi\n– Scuola Sci Contea – Scuola Sci Nazionale – Scuola Sci Sertorelli\n– Scuola Gallo Cedrone – Scuola Hang Five – International Ski School \nLA LOCANDINA
URL:https://www.usbormiese.com/event/sci-alpino-i-marcin-visti-de-ros-edizione-2015/
CATEGORIES:MANIFESTAZIONI
ATTACH;FMTTYPE=image/jpeg:https://www.usbormiese.com/wp-content/uploads/2015/01/marcin2014_bormioRep1.jpg
END:VEVENT
BEGIN:VEVENT
DTSTART;VALUE=DATE:20150116
DTEND;VALUE=DATE:20150119
DTSTAMP:20260423T231050
CREATED:20150115T105113Z
LAST-MODIFIED:20150115T105113Z
UID:6150-1421366400-1421625599@www.usbormiese.com
SUMMARY:Biathlon: Campionati Italiani 2015 & Coppa Italia
DESCRIPTION:Lo Sci Club Alta Valtellina organizza dal 16 al 18 gennaio 2015 il Campionato Italiano di biathlon abbinato alla Coppa Italia \nPista Viola – Skistadium/poligono Valdidentro \n17 gennaio 2015 – 4° Memorial Stefano Sertorelli\n18 gennaio 2015 – 6° Memorial Mario Mutti \nPROGRAMMA \nGiovedì 15 Gennaio 2015\nOre 17.00: chiusura iscrizioni c/o Sci Club Alta Valtellina\,\ntel. 0342/901482 – sciclubaltavaltellina@virgilio.it\nCome da art. 1.8-Agenda dello Sciatore \nVenerdì 16 Gennaio 2015\nDalle ore 9.00 alle ore 12.00: allenamento ufficiale sulla pista Viola – poligono “Centro Biathlon Valdidentro” \nSabato 17 Gennaio 2015\nDalle ore 08.30: punzonatura armi\nOre 9.00 – 9.50: prove di tiro\nOre 10.00: inizio gara CAMPIONATO ITALIANO MASS START\nCategorie:\nJuniores/Seniores M. km. 12\,5 – Juniores/Seniores F. km. 10\,0\nGiovani M. km. 10\,0 – Giovani F. km. 7\,5\nAspiranti M . km. 7\,5 – Aspiranti F. km. 6\,0\nOre 15.00 PREMIAZIONI c/o sala Ski Stadium \nDomenica 18 Gennaio 2015\nDalle ore 08.30: punzonatura armi\nOre 9.00 – 9.50: prove di tiro\nOre 10.00: inizio gara COPPA ITALIA SPRINT\nCategorie:\nJuniores/Seniores M. km. 10\,0 Juniores/Seniores F. km. 7\,5\nGiovani M. km. 7\,5 Giovani F. km. 6\,0\nAspiranti M. km. 6\,0 Aspiranti F. km. 5\,0 \na seguire subito dopo la gara PREMIAZIONI sul campo gare
URL:https://www.usbormiese.com/event/biathlon-campionati-italiani-2015-coppa-italia/
CATEGORIES:SCI FONDO
END:VEVENT
BEGIN:VEVENT
DTSTART;TZID=Europe/Rome:20150111T180000
DTEND;TZID=Europe/Rome:20150111T193000
DTSTAMP:20260423T231050
CREATED:20141104T203035Z
LAST-MODIFIED:20141104T203035Z
UID:5344-1420999200-1421004600@www.usbormiese.com
SUMMARY:PALLAVOLO\, Under 13 Femminile - a Bormio: Us Bormiese - Nuova Sondrio sp.Volley
DESCRIPTION:Campionato Under 13 Femminile – 7^Giornata \nA Bormio\, Us Bormiese – Nuova Sondrio sp.Volley \nDomenica 11 gennaio 2015 –  ore 18.00 \n 
URL:https://www.usbormiese.com/event/pallavolo-under-13-femminile-a-bormio-us-bormiese-nuova-sondrio-sp-volley/
LOCATION:Bormio
CATEGORIES:PALLAVOLO
END:VEVENT
END:VCALENDAR