BEGIN:VCALENDAR
VERSION:2.0
PRODID:-//Unione Sportiva Bormiese - ECPv6.8.2.1//NONSGML v1.0//EN
CALSCALE:GREGORIAN
METHOD:PUBLISH
X-WR-CALNAME:Unione Sportiva Bormiese
X-ORIGINAL-URL:https://www.usbormiese.com
X-WR-CALDESC:Eventi per Unione Sportiva Bormiese
REFRESH-INTERVAL;VALUE=DURATION:PT1H
X-Robots-Tag:noindex
X-PUBLISHED-TTL:PT1H
BEGIN:VTIMEZONE
TZID:Europe/Rome
BEGIN:DAYLIGHT
TZOFFSETFROM:+0100
TZOFFSETTO:+0200
TZNAME:CEST
DTSTART:20140330T010000
END:DAYLIGHT
BEGIN:STANDARD
TZOFFSETFROM:+0200
TZOFFSETTO:+0100
TZNAME:CET
DTSTART:20141026T010000
END:STANDARD
END:VTIMEZONE
BEGIN:VEVENT
DTSTART;TZID=Europe/Rome:20141222T080000
DTEND;TZID=Europe/Rome:20141222T170000
DTSTAMP:20260424T045603
CREATED:20141222T095004Z
LAST-MODIFIED:20150107T080119Z
UID:5998-1419235200-1419267600@www.usbormiese.com
SUMMARY:Buone Feste dall’US Bormiese: che il 2015 sia più bello per tutti!
DESCRIPTION:C’è un momento che\, solitamente\, tutti utilizziamo per tirare le somme\, per fare un bilancio di quello che abbiamo fatto. Ed il momento\, solitamente\, è proprio la fine di un anno…\nMa per la nostra associazione non c’è una stagione che finisce ed una che inizia; in verità non c’è un momento di pausa\, perchè tutto si svolge senza soluzione di continuità\, giorno dopo giorno\, settimana dopo settimana\, con un ritmo a volte davvero incalzante. E quasi non ci accorgiamo quando finisce un anno (solare) e ne inizia un altro…\nCi sono settori dell’Unione Sportiva Bormiese che hanno da poco terminato l’attività agonistica\, ma non hanno il tempo di riposare perchè c’è una nuova stagione da preparare. Mi riferisco ad esempio al ciclismo che nel 2014 ha fatto la parte del leone in quanto ad eventi organizzati e che il prossimo anno vedrà la Gran Fondo Stelvio Santini promossa nel “Prestigio”. Ma anche al gruppo dell’atletica\, impegnato sino a pochi giorni fa su tutti i terreni con i suoi ragazzi\, con risultati sempre più convincenti.\nCi sono poi settori che proprio in questo periodo sono impegnati a tempo pieno (vedi pallavolo o short track); altri non smettono mai di lavorare (bocce o body building)\, altri si concedono in queste settimane pause meteorologiche prefissate (come il calcio\, che però è già al lavoro per la festa del 30° di fondazione). Altri\, come il settore manifestazioni\, hanno appena preso fiato dopo le Bormiadi e sono pronti per nuove attività e nuovi impegni su neve e ghiaccio.\nInsomma\, in un modo o nell’altro\, l’US Bormiese è sempre in pista\, in campo\, in palestra\, sulle strade o sui sentieri.\nEcco perchè non è semplice provare a tirare le somme di una stagione sportiva\, perchè è una stagione\, fatta di tanti momenti\, che non ha inizio e non ha praticamente fine.\nQuesto non significa che non si debba trovare un momento per fare qualche riflessione; qualche ragionamento su quello che abbiamo fatto e che ci apprestiamo a fare.\nE la prima riflessione che voglio fare con tutti voi riguarda il nostro impegno come associazione che è\, e resta\, prima di tutto\, rivolto ai ragazzi\, alla loro educazione\, formazione e crescita. Credo che la pratica sportiva\, non parlo di agonismo (che\, se mai\, viene dopo)\, rappresenti da un lato un forte antidoto al disagio sociale e dall’altro un momento di sana aggregazione. Lo sport non vuole e non deve sostituirsi a cultura\, partecipazione sociale\, volontariato; ma credo possa essere uno strumento di crescita importante per la nostra società. E di questa importanza\, sono convinto\, devono rendersene conto anche e soprattutto le istituzioni (tutte!) che\, sostenendo lo sport\, la cultura\, l’associazionismo non fanno altro che prevenire situazioni di disagio che vediamo aumentare anche nella nostra realtà.\nE il sostegno che mi permetto di sollecitare a nome di tutti riguarda in primo luogo le strutture sportive; sono il luogo della crescita dei ragazzi e hanno bisogno di cura costante. E’ vero\, la situazione economica ed il patto di stabilità\, sembrano frenare gli investimenti degli enti locali. Ma potrebbero essere molto più onerosi gli interventi per ovviare ai mali del crescente disagio sociale.\nLa seconda riflessione riguarda la partecipazione\, il sostegno\, la presenza\, l’impegno che circondano la nostra associazione. Ed a questo proposito vorrei ringraziare\, a nome mio e di tutta l’US Bormiese\, chi ci aiuta\, anche in questo difficile momento economico\, e che dimostra attraverso contributi e sponsorizzazioni\, di credere nel nostro lavoro.\nVorrei ringraziare le famiglie che continuano ad avere fiducia in quello che facciamo\, anche oltre ai risultati sportivi che\, comunque\, in quest’annata sono stati davvero tanti.\nVorrei ringraziare i nostri tecnici ed i preparatori\, grazie ai quali i ragazzi possono prima imparare e poi\, se vogliono\, crescere e puntare al successo (perchè è importante e bello anche vincere oltre che partecipare).\nVorrei ringraziare\, oltre alle persone che lavorano nella nostra straordinaria segreteria\, le decine di volontari che rendono possibile l’attività istituzionale\, quella di ciascun settore\, ma ci consentono di essere sempre al top quando organizziamo piccoli e grandi eventi.\nInfine un augurio a tutti perchè insieme si possano superare ostacoli e barriere che impediscono di condividere\, davvero\, percorsi ed obiettivi. In questo momento non serve chi fa uno scatto in avanti\, perchè qui non si tratta di competizioni individuali; ma come le pattuglie di sci alpinismo\, come le cronometro a squadre di ciclismo\, come le partite di pallavolo o calcio\, le staffette dello short track\, si vince o si perde insieme. E noi insieme vogliamo provare a vincere. \nChe il 2015 sia più bello per tutti!\nPierluigi Spechenhauser
URL:https://www.usbormiese.com/event/buone-feste-dallus-bormiese-che-il-2015-sia-piu-bello-per-tutti/
ATTACH;FMTTYPE=image/jpeg:https://www.usbormiese.com/wp-content/uploads/2014/12/buoneFeste.jpg
END:VEVENT
BEGIN:VEVENT
DTSTART;TZID=Europe/Rome:20141221T200000
DTEND;TZID=Europe/Rome:20141221T213000
DTSTAMP:20260424T045603
CREATED:20141123T142213Z
LAST-MODIFIED:20141123T142427Z
UID:5693-1419192000-1419197400@www.usbormiese.com
SUMMARY:PALLAVOLO\, 1^ Divisione Maschile - A Dongo: Pallavolo Altolario - Us Bormiese
DESCRIPTION:Campionato Prima Divisione Maschile – 3^Giornata \nA Dongo\, Pallavolo Altolario – Us Bormiese Pub Clem \nDomenica 21 dicembre 2014  –  ore 20.00 \n 
URL:https://www.usbormiese.com/event/pallavolo-1-divisione-maschile-a-dongo-pallavolo-altolario-us-bormiese/
LOCATION:Dongo
CATEGORIES:PALLAVOLO
END:VEVENT
BEGIN:VEVENT
DTSTART;TZID=Europe/Rome:20141221T180000
DTEND;TZID=Europe/Rome:20141221T193000
DTSTAMP:20260424T045603
CREATED:20141012T122754Z
LAST-MODIFIED:20141021T135357Z
UID:5065-1419184800-1419190200@www.usbormiese.com
SUMMARY:PALLAVOLO\, Under 16 Femminile - A Bormio: US Bormiese - Pentacom
DESCRIPTION:Campionato Under 16 Femminile – Girone A – 10^Giornata \nA Bormio\, Us Bormiese Bormio Terme – Pentacom \nDomenica 21 dicembre 2014  –  ore 18.00 \n 
URL:https://www.usbormiese.com/event/pallavolo-under-16-femminile-a-bormio-us-bormiese-pentacom/
LOCATION:Bormio
CATEGORIES:PALLAVOLO
END:VEVENT
BEGIN:VEVENT
DTSTART;TZID=Europe/Rome:20141221T153000
DTEND;TZID=Europe/Rome:20141221T173000
DTSTAMP:20260424T045603
CREATED:20141208T140029Z
LAST-MODIFIED:20141208T140029Z
UID:5870-1419175800-1419183000@www.usbormiese.com
SUMMARY:PALLAVOLO\, Under 12 Femminile - A Sondrio: 1^ Giornata
DESCRIPTION:Campionato Under 12 Femminile – 1^Giornata \nore 15.30 Pgs Auxlium – Gs Rio Scianno 3 \nore 16.30 Gs Rio Scianno 3 – Nuova Sondrio Sp. Volley \nA Sondrio\, Domenica 21 dicembre 2014 \n 
URL:https://www.usbormiese.com/event/pallavolo-under-12-femminile-a-sondrio-1-giornata/
LOCATION:Sondrio
CATEGORIES:PALLAVOLO
END:VEVENT
BEGIN:VEVENT
DTSTART;TZID=Europe/Rome:20141221T140000
DTEND;TZID=Europe/Rome:20141221T170000
DTSTAMP:20260424T045603
CREATED:20141208T135806Z
LAST-MODIFIED:20141208T135806Z
UID:5869-1419170400-1419181200@www.usbormiese.com
SUMMARY:PALLAVOLO\, Under 12 Femminile - A Grosotto: 1^ Giornata
DESCRIPTION:Campionato Under 12 Femminile – 1^Giornata \nore 14.00 Pallavolo Altavalle – Gs Rio Scianno 1 \nore 15.00 Pentacom – Gs Rio Scianno 2 \nore 16.00 Gs Rio Scianno 1 – Pentacom \nore 17.00 Gs Rio Scianno 2 – Pallavolo Altavalle \nA Grosotto\, Domenica 21 dicembre 2014 \n 
URL:https://www.usbormiese.com/event/pallavolo-under-12-femminile-a-grosotto-1-giornata/
LOCATION:Grosotto
CATEGORIES:PALLAVOLO
END:VEVENT
BEGIN:VEVENT
DTSTART;TZID=Europe/Rome:20141220T180000
DTEND;TZID=Europe/Rome:20141220T193000
DTSTAMP:20260424T045603
CREATED:20141012T124618Z
LAST-MODIFIED:20141021T135427Z
UID:5074-1419098400-1419103800@www.usbormiese.com
SUMMARY:PALLAVOLO\, 1^ Divisione Femminile - A Bormio: US Bormiese - US Delebio
DESCRIPTION:Campionato Prima Divisione Femminile – 6^Giornata \nA Bormio\, Us Bormiese Idealcasa – Us Delebio \nSabato 20 dicembre 2014  –  ore 18.00 \n 
URL:https://www.usbormiese.com/event/pallavolo-1-divisione-femminile-a-bormio-us-bormiese-us-delebio/
LOCATION:Bormio
CATEGORIES:PALLAVOLO
END:VEVENT
BEGIN:VEVENT
DTSTART;TZID=Europe/Rome:20141220T170000
DTEND;TZID=Europe/Rome:20141220T183000
DTSTAMP:20260424T045603
CREATED:20141012T115936Z
LAST-MODIFIED:20141021T135520Z
UID:5047-1419094800-1419100200@www.usbormiese.com
SUMMARY:PALLAVOLO\, Under 14 Femminile - A Grosotto: Pallavolo Altavalle - US Bormiese
DESCRIPTION:Campionato Under 14 Femminile – Girone A – 9^Giornata \nA Grosotto\, Pallavolo Altavalle – Us Bormiese Ottica Occhi \nSabato 20 dicembre 2014  –  ore 17.00 \n 
URL:https://www.usbormiese.com/event/pallavolo-under-14-femminile-a-grosotto-pallavolo-altavalle-us-bormiese/
LOCATION:Grosotto
CATEGORIES:PALLAVOLO
END:VEVENT
BEGIN:VEVENT
DTSTART;TZID=Europe/Rome:20141219T210000
DTEND;TZID=Europe/Rome:20141219T223000
DTSTAMP:20260424T045603
CREATED:20141002T085813Z
LAST-MODIFIED:20141002T085813Z
UID:4931-1419022800-1419028200@www.usbormiese.com
SUMMARY:CALCIO\, Calcio a 5 - A Morbegno: Valtellina Futsal-Bormiese
DESCRIPTION:Campionato serie C – 12^ Giornata di Andata\nA Morbegno\, Valtellina Futsal-Bormiese
URL:https://www.usbormiese.com/event/calcio-calcio-a-5-a-morbegno-valtellina-futsal-bormiese/
CATEGORIES:CALCIO
END:VEVENT
BEGIN:VEVENT
DTSTART;VALUE=DATE:20141219
DTEND;VALUE=DATE:20141222
DTSTAMP:20260424T045603
CREATED:20141201T112629Z
LAST-MODIFIED:20141201T112629Z
UID:5770-1418947200-1419206399@www.usbormiese.com
SUMMARY:SHORT TRACK – COPPA DEL MONDO A SEOUL (KOREA)
DESCRIPTION:A Seoul in Korea è in programma la quarta prova della Coppa del Mondo 2014/2015 \n \nLe gare sono in programma dal 19 al 21 dicembre 2014. \nImpegnati in terra d’asia saranno Lucia Peretti e Massimo Gurini (Bormio Ghiaccio)\, Davide Viscardi (Agorà Milano)\, Yuri Confortola e Nicola Rodigari (G.S. Forestale Roma)\, Arianna Fontana\, Arianna Valcepina\, Elena Vivivani (G.S. Fiamme Gialle Predazzo)\, Tommaso Dotti (G.S. Fiamme Oro Moena)\, Ylenia Tota\, Andrea Cassinelli (Ice Team Torino) e Federica Tombolato (A.E.V. Sportmann D.G. Bolzano).
URL:https://www.usbormiese.com/event/short-track-coppa-del-mondo-a-seoul-korea/
ATTACH;FMTTYPE=image/jpeg:https://www.usbormiese.com/wp-content/uploads/2014/11/yuriWC2014a.jpg
END:VEVENT
BEGIN:VEVENT
DTSTART;TZID=Europe/Rome:20141216T190000
DTEND;TZID=Europe/Rome:20141221T220000
DTSTAMP:20260424T045603
CREATED:20141215T190532Z
LAST-MODIFIED:20150108T085503Z
UID:5939-1418756400-1419199200@www.usbormiese.com
SUMMARY:PALLAVOLO\, IL PROGRAMMA DELLE PARTITE
DESCRIPTION:PROGRAMMA PARTITE PALLAVOLO \nDAL 16 AL 21 DICEMBRE 2014 \n\nUnder 16 Femminile – Girone A\nA Grosotto\, Martedì 16 dicembre 2014 – ore 19.00\nPALLAVOLO ALTAVALLE  –  US BORMIESE “BORMIO TERME”\n\n\nUnder 14 Femminile – Girone A\nA Grosotto\, Sabato 20 dicembre 2014 – ore 17.00\nPALLAVOLO ALTAVALLE  –  US BORMIESE “OTTICA OCCHI”\n\n\nPrima Divisione Femminile\nA Bormio\, Sabato 20 dicembre 2014 – ore 18.00\nUS BORMIESE “IDEALCASA”  –  US DELEBIO\n\n\nUnder 16 Femminile – Girone A\nA Bormio\, Domenica 21 dicembre 2014 – ore 18.00\nUS BORMIESE “BORMIO TERME”  –  PENTACOM\n\n\nPrima Divisione Maschile\nA Dongo\, Domenica 21 dicembre 2014 – ore 20.00\nPALLAVOLO ALTOLARIO  –  US BORMIESE “CLEM PUB”\n\n\nUnder 12 Femminile \nDomenica 21 dicembre 2014  –  Grosotto\nore 14.00   PALLAVOLO ALTAVALLE  –  GS RIO SCIANNO 1\nore 15.00   PENTACOM  –  GS RIO SCIANNO 2\nore 16.00   GS RIO SCIANNO 1  –  PENTACOM\nore 17.00   GS RIO SCIANNO 2   –  PALLAVOLO ALTAVALLE\n\n\n           Domenica 21 dicembre 2014  –  Sondrio\n           ore 15.30   PGS AUXILIUM  –  GS RIO SCIANNO 3\n           ore 16.30   GS RIO SCIANNO 3  –  NUOVA SONDRIO SP.VOLLEY
URL:https://www.usbormiese.com/event/pallavolo-il-programma-delle-partite-4/
CATEGORIES:PALLAVOLO
END:VEVENT
BEGIN:VEVENT
DTSTART;TZID=Europe/Rome:20141216T190000
DTEND;TZID=Europe/Rome:20141216T203000
DTSTAMP:20260424T045603
CREATED:20141012T122457Z
LAST-MODIFIED:20141021T135552Z
UID:5063-1418756400-1418761800@www.usbormiese.com
SUMMARY:PALLAVOLO\, Under 16 Femminile - A Grosotto: Pallavolo Altavalle - US Bormiese
DESCRIPTION:Campionato Under 16 Femminile – Girone A – 9^Giornata \nA Grosotto\, Pallavolo Altavalle – Us Bormiese Bormio Terme \nMartedì 16 dicembre 2014  –  ore 19.00 \n 
URL:https://www.usbormiese.com/event/pallavolo-under-16-femminile-a-grosotto-pallavolo-altavalle-us-bormiese/
LOCATION:Grosotto
CATEGORIES:PALLAVOLO
END:VEVENT
BEGIN:VEVENT
DTSTART;TZID=Europe/Rome:20141214T173000
DTEND;TZID=Europe/Rome:20141214T190000
DTSTAMP:20260424T045603
CREATED:20141104T202453Z
LAST-MODIFIED:20141104T202453Z
UID:5340-1418578200-1418583600@www.usbormiese.com
SUMMARY:PALLAVOLO\, Under 13 Femminile - a Grosotto: Pallavolo Altavalle - Us Bormiese
DESCRIPTION:Campionato Under 13 Femminile – 5^Giornata \nA Grosotto\, Pallavolo Altavalle – Us Bormiese \nDomenica 14 dicembre 2014  –  ore 17.30 \n 
URL:https://www.usbormiese.com/event/pallavolo-under-13-femminile-a-grosotto-pallavolo-altavalle-us-bormiese/
LOCATION:Grosotto
CATEGORIES:PALLAVOLO
END:VEVENT
BEGIN:VEVENT
DTSTART;TZID=Europe/Rome:20141213T180000
DTEND;TZID=Europe/Rome:20141213T193000
DTSTAMP:20260424T045603
CREATED:20141104T202610Z
LAST-MODIFIED:20141104T202610Z
UID:5341-1418493600-1418499000@www.usbormiese.com
SUMMARY:PALLAVOLO\, Under 13 Femminile - a Bormio: Gs Rio Scianno - Nuova Sondrio sp.Volley
DESCRIPTION:Campionato Under 13 Femminile – 5^Giornata \nA Bormio\, Gs Rio Scianno – Nuova Sondrio sp. Volley \nSabato 13 dicembre 2014  –  ore 18.00 \n 
URL:https://www.usbormiese.com/event/pallavolo-under-13-femminile-a-bormio-gs-rio-scianno-nuova-sondrio-sp-volley/
LOCATION:Bormio
CATEGORIES:PALLAVOLO
END:VEVENT
BEGIN:VEVENT
DTSTART;TZID=Europe/Rome:20141213T180000
DTEND;TZID=Europe/Rome:20141213T193000
DTSTAMP:20260424T045603
CREATED:20141012T124248Z
LAST-MODIFIED:20141021T135627Z
UID:5073-1418493600-1418499000@www.usbormiese.com
SUMMARY:PALLAVOLO\, 1^ Divisione Femminile - A Tresivio: Pentacom - US Bormiese
DESCRIPTION:Campionato Prima Divisione Femminile – 5^Giornata \nA Tresivio\, Pentacom – Us Bormiese Idealcasa \nSabato 13 dicembre 2014  –  ore 18.00 \n 
URL:https://www.usbormiese.com/event/pallavolo-1-divisione-femminile-a-tresivio-pentacom-us-bormiese/
LOCATION:Tresivio
CATEGORIES:PALLAVOLO
END:VEVENT
BEGIN:VEVENT
DTSTART;VALUE=DATE:20141213
DTEND;VALUE=DATE:20141214
DTSTAMP:20260424T045603
CREATED:20141201T112856Z
LAST-MODIFIED:20141222T094856Z
UID:5771-1418428800-1418515199@www.usbormiese.com
SUMMARY:Short track - A Bormio seconda prova del Circuito Interregionale
DESCRIPTION:Dopo l’esordio di Torino\, sabato 13 dicembre 2014 il Circuito Interregionale  dello short track fa tappa a Bormio. In pista oltre ai giovanissimi della Bormio Ghiaccio anche i portacolori delle società di Piemonte e Lombardia. \nAl palaghiaccio di Bormio\, nel pomeriggio di sabato 13 dicembre 2014\, è in programma la seconda prova. \nInizio gara ore 15.00. \nECCO TUTTE LE IMMAGINI
URL:https://www.usbormiese.com/event/short-track-a-bormio-seconda-prova-del-circuito-interregionale/
ATTACH;FMTTYPE=image/jpeg:https://www.usbormiese.com/wp-content/uploads/2014/11/shorttrack_TO1114a.jpg
END:VEVENT
BEGIN:VEVENT
DTSTART;TZID=Europe/Rome:20141212T210000
DTEND;TZID=Europe/Rome:20141212T223000
DTSTAMP:20260424T045603
CREATED:20141002T085701Z
LAST-MODIFIED:20141002T085701Z
UID:4930-1418418000-1418423400@www.usbormiese.com
SUMMARY:CALCIO\, Calcio a 5 - A Bormio: Bormiese-Futura C5 Morbegno
DESCRIPTION:Campionato serie C – 11^ Giornata di Andata\nA Bormio\, Bormiese-Futura C5 Morbegno
URL:https://www.usbormiese.com/event/calcio-calcio-a-5-a-bormio-bormiese-futura-c5-morbegno/
CATEGORIES:CALCIO
END:VEVENT
BEGIN:VEVENT
DTSTART;TZID=Europe/Rome:20141212T193000
DTEND;TZID=Europe/Rome:20141212T210000
DTSTAMP:20260424T045603
CREATED:20141012T115745Z
LAST-MODIFIED:20141021T134555Z
UID:5046-1418412600-1418418000@www.usbormiese.com
SUMMARY:PALLAVOLO\, Under 14 Femminile - A S.Antonio Valfurva: US Bormiese - GS CSI Tirano
DESCRIPTION:Campionato Under 14 Femminile – Girone A – 8^Giornata \nA S.Antonio Valfurva\, Us Bormiese Ottica Occhi- Gs Csi Tirano \nVenerdì 12 dicembre 2014  –  ore 19.30 \n 
URL:https://www.usbormiese.com/event/pallavolo-under-14-femminile-a-s-antonio-valfurva-us-bormiese-gs-csi-tirano/
LOCATION:S.Antonio Valfurva
CATEGORIES:PALLAVOLO
END:VEVENT
BEGIN:VEVENT
DTSTART;TZID=Europe/Rome:20141212T193000
DTEND;TZID=Europe/Rome:20141212T203000
DTSTAMP:20260424T045603
CREATED:20141012T122632Z
LAST-MODIFIED:20141021T134517Z
UID:5064-1418412600-1418416200@www.usbormiese.com
SUMMARY:PALLAVOLO\, Under 16 Femminile - A Valdisotto: GS Rio Scianno - Pentacom
DESCRIPTION:Campionato Under 16 Femminile – Girone A – 9^Giornata \nA Valdisotto\, Gs Rio Scianno Mutti Ortofrutticola – Pentacom \nVenerdì 12 dicembre 2014  –  ore 19.30 \n 
URL:https://www.usbormiese.com/event/pallavolo-under-16-femminile-a-valdisotto-gs-rio-scianno-pentacom/
LOCATION:Valdisotto
CATEGORIES:PALLAVOLO
END:VEVENT
BEGIN:VEVENT
DTSTART;TZID=Europe/Rome:20141212T190000
DTEND;TZID=Europe/Rome:20141214T190000
DTSTAMP:20260424T045603
CREATED:20141209T185909Z
LAST-MODIFIED:20141215T190549Z
UID:5889-1418410800-1418583600@www.usbormiese.com
SUMMARY:PALLAVOLO\, IL PROGRAMMA DELLE PARTITE
DESCRIPTION:PROGRAMMA PARTITE PALLAVOLO \nDAL 12 AL 14 DICEMBRE 2014 \n  \n\nUnder 14 Femminile – Girone A\nA S.Antonio Valfurva\, Venerdì 12 dicembre 2014 – ore 19.30\nUS BORMIESE “OTTICA OCCHI”  –  GS CSI TIRANO\n\n\nUnder 16 Femminile – Girone A\nA Valdisotto\, Venerdì 12 dicembre 2014 – ore 19.30\nGS RIO SCIANNO “MUTTI ORTOFRUTTICOLA”  –  PENTACOM\n\n\nPrima Divisione Femminile\nA Tresivio\, Sabato 13 dicembre 2014 – ore 18.00\nPENTACOM  –  US BORMIESE “IDEALCASA”\n\n\nUnder 13 Femminile – Girone A\nA Bormio\, Sabato 13 dicembre 2014 – ore 18.00\nGS RIO SCIANNO  –  NUOVA SONDRIO SP. VOLLEY\n\n\nUnder 13 Femminile – Girone A\nA Grosotto\, Domenica 14 dicembre 2014 – ore 17.30\nPALLAVOLO ALTAVALLE  –  US BORMIESE
URL:https://www.usbormiese.com/event/pallavolo-il-programma-delle-partite-3/
CATEGORIES:PALLAVOLO
END:VEVENT
BEGIN:VEVENT
DTSTART;VALUE=DATE:20141212
DTEND;VALUE=DATE:20141215
DTSTAMP:20260424T045603
CREATED:20141201T112241Z
LAST-MODIFIED:20141201T112327Z
UID:5769-1418342400-1418601599@www.usbormiese.com
SUMMARY:Short track - Coppa del mondo a Shanghai (Cina)
DESCRIPTION:A Shanghai in Cina è in programma la terza prova della Coppa del Mondo 2014/2015 \n \nLe gare sono in programma dal 12 al 14 dicembre 2014. \nImpegnati in terra d’asia saranno Lucia Peretti e Massimo Gurini (Bormio Ghiaccio)\, Davide Viscardi (Agorà Milano)\, Yuri Confortola e Nicola Rodigari (G.S. Forestale Roma)\, Arianna Fontana\, Arianna Valcepina\, Elena Vivivani (G.S. Fiamme Gialle Predazzo)\, Tommaso Dotti (G.S. Fiamme Oro Moena)\, Ylenia Tota\, Andrea Cassinelli (Ice Team Torino) e Federica Tombolato (A.E.V. Sportmann D.G. Bolzano).
URL:https://www.usbormiese.com/event/short-track-coppa-del-mondo-a-shanghai-cina/
CATEGORIES:SHORT TRACK
ATTACH;FMTTYPE=image/jpeg:https://www.usbormiese.com/wp-content/uploads/2014/11/yuriWC2014a.jpg
END:VEVENT
BEGIN:VEVENT
DTSTART;TZID=Europe/Rome:20141208T180000
DTEND;TZID=Europe/Rome:20141208T193000
DTSTAMP:20260424T045603
CREATED:20141104T202331Z
LAST-MODIFIED:20141104T202331Z
UID:5339-1418061600-1418067000@www.usbormiese.com
SUMMARY:PALLAVOLO\, Under 13 Femminile - A Bormio: Gs Rio Scianno - Pentacom
DESCRIPTION:Campionato Under 13 Femminile – 4^Giornata \nA Bormio\, Gs Rio Scianno – Pentacom \nLunedì 8 dicembre 2014  –  ore 18.00 \n 
URL:https://www.usbormiese.com/event/pallavolo-under-13-femminile-a-bormio-gs-rio-scianno-pentacom/
LOCATION:Bormio
CATEGORIES:PALLAVOLO
END:VEVENT
BEGIN:VEVENT
DTSTART;TZID=Europe/Rome:20141207T180000
DTEND;TZID=Europe/Rome:20141207T193000
DTSTAMP:20260424T045604
CREATED:20141012T122253Z
LAST-MODIFIED:20141021T134443Z
UID:5062-1417975200-1417980600@www.usbormiese.com
SUMMARY:PALLAVOLO\, Under 16 Femminile - A Bormio: US Bormiese - GS Rio Scianno
DESCRIPTION:Campionato Under 16 Femminile – Girone A – 8^Giornata \nA Bormio\, Us Bormiese Bormio Terme – Gs Rio Scianno Mutti Ortofrutticola \nDomenica 7 dicembre 2014  –  ore 18.00 \n 
URL:https://www.usbormiese.com/event/pallavolo-under-16-femminile-a-bormio-us-bormiese-gs-rio-scianno/
LOCATION:Bormio
CATEGORIES:PALLAVOLO
END:VEVENT
BEGIN:VEVENT
DTSTART;TZID=Europe/Rome:20141206T213000
DTEND;TZID=Europe/Rome:20141206T230000
DTSTAMP:20260424T045604
CREATED:20141002T085547Z
LAST-MODIFIED:20141002T085547Z
UID:4929-1417901400-1417906800@www.usbormiese.com
SUMMARY:CALCIO\, Calcio a 5 - A Verano Brianza: Futsal Seregno-Bormiese
DESCRIPTION:Campionato serie C – 10^ Giornata di Andata\nA Verano Brianza\, Futsal Seregno-Bormiese
URL:https://www.usbormiese.com/event/calcio-calcio-a-5-a-verano-brianza-futsal-seregno-bormiese/
CATEGORIES:CALCIO
END:VEVENT
BEGIN:VEVENT
DTSTART;TZID=Europe/Rome:20141206T180000
DTEND;TZID=Europe/Rome:20141206T193000
DTSTAMP:20260424T045604
CREATED:20141012T124125Z
LAST-MODIFIED:20141021T134419Z
UID:5072-1417888800-1417894200@www.usbormiese.com
SUMMARY:PALLAVOLO\, 1^ Divisione Femminile - A Bormio: US Bormiese - Gordona
DESCRIPTION:Campionato Prima Divisione Femminile – 4^Giornata \nA Bormio\, Us Bormiese Idealcasa – Gordona \nSabato 6 dicembre 2014  –  ore 18.00 \n 
URL:https://www.usbormiese.com/event/pallavolo-1-divisione-femminile-a-bormio-us-bormiese-gordona/
LOCATION:Bormio
CATEGORIES:PALLAVOLO
END:VEVENT
BEGIN:VEVENT
DTSTART;TZID=Europe/Rome:20141206T153000
DTEND;TZID=Europe/Rome:20141206T170000
DTSTAMP:20260424T045604
CREATED:20141002T092012Z
LAST-MODIFIED:20141002T092012Z
UID:4942-1417879800-1417885200@www.usbormiese.com
SUMMARY:CALCIO\, Esordienti - A Bormio: Bormiese-Livigno B
DESCRIPTION:Campionato provinciale Esordienti – Fase autunnale\nA Bormio\, Bormiese-Livigno B
URL:https://www.usbormiese.com/event/calcio-esordienti-a-bormio-bormiese-livigno-b/
CATEGORIES:CALCIO
END:VEVENT
BEGIN:VEVENT
DTSTART;TZID=Europe/Rome:20141205T193000
DTEND;TZID=Europe/Rome:20141205T210000
DTSTAMP:20260424T045604
CREATED:20141012T115605Z
LAST-MODIFIED:20141021T134357Z
UID:5045-1417807800-1417813200@www.usbormiese.com
SUMMARY:PALLAVOLO\, Under 14 Femminile - A S.Antonio Valfurva: US Bormiese - Pentacom
DESCRIPTION:Campionato Under 14 Femminile – Girone A – 7^Giornata \nA S.Antonio Valfurva\, Us Bormiese Ottica Occhi – Pentacom \nVenerdì 5 dicembre 2014  –  ore 19.30 \n 
URL:https://www.usbormiese.com/event/pallavolo-under-14-femminile-a-s-antonio-valfurva-us-bormiese-pentacom/
LOCATION:S.Antonio Valfurva
CATEGORIES:PALLAVOLO
END:VEVENT
BEGIN:VEVENT
DTSTART;TZID=Europe/Rome:20141205T190000
DTEND;TZID=Europe/Rome:20141208T190000
DTSTAMP:20260424T045604
CREATED:20141204T071647Z
LAST-MODIFIED:20141209T185934Z
UID:5853-1417806000-1418065200@www.usbormiese.com
SUMMARY:PALLAVOLO\, IL PROGRAMMA DELLE PARTITE
DESCRIPTION:PROGRAMMA PARTITE PALLAVOLO \nDAL 5 AL 8 DICEMBRE 2014 \n  \n\nUnder 14 Femminile – Girone A\nA S.Antonio Valfurva\, Venerdì 5 dicembre 2014 – ore 19.30\nUS BORMIESE “OTTICA OCCHI”  –  PENTACOM\n\n\nPrima Divisione Femminile\nA Bormio\, Sabato 6 dicembre 2014 – ore 18.00\nUS BORMIESE “IDEALCASA”  –  GORDONA\n\n\nUnder 19  Maschile  –  1^ Giornata\nA Bormio\, Domenica 7 dicembre 2014\nore 10.00   US BORMIESE “ALLIANZ”  –  US BORMIESE “CLEM PUB”\nore 15.00   PALLAVOLO ALTOLARIO  –  US BORMIESE “ALLIAZ”\nore 17.30   US BORMIESE “CLEM PUB  –  PALLAVOLO ALTOLARIO\n\n\n\nUnder 16 Femminile – Girone A\nA Bormio\, Domenica 7 dicembre 2014 – ore 18.00\nUS BORMIESE “BORMIO TERME”  –  GS RIO SCIANNO “MUTTI ORTOFRUTTICOLA”\n\n\nUnder 13 Femminile – Girone A\nA Bormio\, Lunedì 8 dicembre 2014 – ore 18.00\nGS RIO SCIANNO  –  PENTACOM
URL:https://www.usbormiese.com/event/pallavolo-il-programma-delle-partite-2/
CATEGORIES:PALLAVOLO
END:VEVENT
BEGIN:VEVENT
DTSTART;VALUE=DATE:20141205
DTEND;VALUE=DATE:20141208
DTSTAMP:20260424T045604
CREATED:20141201T111422Z
LAST-MODIFIED:20141201T111444Z
UID:5768-1417737600-1417996799@www.usbormiese.com
SUMMARY:Short track - Star Class ad Hasselt (Bel)
DESCRIPTION:Seconda prova del circuito di Star Class 2014/2015 per junior A e B \nL’appuntamento è in calendario ad Hasselt in Belgio da venerdì 5 a domenica 7 dicembre 2014. \nIn gara le categorie junior A e junior B
URL:https://www.usbormiese.com/event/short-track-star-class-ad-hasselt-bel/
CATEGORIES:SHORT TRACK
ATTACH;FMTTYPE=image/jpeg:https://www.usbormiese.com/wp-content/uploads/2014/10/logoBormioGhiaccio.jpg
END:VEVENT
BEGIN:VEVENT
DTSTART;TZID=Europe/Rome:20141203T180000
DTEND;TZID=Europe/Rome:20141207T130000
DTSTAMP:20260424T045604
CREATED:20141202T124418Z
LAST-MODIFIED:20141222T095145Z
UID:5747-1417629600-1417957200@www.usbormiese.com
SUMMARY:BORMIESE CALCIO: PROGRAMMA SETTIMANALE ATTIVITÀ
DESCRIPTION:Programma settimanale Bormiese Calcio dal 03 al 07 dicembre 2014 \n \nPROGRAMMA PARTITE\ndal 03 al 07 dicembre 2014 \n\nGIOVANISSIMI\nMercoledì\, 03 dicembre 2014 Bormio ore 18\,00\nLIVIGNO – BORMIESE\n\n\nCALCIO A 5\nVenerdì\, 6 dicembre 2014      Verano Brianza  ore 21\,30\nFUTSAL SEREGNO – BORMIESE\n\n\nGIOVANISSIMI\nDomenica\, 07 dicembre 2014 Dazio ore 10\,30\nOLYMPIC RETICA – BORMIESE\n\nPRIMA SQUADRA\nDomenica\, 07 dicembre 2014 Garbagnate ore 14\,30\nBRONGIO – BORMIESE\n\n 
URL:https://www.usbormiese.com/event/5747/
CATEGORIES:CALCIO
ATTACH;FMTTYPE=image/jpeg:https://www.usbormiese.com/wp-content/uploads/2014/07/bormiese-calcio-logo.jpg
END:VEVENT
BEGIN:VEVENT
DTSTART;TZID=Europe/Rome:20141202T190000
DTEND;TZID=Europe/Rome:20141202T203000
DTSTAMP:20260424T045604
CREATED:20141012T122015Z
LAST-MODIFIED:20141021T134326Z
UID:5060-1417546800-1417552200@www.usbormiese.com
SUMMARY:PALLAVOLO\, Under 16 Femminile - A Grosotto: Pallavolo Altavalle - GS Rio Scianno
DESCRIPTION:Campionato Under 16 Femminile – Girone A – 7^Giornata \nA Grosotto\, Pallavolo Altavalle – Gs Rio Scianno Mutti Ortofrutticola \nMartedì 2 dicembre 2014  –  ore 19.00 \n 
URL:https://www.usbormiese.com/event/pallavolo-under-16-femminile-a-grosotto-pallavolo-altavalle-gs-rio-scianno/
LOCATION:Grosotto
CATEGORIES:PALLAVOLO
END:VEVENT
END:VCALENDAR