BEGIN:VCALENDAR
VERSION:2.0
PRODID:-//Unione Sportiva Bormiese - ECPv6.8.2.1//NONSGML v1.0//EN
CALSCALE:GREGORIAN
METHOD:PUBLISH
X-WR-CALNAME:Unione Sportiva Bormiese
X-ORIGINAL-URL:https://www.usbormiese.com
X-WR-CALDESC:Eventi per Unione Sportiva Bormiese
REFRESH-INTERVAL;VALUE=DURATION:PT1H
X-Robots-Tag:noindex
X-PUBLISHED-TTL:PT1H
BEGIN:VTIMEZONE
TZID:Europe/Rome
BEGIN:DAYLIGHT
TZOFFSETFROM:+0100
TZOFFSETTO:+0200
TZNAME:CEST
DTSTART:20140330T010000
END:DAYLIGHT
BEGIN:STANDARD
TZOFFSETFROM:+0200
TZOFFSETTO:+0100
TZNAME:CET
DTSTART:20141026T010000
END:STANDARD
END:VTIMEZONE
BEGIN:VEVENT
DTSTART;TZID=Europe/Rome:20141115T153000
DTEND;TZID=Europe/Rome:20141115T170000
DTSTAMP:20260424T131129
CREATED:20141002T092339Z
LAST-MODIFIED:20141117T083818Z
UID:4945-1416065400-1416070800@www.usbormiese.com
SUMMARY:CALCIO\, Esordienti - A Bormio: Bormiese-Sondalo
DESCRIPTION:Campionato provinciale Esordienti – Fase autunnale\nA Bormio\, Bormiese-Sondalo
URL:https://www.usbormiese.com/event/calcio-esordienti-a-bormio-bormiese-sondalo/
CATEGORIES:CALCIO
ATTACH;FMTTYPE=image/jpeg:https://www.usbormiese.com/wp-content/uploads/2014/07/bormiese-calcio-logo.jpg
END:VEVENT
BEGIN:VEVENT
DTSTART;TZID=Europe/Rome:20141114T213000
DTEND;TZID=Europe/Rome:20141114T230000
DTSTAMP:20260424T131129
CREATED:20141002T085118Z
LAST-MODIFIED:20141002T085118Z
UID:4926-1416000600-1416006000@www.usbormiese.com
SUMMARY:CALCIO\, Calcio a 5 - A Renate: Polisp.Renatese-Bormiese
DESCRIPTION:Campionato serie C – 7^ Giornata di Andata\nA Renate\, Polisportiva Renatese-Bormiese
URL:https://www.usbormiese.com/event/calcio-calcio-a-5-a-renate-polisp-renatese-bormiese/
CATEGORIES:CALCIO
END:VEVENT
BEGIN:VEVENT
DTSTART;TZID=Europe/Rome:20141114T193000
DTEND;TZID=Europe/Rome:20141114T210000
DTSTAMP:20260424T131129
CREATED:20141012T114922Z
LAST-MODIFIED:20141119T130610Z
UID:5041-1415993400-1415998800@www.usbormiese.com
SUMMARY:PALLAVOLO\, Under 14 Femminile - A S.Antonio Valfurva: US Bormiese - Pallavolo Altavalle
DESCRIPTION:Campionato Under 14 Femminile – Girone A – 4^Giornata \nA S.Antonio Valfurva\, Us Bormiese Ottica Occhi – Pallavolo Altavalle \nVenerdì 14 novembre 2014  –  ore 19.30 \n 
URL:https://www.usbormiese.com/event/pallavolo-under-14-femminile-a-s-antonio-valfurva-us-bormiese-pallavolo-altavalle/
LOCATION:S.Antonio Valfurva
CATEGORIES:PALLAVOLO
ATTACH;FMTTYPE=image/jpeg:https://www.usbormiese.com/wp-content/uploads/2014/10/18.jpg
END:VEVENT
BEGIN:VEVENT
DTSTART;TZID=Europe/Rome:20141109T180000
DTEND;TZID=Europe/Rome:20141109T193000
DTSTAMP:20260424T131129
CREATED:20141012T121232Z
LAST-MODIFIED:20141021T133403Z
UID:5056-1415556000-1415561400@www.usbormiese.com
SUMMARY:PALLAVOLO\, Under 16 Femminile - A Bormio: US Bormiese - Pallavolo Altavalle
DESCRIPTION:Campionato Under 16 Femminile – Girone A – 4^Giornata \nA Bormio\, Us Bormiese Bormio Terme – Pallavolo Altavalle \nDomenica 9 novembre 2014  –  ore 18.00 \n 
URL:https://www.usbormiese.com/event/pallavolo-under-16-femminile-a-bormio-us-bormiese-pallavolo-altavalle/
LOCATION:Bormio
CATEGORIES:PALLAVOLO
END:VEVENT
BEGIN:VEVENT
DTSTART;TZID=Europe/Rome:20141109T143000
DTEND;TZID=Europe/Rome:20141109T163000
DTSTAMP:20260424T131129
CREATED:20140904T222607Z
LAST-MODIFIED:20140904T222607Z
UID:4577-1415543400-1415550600@www.usbormiese.com
SUMMARY:CALCIO\, 2^ Categoria - A Valmadrera: Valmadrera-Bormiese
DESCRIPTION:Campionato 2^ Categoria – Girone W – 10^ Giornata di Andata\nA Valmadrera\, Valmadrera-Bormiese
URL:https://www.usbormiese.com/event/calcio-2-categoria-a-valmadrera-valmadrera-bormiese/
CATEGORIES:CALCIO
END:VEVENT
BEGIN:VEVENT
DTSTART;TZID=Europe/Rome:20141109T103000
DTEND;TZID=Europe/Rome:20141109T120000
DTSTAMP:20260424T131129
CREATED:20141012T121554Z
LAST-MODIFIED:20141021T133334Z
UID:5057-1415529000-1415534400@www.usbormiese.com
SUMMARY:PALLAVOLO\, Under 16 Femminile - A Tresivio: Pentacom - GS Rio Scianno
DESCRIPTION:Campionato Under 16 Femminile – Girone A – 4^Giornata \nA Tresivio\, Pentacom – Gs Rio Scianno Mutti Ortofrutticola \nDomenica 9 novembre 2014  –  ore 10.30 \n 
URL:https://www.usbormiese.com/event/pallavolo-under-16-femminile-a-tresivio-pentacom-gs-rio-scianno/
LOCATION:Tresivio
CATEGORIES:PALLAVOLO
END:VEVENT
BEGIN:VEVENT
DTSTART;TZID=Europe/Rome:20141109T103000
DTEND;TZID=Europe/Rome:20141109T103000
DTSTAMP:20260424T131129
CREATED:20140904T220755Z
LAST-MODIFIED:20140904T220802Z
UID:4565-1415529000-1415529000@www.usbormiese.com
SUMMARY:CALCIO\, Giovanissimi - A Bormio: Bormiese-Sondalo
DESCRIPTION:Campionato provinciale Giovanissimi – Fase Autunnale – 4^ Giornata di Ritorno\nA Bormio\, Bormiese-Sondalo
URL:https://www.usbormiese.com/event/calcio-giovanissimi-a-bormio-bormiese-sondalo/
CATEGORIES:CALCIO
END:VEVENT
BEGIN:VEVENT
DTSTART;VALUE=DATE:20141109
DTEND;VALUE=DATE:20141110
DTSTAMP:20260424T131129
CREATED:20140718T090513Z
LAST-MODIFIED:20140905T081626Z
UID:3796-1415491200-1415577599@www.usbormiese.com
SUMMARY:ATLETICA - A Sondrio: 3^ Half Marathon Città di Sondrio
DESCRIPTION:
URL:https://www.usbormiese.com/event/atletica-a-sondrio-3-half-marathon-citta-di-sondrio/
CATEGORIES:ATLETICA
END:VEVENT
BEGIN:VEVENT
DTSTART;TZID=Europe/Rome:20141108T173000
DTEND;TZID=Europe/Rome:20141108T193000
DTSTAMP:20260424T131129
CREATED:20140904T214257Z
LAST-MODIFIED:20140904T214257Z
UID:4553-1415467800-1415475000@www.usbormiese.com
SUMMARY:CALCIO\, Allievi - A Bormio: Bormiese-Penta 08
DESCRIPTION:Campionato provinciale Allievi – Fase Autunnale – 4^ Giornata di Ritorno\nA Bormio\, Bormiese-Penta 08
URL:https://www.usbormiese.com/event/calcio-allievi-a-bormio-bormiese-penta-08/
CATEGORIES:CALCIO
END:VEVENT
BEGIN:VEVENT
DTSTART;TZID=Europe/Rome:20141108T160000
DTEND;TZID=Europe/Rome:20141108T173000
DTSTAMP:20260424T131129
CREATED:20141012T114615Z
LAST-MODIFIED:20141021T133307Z
UID:5039-1415462400-1415467800@www.usbormiese.com
SUMMARY:PALLAVOLO\, Under 14 Femminile - A Tirano: GS CSI Tirano - US Bormiese
DESCRIPTION:Campionato Under 14 Femminile – Girone A – 3^Giornata \nA Tirano\, Gs Csi Tirano – Us Bormiese Ottica Occhi \nSabato 8 novembre 2014  –  ore 16.00 \n 
URL:https://www.usbormiese.com/event/pallavolo-under-14-femminile-a-tirano-gs-csi-tirano-us-bormiese/
LOCATION:Tirano
CATEGORIES:PALLAVOLO
END:VEVENT
BEGIN:VEVENT
DTSTART;TZID=Europe/Rome:20141108T150000
DTEND;TZID=Europe/Rome:20141108T163000
DTSTAMP:20260424T131129
CREATED:20141002T092243Z
LAST-MODIFIED:20141002T092243Z
UID:4944-1415458800-1415464200@www.usbormiese.com
SUMMARY:CALCIO\, Esordienti - A Tirano: Tiranese-Bormiese
DESCRIPTION:Campionato provinciale Esordienti – Fase autunnale\nA Tirano\, Tiranese-Bormiese
URL:https://www.usbormiese.com/event/calcio-esordienti-a-tirano-tiranese-bormiese/
CATEGORIES:CALCIO
END:VEVENT
BEGIN:VEVENT
DTSTART;TZID=Europe/Rome:20141107T210000
DTEND;TZID=Europe/Rome:20141107T223000
DTSTAMP:20260424T131129
CREATED:20141002T085002Z
LAST-MODIFIED:20141106T101805Z
UID:4925-1415394000-1415399400@www.usbormiese.com
SUMMARY:CALCIO\, Calcio a 5 - A Bormio: Bormiese-Derviese
DESCRIPTION:Campionato serie C – 6^ Giornata di Andata\nA Bormio\, Bormiese-Derviese
URL:https://www.usbormiese.com/event/calcio-calcio-a-5-a-bormio-bormiese-derviese/
CATEGORIES:CALCIO,IN EVIDENZA
END:VEVENT
BEGIN:VEVENT
DTSTART;TZID=Europe/Rome:20141107T193000
DTEND;TZID=Europe/Rome:20141107T210000
DTSTAMP:20260424T131129
CREATED:20141012T121043Z
LAST-MODIFIED:20141021T133235Z
UID:5055-1415388600-1415394000@www.usbormiese.com
SUMMARY:PALLAVOLO\, Under 16 Femminile - A Valdisotto: GS Rio Scianno - US Bormiese
DESCRIPTION:Campionato Under 16 Femminile – Girone A – 3^Giornata \nA Valdisotto\, Gs Rio Scianno Mutti Ortofrutticola – Us Bormiese Bormio Terme \nVenerdì 7 novembre 2014  –  ore 19.30 \n 
URL:https://www.usbormiese.com/event/pallavolo-under-16-femminile-a-valdisotto-gs-rio-scianno-us-bormiese/
LOCATION:Valdisotto
CATEGORIES:PALLAVOLO
END:VEVENT
BEGIN:VEVENT
DTSTART;TZID=Europe/Rome:20141107T080000
DTEND;TZID=Europe/Rome:20141109T170000
DTSTAMP:20260424T131129
CREATED:20141021T090106Z
LAST-MODIFIED:20141021T133616Z
UID:5222-1415347200-1415552400@www.usbormiese.com
SUMMARY:SHORT TRACK - A Salt Lake City (Usa)\, prima prova di Coppa del Mondo 2014/2015
DESCRIPTION:Sul ghiaccio di Salt Lake City\, dove i nostri azzurri Michele Antonioli\, Nicola Franceschina e Nicola Rodigari hanno vinto l’argento olimpico nel 2002\, fa il suo esordio la Coppa del Mondo di Short Track. \nPrima prova della Coppa del Mondo 2014/2015 \ncalendario e risultati
URL:https://www.usbormiese.com/event/short-track-a-salt-lake-city-usa-prima-prova-di-coppa-del-mondo-20142015/
CATEGORIES:IN EVIDENZA,SHORT TRACK
ATTACH;FMTTYPE=image/jpeg:https://www.usbormiese.com/wp-content/uploads/2014/10/stagione1415.jpg
END:VEVENT
BEGIN:VEVENT
DTSTART;VALUE=DATE:20141106
DTEND;VALUE=DATE:20141111
DTSTAMP:20260424T131129
CREATED:20141006T095202Z
LAST-MODIFIED:20141119T130621Z
UID:4995-1415232000-1415663999@www.usbormiese.com
SUMMARY:SHORT TRACK - Alta Valtellina Trophy 2014
DESCRIPTION:L’edizione 2014 dell’Alta Valtellina Trophy è in programma dal 6 al 9 novembre 2014 \n \nAlta Valtellina Trophy 2014\nBORMIO / ITALY\nNovember 06th – 09th\, 2014\nRISULTATI E CLASSIFICHE \nrecord 500 mt – record relay \nPhotoGallery 01 (06-11-2014)\nPhotoGallery 02 (07-11-2014) – PhotoGallery 03 (07-11-2014)\nPhotogallery 04 (08-11-2014) – Photogallery 05 (08-11-2014)\nPhotogallery 06 (09-11-2014) \n————————————————————————————– \nANNOUNCEMENT 2014 – Regolamento e programma (PDF) \nAccomodation Request Form (DOC) \nTraining ice Request Form (DOC) \nTransportation Request Form (DOC) \n************************************************************ \nALTA VALTELLINA TROPHY – ARCHIVIO/HISTORY\n22^ edizione – 17/20 ottobre 2013 –IMMAGINI \nARCHIVIO 2012 E PRECEDENTI \n[2009] – [2008] – [1998-2008] \n************************************************************
URL:https://www.usbormiese.com/event/short-track-alta-valtellina-trophy-2014-2/
CATEGORIES:SHORT TRACK
ATTACH;FMTTYPE=image/jpeg:https://www.usbormiese.com/wp-content/uploads/2014/10/AltaValtellinaTrophy-banner.jpg
END:VEVENT
BEGIN:VEVENT
DTSTART;TZID=Europe/Rome:20141102T143000
DTEND;TZID=Europe/Rome:20141102T163000
DTSTAMP:20260424T131129
CREATED:20140904T222428Z
LAST-MODIFIED:20140904T222428Z
UID:4576-1414938600-1414945800@www.usbormiese.com
SUMMARY:CALCIO\, 2^ Categoria - A Bormio: Bormiese-Albosaggia
DESCRIPTION:Campionato 2^ Categoria – Girone W – 9^ Giornata di Andata\nA Bormio\, Bormiese-Albosaggia
URL:https://www.usbormiese.com/event/calcio-2-categoria-a-bormio-bormiese-albosaggia/
CATEGORIES:CALCIO
END:VEVENT
BEGIN:VEVENT
DTSTART;TZID=Europe/Rome:20141102T143000
DTEND;TZID=Europe/Rome:20141102T160000
DTSTAMP:20260424T131129
CREATED:20141002T091025Z
LAST-MODIFIED:20141002T091025Z
UID:4936-1414938600-1414944000@www.usbormiese.com
SUMMARY:CALCIO\, Pulcini - A Grosio: Grosio-Bormiese
DESCRIPTION:Raggruppamento Alta Valtellina – Fase autunnale\nA Grosio\, Grosio-Bormiese
URL:https://www.usbormiese.com/event/calcio-pulcini-a-grosio-grosio-bormiese/
CATEGORIES:CALCIO
END:VEVENT
BEGIN:VEVENT
DTSTART;TZID=Europe/Rome:20141102T103000
DTEND;TZID=Europe/Rome:20141102T103000
DTSTAMP:20260424T131129
CREATED:20140904T220650Z
LAST-MODIFIED:20140904T220650Z
UID:4564-1414924200-1414924200@www.usbormiese.com
SUMMARY:CALCIO\, Giovanissimi - A Bormio: Bormiese-Pontese
DESCRIPTION:Campionato provinciale Giovanissimi – Fase Autunnale – 3^ Giornata di Ritorno\nA Bormio\, Bormiese-Pontese
URL:https://www.usbormiese.com/event/calcio-giovanissimi-a-bormio-bormiese-pontese/
CATEGORIES:CALCIO
END:VEVENT
BEGIN:VEVENT
DTSTART;TZID=Europe/Rome:20141102T100000
DTEND;TZID=Europe/Rome:20141102T233000
DTSTAMP:20260424T131129
CREATED:20141012T114328Z
LAST-MODIFIED:20141021T133204Z
UID:5036-1414922400-1414971000@www.usbormiese.com
SUMMARY:PALLAVOLO\, Under 14 Femminile - A Tresivio: Pentacom - US Bormiese
DESCRIPTION:Campionato Under 14 Femminile – Girone A – 2^Giornata \nA Tresivio\, Pentacom – Us Bormiese Ottica Occhi \nDomenica 2 novembre 2014  –  ore 10.00 \n 
URL:https://www.usbormiese.com/event/pallavolo-under-14-femminile-a-tresivio-pentacom-us-bormiese/
LOCATION:Tresivio
CATEGORIES:PALLAVOLO
END:VEVENT
BEGIN:VEVENT
DTSTART;VALUE=DATE:20141102
DTEND;VALUE=DATE:20141103
DTSTAMP:20260424T131129
CREATED:20140718T090427Z
LAST-MODIFIED:20140905T081631Z
UID:3795-1414886400-1414972799@www.usbormiese.com
SUMMARY:CORSA CAMPESTRE - A Lanzada: 3^ prova campionato provinciale
DESCRIPTION:
URL:https://www.usbormiese.com/event/corsa-campestre-a-lanzada-3-prova-campionato-provinciale/
CATEGORIES:ATLETICA
END:VEVENT
BEGIN:VEVENT
DTSTART;TZID=Europe/Rome:20141101T173000
DTEND;TZID=Europe/Rome:20141101T193000
DTSTAMP:20260424T131129
CREATED:20140904T214147Z
LAST-MODIFIED:20140904T214147Z
UID:4552-1414863000-1414870200@www.usbormiese.com
SUMMARY:CALCIO\, Allievi - A Bormio: Bormiese-Grosio
DESCRIPTION:Campionato provinciale Allievi – Fase Autunnale – 3^ Giornata di Ritorno\nA Bormio\, Bormiese-Grosio
URL:https://www.usbormiese.com/event/calcio-allievi-a-bormio-bormiese-grosio/
CATEGORIES:CALCIO
END:VEVENT
BEGIN:VEVENT
DTSTART;TZID=Europe/Rome:20141101T160000
DTEND;TZID=Europe/Rome:20141101T173000
DTSTAMP:20260424T131129
CREATED:20141002T092147Z
LAST-MODIFIED:20141002T092147Z
UID:4943-1414857600-1414863000@www.usbormiese.com
SUMMARY:CALCIO\, Esordienti - A Livigno: Livigno B-Bormiese
DESCRIPTION:Campionato provinciale Esordienti – Fase autunnale\nA Livigno\, Livigno B-Bormiese
URL:https://www.usbormiese.com/event/calcio-esordienti-a-livigno-livigno-b-bormiese/
CATEGORIES:CALCIO
END:VEVENT
BEGIN:VEVENT
DTSTART;TZID=Europe/Rome:20141031T210000
DTEND;TZID=Europe/Rome:20141031T223000
DTSTAMP:20260424T131129
CREATED:20141002T084844Z
LAST-MODIFIED:20141002T084844Z
UID:4924-1414789200-1414794600@www.usbormiese.com
SUMMARY:CALCIO\, Calcio a 5 - A Morbegno: MGM 2000-Bormiese
DESCRIPTION:Campionato serie C – 5^ Giornata di Andata\nA Morbegno\, MGM 2000-Bormiese
URL:https://www.usbormiese.com/event/calcio-calcio-a-5-a-morbegno-mgm-2000-bormiese/
CATEGORIES:CALCIO
END:VEVENT
BEGIN:VEVENT
DTSTART;VALUE=DATE:20141027
DTEND;VALUE=DATE:20141110
DTSTAMP:20260424T131129
CREATED:20141021T141807Z
LAST-MODIFIED:20141025T142310Z
UID:5248-1414368000-1415577599@www.usbormiese.com
SUMMARY:BOCCE - Torneo lui\, lei + il terzo
DESCRIPTION:LA BOCCIOFILA BORMIO ORGANIZZA \nda lunedì 27 ottobre 2014\nil torneo di di bocce LUI & LEI + IL TERZO\nTERNA AD INSEGUIMENTO \nTERNA AD INSEGUIMENTO PER SQUADRE COMPOSTE DA UN A CONCORRETE FEMMINILE E DUE CONCORRENTI MASCHILI con punteggio al 12 12-24 24-36\nLe iscrizioni delle squadre devono essere presentate entro LUNEDI’ 27 OTTOBRE alle ore 12\,00.\nIl sorteggio verrà effettuato sempre LUNEDI’ 27 OTTOBRE\nalle ore 15\,00 presso il bocciodromo di Bormio.\nInizio partite da MARTEDI’ 28 OTTOBRE 2014.\nQuote di iscrizione\n€ 30\,00 a squadra (n. 3 componenti)\nInfo e iscrizioni:\nUNIONE SPORTIVA BORMIESE tel. 0342/901482\nBORDONI CRISTIAN cell. 347/9476541\nCAVAZZI GIANCARLO 349/0969372\nwww.usbormiese.com\ne-mail: bocciofilabormio@gmail.com \nLA LOCANDINA
URL:https://www.usbormiese.com/event/bocce-torneo-lui-lei-il-terzo/
CATEGORIES:BOCCE
ATTACH;FMTTYPE=image/jpeg:https://www.usbormiese.com/wp-content/uploads/2014/07/bocce2014_02.jpg
END:VEVENT
BEGIN:VEVENT
DTSTART;TZID=Europe/Rome:20141026T180000
DTEND;TZID=Europe/Rome:20141026T183000
DTSTAMP:20260424T131129
CREATED:20141012T120909Z
LAST-MODIFIED:20141021T132055Z
UID:5053-1414346400-1414348200@www.usbormiese.com
SUMMARY:PALLAVOLO\, Under 16 Femminile - A Bormio: US Bormiese - GS CSI Tirano
DESCRIPTION:Campionato Under 16 Femminile – Girone A – 2^Giornata \nA Bormio\, Us Bormiese Bormio Terme – Gs Csi Tirano \nDomenica 26 ottobre 2014  –  ore 18.00 \n 
URL:https://www.usbormiese.com/event/pallavolo-under-16-femminile-a-bormio-us-bormiese-gs-csi-tirano/
LOCATION:Bormio
CATEGORIES:PALLAVOLO
END:VEVENT
BEGIN:VEVENT
DTSTART;TZID=Europe/Rome:20141026T150000
DTEND;TZID=Europe/Rome:20141026T163000
DTSTAMP:20260424T131129
CREATED:20141002T091255Z
LAST-MODIFIED:20141002T091255Z
UID:4937-1414335600-1414341000@www.usbormiese.com
SUMMARY:CALCIO\, Pulcini - A Bormio: Bormiese-Livigno
DESCRIPTION:Raggruppamento Alta Valtellina – Fase autunnale\nA Bormio\, Bormiese-Livigno
URL:https://www.usbormiese.com/event/calcio-pulcini-a-bormio-bormiese-livigno/
CATEGORIES:CALCIO
END:VEVENT
BEGIN:VEVENT
DTSTART;TZID=Europe/Rome:20141026T143000
DTEND;TZID=Europe/Rome:20141026T163000
DTSTAMP:20260424T131129
CREATED:20140904T222316Z
LAST-MODIFIED:20140904T222316Z
UID:4575-1414333800-1414341000@www.usbormiese.com
SUMMARY:CALCIO\, 2^ Categoria - A Gravedona: Alto Lario-Bormiese
DESCRIPTION:Campionato 2^ Categoria – Girone W – 8^ Giornata di Andata\nA Gravedona\, Alto Lario Calcio-Bormiese
URL:https://www.usbormiese.com/event/calcio-2-categoria-a-gravedona-alto-lario-bormiese/
CATEGORIES:CALCIO
END:VEVENT
BEGIN:VEVENT
DTSTART;TZID=Europe/Rome:20141026T103000
DTEND;TZID=Europe/Rome:20141026T103000
DTSTAMP:20260424T131129
CREATED:20140904T220539Z
LAST-MODIFIED:20140904T220551Z
UID:4563-1414319400-1414319400@www.usbormiese.com
SUMMARY:CALCIO\, Giovanissimi - A Tirano: Tiranese-Bormiese
DESCRIPTION:Campionato provinciale Giovanissimi – Fase Autunnale – 2^ Giornata di Ritorno\nA Tirano\, Tiranese-Bormiese
URL:https://www.usbormiese.com/event/calcio-giovanissimi-a-tirano-tiranese-bormiese/
CATEGORIES:CALCIO
END:VEVENT
BEGIN:VEVENT
DTSTART;VALUE=DATE:20141026
DTEND;VALUE=DATE:20141027
DTSTAMP:20260424T131129
CREATED:20140718T090345Z
LAST-MODIFIED:20140905T081640Z
UID:3794-1414281600-1414367999@www.usbormiese.com
SUMMARY:CORSA IN MONTAGNA - A Morbegno: Trofeo Vanoni 2014
DESCRIPTION:
URL:https://www.usbormiese.com/event/corsa-in-montagna-a-morbegno-trofeo-vanoni-2014/
CATEGORIES:ATLETICA
END:VEVENT
BEGIN:VEVENT
DTSTART;TZID=Europe/Rome:20141025T180000
DTEND;TZID=Europe/Rome:20141025T200000
DTSTAMP:20260424T131129
CREATED:20140904T214030Z
LAST-MODIFIED:20140904T214030Z
UID:4551-1414260000-1414267200@www.usbormiese.com
SUMMARY:CALCIO\, Allievi - A Albosaggia: Albosaggia-Bormiese
DESCRIPTION:Campionato provinciale Allievi – Fase Autunnale – 2^ Giornata di Ritorno\nA Albosaggia\, Albosaggia-Bormiese
URL:https://www.usbormiese.com/event/calcio-allievi-a-albosaggia-albosaggia-bormiese/
CATEGORIES:CALCIO
END:VEVENT
END:VCALENDAR