BEGIN:VCALENDAR
VERSION:2.0
PRODID:-//Unione Sportiva Bormiese - ECPv6.8.2.1//NONSGML v1.0//EN
CALSCALE:GREGORIAN
METHOD:PUBLISH
X-WR-CALNAME:Unione Sportiva Bormiese
X-ORIGINAL-URL:https://www.usbormiese.com
X-WR-CALDESC:Eventi per Unione Sportiva Bormiese
REFRESH-INTERVAL;VALUE=DURATION:PT1H
X-Robots-Tag:noindex
X-PUBLISHED-TTL:PT1H
BEGIN:VTIMEZONE
TZID:Europe/Rome
BEGIN:DAYLIGHT
TZOFFSETFROM:+0100
TZOFFSETTO:+0200
TZNAME:CEST
DTSTART:20140330T010000
END:DAYLIGHT
BEGIN:STANDARD
TZOFFSETFROM:+0200
TZOFFSETTO:+0100
TZNAME:CET
DTSTART:20141026T010000
END:STANDARD
END:VTIMEZONE
BEGIN:VEVENT
DTSTART;TZID=Europe/Rome:20141019T103000
DTEND;TZID=Europe/Rome:20141019T103000
DTSTAMP:20260424T193805
CREATED:20140904T220414Z
LAST-MODIFIED:20140904T220414Z
UID:4562-1413714600-1413714600@www.usbormiese.com
SUMMARY:CALCIO\, Giovanissimi - A Bormio: Bormiese-Sondrio
DESCRIPTION:Campionato provinciale Giovanissimi – Fase Autunnale – 1^ Giornata di Ritorno\nA Bormio\, Bormiese-Sondrio
URL:https://www.usbormiese.com/event/calcio-giovanissimi-a-bormio-bormiese-sondrio/
CATEGORIES:CALCIO
END:VEVENT
BEGIN:VEVENT
DTSTART;TZID=Europe/Rome:20141019T103000
DTEND;TZID=Europe/Rome:20141019T103000
DTSTAMP:20260424T193805
CREATED:20140904T213854Z
LAST-MODIFIED:20140904T213913Z
UID:4550-1413714600-1413714600@www.usbormiese.com
SUMMARY:CALCIO\, Allievi - A Ponte: Pontese-Bormiese
DESCRIPTION:Campionato provinciale Allievi – Fase Autunnale – 1^ Giornata di Ritorno\nA Ponte Valtellina\, Pontese-Bormiese
URL:https://www.usbormiese.com/event/calcio-allievi-a-ponte-pontese-bormiese/
CATEGORIES:CALCIO
END:VEVENT
BEGIN:VEVENT
DTSTART;VALUE=DATE:20141019
DTEND;VALUE=DATE:20141020
DTSTAMP:20260424T193805
CREATED:20140718T090304Z
LAST-MODIFIED:20140929T092321Z
UID:3793-1413676800-1413763199@www.usbormiese.com
SUMMARY:CORSA IN MONTAGNA - A Grosio: Giro dei 5 campanili\, 10^ edizione
DESCRIPTION:
URL:https://www.usbormiese.com/event/corsa-in-montagna-a-grosio-giro-dei-5-campanili-10-edizione/
CATEGORIES:ATLETICA,IN EVIDENZA
ATTACH;FMTTYPE=image/jpeg:https://www.usbormiese.com/wp-content/uploads/2014/07/salita.jpg
END:VEVENT
BEGIN:VEVENT
DTSTART;TZID=Europe/Rome:20141018T153000
DTEND;TZID=Europe/Rome:20141018T170000
DTSTAMP:20260424T193805
CREATED:20141002T091823Z
LAST-MODIFIED:20141002T091823Z
UID:4940-1413646200-1413651600@www.usbormiese.com
SUMMARY:CALCIO\, Esordienti - A Bormio: Bormiese-Grosio
DESCRIPTION:Campionato provinciale Esordienti – Fase autunnale\nA Bormio\, Bormiese-Grosio
URL:https://www.usbormiese.com/event/calcio-esordienti-a-bormio-bormiese-grosio/
CATEGORIES:CALCIO
END:VEVENT
BEGIN:VEVENT
DTSTART;VALUE=DATE:20141018
DTEND;VALUE=DATE:20141020
DTSTAMP:20260424T193805
CREATED:20141021T084902Z
LAST-MODIFIED:20141021T084902Z
UID:5218-1413590400-1413763199@www.usbormiese.com
SUMMARY:Short track - A Claut\, prima prova della Coppa Italia 2014/2015
DESCRIPTION:Sabato 18 e domenica 19 ottobre 2014 \n  \nPrima prova della Coppa Italia di Short Track\na Claut\nper le categorie Sen./Jun.A-B-C-D-E-F \ncalendario e risultati
URL:https://www.usbormiese.com/event/short-track-a-claut-prima-prova-della-coppa-italia-20142015/
CATEGORIES:IN EVIDENZA,SHORT TRACK
ATTACH;FMTTYPE=image/jpeg:https://www.usbormiese.com/wp-content/uploads/2014/10/stagione1415.jpg
END:VEVENT
BEGIN:VEVENT
DTSTART;VALUE=DATE:20141018
DTEND;VALUE=DATE:20141019
DTSTAMP:20260424T193805
CREATED:20140718T090124Z
LAST-MODIFIED:20140905T081812Z
UID:3792-1413590400-1413676799@www.usbormiese.com
SUMMARY:ATLETICA - A Lanzada: Trofeo del Magnan 2014
DESCRIPTION:
URL:https://www.usbormiese.com/event/atletica-a-lanzada-trofeo-del-magnan-2014/
CATEGORIES:ATLETICA
END:VEVENT
BEGIN:VEVENT
DTSTART;TZID=Europe/Rome:20141012T153000
DTEND;TZID=Europe/Rome:20141012T173000
DTSTAMP:20260424T193805
CREATED:20140904T222032Z
LAST-MODIFIED:20140904T222032Z
UID:4573-1413127800-1413135000@www.usbormiese.com
SUMMARY:CALCIO\, 2^ Categoria - A Molteno: Molteno-Bormiese
DESCRIPTION:Campionato 2^ Categoria – Girone W – 6^ Giornata di Andata\nA Molteno\, Molteno Calcio-Bormiese
URL:https://www.usbormiese.com/event/calcio-2-categoria-a-molteno-molteno-bormiese/
CATEGORIES:CALCIO
END:VEVENT
BEGIN:VEVENT
DTSTART;TZID=Europe/Rome:20141012T103000
DTEND;TZID=Europe/Rome:20141012T103000
DTSTAMP:20260424T193805
CREATED:20140904T215832Z
LAST-MODIFIED:20140904T215832Z
UID:4559-1413109800-1413109800@www.usbormiese.com
SUMMARY:CALCIO\, Giovanissimi - A Bormio: Bormiese-Livigno
DESCRIPTION:Campionato provinciale Giovanissimi – Fase Autunnale – 5^ Giornata di Andata\nA Bormio\, Bormiese- Livigno
URL:https://www.usbormiese.com/event/calcio-giovanissimi-a-bormio-bormiese-livigno/
CATEGORIES:CALCIO
END:VEVENT
BEGIN:VEVENT
DTSTART;VALUE=DATE:20141012
DTEND;VALUE=DATE:20141013
DTSTAMP:20260424T193805
CREATED:20141003T150217Z
LAST-MODIFIED:20141003T150251Z
UID:4979-1413072000-1413158399@www.usbormiese.com
SUMMARY:Ciclismo - A Buglio il Monte la "Gara dei campioni 2014"
DESCRIPTION:La I^ edizione della GARA DEI CAMPIONI che si svolgerà il 12 Ottobre 2014 a Buglio in Monte. \nL’obiettivo è quello di creare una festa di “fine stagione” essendo l’ultima gara di ciclismo su strada amatoriale in Provincia di Sondrio \ninformazioni/locandina
URL:https://www.usbormiese.com/event/ciclismo-a-buglio-il-monte-la-gara-dei-campioni-2014/
CATEGORIES:CICLISMO
END:VEVENT
BEGIN:VEVENT
DTSTART;VALUE=DATE:20141012
DTEND;VALUE=DATE:20141013
DTSTAMP:20260424T193805
CREATED:20140718T090048Z
LAST-MODIFIED:20141006T162313Z
UID:3791-1413072000-1413158399@www.usbormiese.com
SUMMARY:CORSA IN MONTAGNA - A Talamona: Trofeo Stringiotti\, provinciale
DESCRIPTION:Domenica 12 ottobre 2014 a Talamona (SO)\n5° TROFEO MACELLERIA STRIGIOTTI\nGara provinciale di corsa in montagna\nCampionato provinciale giovanile di corsa in montagna\nRitrovo ore 08:00\nInizio gara ore 09:30\nOrganizzazione: GP TALAMONA\nPer informazioni: Cell.: 340/5006117\, mail: gptalamona@libero.it\, Sito: www.gptalamona.it
URL:https://www.usbormiese.com/event/corsa-in-montagna-a-talamona-trofeo-stringiotti-provinciale/
CATEGORIES:ATLETICA
END:VEVENT
BEGIN:VEVENT
DTSTART;VALUE=DATE:20141012
DTEND;VALUE=DATE:20141013
DTSTAMP:20260424T193805
CREATED:20140718T090004Z
LAST-MODIFIED:20140905T081820Z
UID:3790-1413072000-1413158399@www.usbormiese.com
SUMMARY:ATLETICA - A Olgiate Olona: Trofeo delle Provincie prove multiple
DESCRIPTION:
URL:https://www.usbormiese.com/event/atletica-a-olgiate-olona-trofeo-delle-provincie-prove-multiple/
CATEGORIES:ATLETICA
END:VEVENT
BEGIN:VEVENT
DTSTART;TZID=Europe/Rome:20141011T173000
DTEND;TZID=Europe/Rome:20141011T193000
DTSTAMP:20260424T193805
CREATED:20140904T213708Z
LAST-MODIFIED:20140904T213708Z
UID:4549-1413048600-1413055800@www.usbormiese.com
SUMMARY:CALCIO\, Allievi - A Bormio: Bormiese-Valmalenco
DESCRIPTION:Campionato provinciale Allievi – Fase Autunnale – 5^ Giornata di Andata\nA Bormio\, Bormiese-Valmalenco
URL:https://www.usbormiese.com/event/calcio-allievi-a-bormio-bormiese-valmalenco/
CATEGORIES:CALCIO
END:VEVENT
BEGIN:VEVENT
DTSTART;TZID=Europe/Rome:20141011T160000
DTEND;TZID=Europe/Rome:20141011T173000
DTSTAMP:20260424T193805
CREATED:20141002T091730Z
LAST-MODIFIED:20141002T091730Z
UID:4939-1413043200-1413048600@www.usbormiese.com
SUMMARY:CALCIO\, Esordienti - A Sondalo: Sondalo-Bormiese
DESCRIPTION:Campionato provinciale Esordienti – Fase autunnale\nA Sondaloo\, Sondalo-Bormiese
URL:https://www.usbormiese.com/event/calcio-esordienti-a-sondalo-sondalo-bormiese/
CATEGORIES:CALCIO
END:VEVENT
BEGIN:VEVENT
DTSTART;TZID=Europe/Rome:20141010T210000
DTEND;TZID=Europe/Rome:20141010T223000
DTSTAMP:20260424T193805
CREATED:20141002T084555Z
LAST-MODIFIED:20141002T084555Z
UID:4922-1412974800-1412980200@www.usbormiese.com
SUMMARY:CALCIO\, Calcio a 5 - A Bormio: Bormiese-Cometa S.D.
DESCRIPTION:Campionato serie C – 3^ Giornata di Andata\nA Bormio\, Bormiese-Cometa S.D.
URL:https://www.usbormiese.com/event/calcio-calcio-a-5-a-bormio-bormiese-cometa-s-d/
CATEGORIES:CALCIO
END:VEVENT
BEGIN:VEVENT
DTSTART;TZID=Europe/Rome:20141009T203000
DTEND;TZID=Europe/Rome:20141009T223000
DTSTAMP:20260424T193805
CREATED:20140904T223249Z
LAST-MODIFIED:20140904T223249Z
UID:4582-1412886600-1412893800@www.usbormiese.com
SUMMARY:CALCIO\, 2^ Categoria - A Talamona: Talamonese-Bormiese
DESCRIPTION:Campionato 2^ Categoria – Girone W – 15^ Giornata di Andata\nA Talamona\, Talamonese-Bormiese
URL:https://www.usbormiese.com/event/calcio-2-categoria-a-talamona-talamonese-bormiese/
CATEGORIES:CALCIO
END:VEVENT
BEGIN:VEVENT
DTSTART;TZID=Europe/Rome:20141007T180000
DTEND;TZID=Europe/Rome:20141007T193000
DTSTAMP:20260424T193805
CREATED:20140904T220204Z
LAST-MODIFIED:20140904T220204Z
UID:4561-1412704800-1412710200@www.usbormiese.com
SUMMARY:CALCIO\, Giovanissimi - A Bormio: Bormiese-Olympic Retica
DESCRIPTION:Campionato provinciale Giovanissimi – Fase Autunnale – 7^ Giornata di Andata\nA Bormio\, Bormiese-Olympic Retica
URL:https://www.usbormiese.com/event/calcio-giovanissimi-a-bormio-bormiese-olympic-retica/
CATEGORIES:CALCIO
END:VEVENT
BEGIN:VEVENT
DTSTART;TZID=Europe/Rome:20141006T173000
DTEND;TZID=Europe/Rome:20141006T190000
DTSTAMP:20260424T193805
CREATED:20141002T090458Z
LAST-MODIFIED:20141002T090602Z
UID:4932-1412616600-1412622000@www.usbormiese.com
SUMMARY:CALCIO\, Pulcini - A Bormio: Bormiese-Pontese
DESCRIPTION:Raggruppamento Alta Valtellina – Fase autunnale\nA Bormio\, Bormiese-Pontese
URL:https://www.usbormiese.com/event/calcio-pulcini-a-bormio-bormiese-pontese/
CATEGORIES:CALCIO
END:VEVENT
BEGIN:VEVENT
DTSTART;TZID=Europe/Rome:20141005T153000
DTEND;TZID=Europe/Rome:20141005T173000
DTSTAMP:20260424T193805
CREATED:20140904T221853Z
LAST-MODIFIED:20140929T092414Z
UID:4572-1412523000-1412530200@www.usbormiese.com
SUMMARY:CALCIO\, 2^ Categoria - A Bormio: Bormiese-Olimpiagrenta
DESCRIPTION:Campionato 2^ Categoria – Girone W – 5^ Giornata di Andata\nA Bormio\, Bormiese-Olimpiagrenta
URL:https://www.usbormiese.com/event/calcio-2-categoria-a-bormio-bormiese-olimpiagrenta/
CATEGORIES:CALCIO,IN EVIDENZA
ATTACH;FMTTYPE=image/jpeg:https://www.usbormiese.com/wp-content/uploads/2014/07/bormiese-calcio-logo.jpg
END:VEVENT
BEGIN:VEVENT
DTSTART;TZID=Europe/Rome:20141005T100000
DTEND;TZID=Europe/Rome:20141005T113000
DTSTAMP:20260424T193805
CREATED:20140904T215718Z
LAST-MODIFIED:20140904T221300Z
UID:4558-1412503200-1412508600@www.usbormiese.com
SUMMARY:CALCIO\, Giovanissimi - A Sondalo: Sondalo-Bormiese
DESCRIPTION:Campionato provinciale Giovanissimi – Fase Autunnale – 4^ Giornata di Andata\nA Sondalo\, Sondalo-Bormiese
URL:https://www.usbormiese.com/event/calcio-giovanissimi-a-sondalo-sondalo-bormiese/
CATEGORIES:CALCIO
END:VEVENT
BEGIN:VEVENT
DTSTART;VALUE=DATE:20141005
DTEND;VALUE=DATE:20141006
DTSTAMP:20260424T193805
CREATED:20140718T085723Z
LAST-MODIFIED:20140905T081842Z
UID:3789-1412467200-1412553599@www.usbormiese.com
SUMMARY:CICLISMO - A Buglio in Monte: prova dei campioni
DESCRIPTION:
URL:https://www.usbormiese.com/event/ciclismo-a-buglio-in-monte-prova-dei-campioni/
CATEGORIES:CICLISMO
END:VEVENT
BEGIN:VEVENT
DTSTART;VALUE=DATE:20141005
DTEND;VALUE=DATE:20141006
DTSTAMP:20260424T193805
CREATED:20140718T085651Z
LAST-MODIFIED:20141003T160012Z
UID:3788-1412467200-1412553599@www.usbormiese.com
SUMMARY:ATLETICA - A Chiuro: Trofeo delle Provincie su pista
DESCRIPTION:TROFEO DELLE PROVINCE\nGara regionale di atletica leggera su pista per rappresentative provinciali\nCATEGORIE: RAGAZZI/E\nRitrovo ore 09:30\nInizio gara ore 10:30\nOrganizzazione: GS CHIURO e POLISPORTIVA PENTACOM\nPer informazioni: 338/3611126 (Raffaella Riva)\, 338/8479897 (Mauro Piccinali)\, piccinali.mauro@creval.it\, info@fidalsondrio.com
URL:https://www.usbormiese.com/event/atletica-a-chiuro-trofeo-delle-provincie-su-pista/
CATEGORIES:ATLETICA
END:VEVENT
BEGIN:VEVENT
DTSTART;TZID=Europe/Rome:20141004T173000
DTEND;TZID=Europe/Rome:20141004T193000
DTSTAMP:20260424T193805
CREATED:20140904T213507Z
LAST-MODIFIED:20140904T213541Z
UID:4548-1412443800-1412451000@www.usbormiese.com
SUMMARY:CALCIO\, Allievi - A Chiuro: Penta 08-Bormiese
DESCRIPTION:Campionato provinciale Allievi – Fase Autunnale – 4^ Giornata di Andata\nA Chiuro\, Penta 08-Bormiese
URL:https://www.usbormiese.com/event/calcio-allievi-a-chiuro-penta-08-bormiese/
CATEGORIES:CALCIO
END:VEVENT
BEGIN:VEVENT
DTSTART;TZID=Europe/Rome:20141004T153000
DTEND;TZID=Europe/Rome:20141004T170000
DTSTAMP:20260424T193805
CREATED:20141002T091624Z
LAST-MODIFIED:20141002T091624Z
UID:4938-1412436600-1412442000@www.usbormiese.com
SUMMARY:CALCIO\, Esordienti - A Bormio: Bormiese-Tiranese
DESCRIPTION:Campionato provinciale Esordienti – Fase autunnale\nA Bormio\, Bormiese-Tiranese
URL:https://www.usbormiese.com/event/calcio-esordienti-a-bormio-bormiese-tiranese/
CATEGORIES:CALCIO
END:VEVENT
BEGIN:VEVENT
DTSTART;VALUE=DATE:20141004
DTEND;VALUE=DATE:20141005
DTSTAMP:20260424T193805
CREATED:20140718T085618Z
LAST-MODIFIED:20141002T163308Z
UID:3787-1412380800-1412467199@www.usbormiese.com
SUMMARY:ATLETICA - A Sondalo: gare in pista esordienti
DESCRIPTION:Sabato\, 4 ottobre 15:30 Gare in pista per esordienti – SONDALO Quando sab\, 4 ottobre\, 15:30 – 18:30 Dove Sondalo\, SO\, Italia (mappa) Descrizione GARE IN PISTA PER ESORDIENTI Pista Promozionale Provinciale SONDALO Categorie: Esordienti Ritrovo ore 15.30 Conferma e chiusura iscrizioni 16.00\, Inizio gare ore 16.30. Programma Gare: Es B/C M/F: percorso-vortex Es A M/F: 50-lungo-vortex
URL:https://www.usbormiese.com/event/atletica-a-sondalo-gare-in-pista-esordienti/
CATEGORIES:ATLETICA
END:VEVENT
BEGIN:VEVENT
DTSTART;TZID=Europe/Rome:20141003T220000
DTEND;TZID=Europe/Rome:20141003T233000
DTSTAMP:20260424T193805
CREATED:20141002T084344Z
LAST-MODIFIED:20141002T084344Z
UID:4921-1412373600-1412379000@www.usbormiese.com
SUMMARY:CALCIO\, Calcio a 5 - A Lissone: REAL S.BIAGIO-BORMIESE
DESCRIPTION:Campionato serie C – 2^ Giornata di Andata\nA Lissone\, Real S.Biagio-Bormiese
URL:https://www.usbormiese.com/event/calcio-calcio-a-5-a-lissone-real-s-biagio-bormiese/
CATEGORIES:CALCIO
END:VEVENT
BEGIN:VEVENT
DTSTART;VALUE=DATE:20140929
DTEND;VALUE=DATE:20141001
DTSTAMP:20260424T193805
CREATED:20140718T085543Z
LAST-MODIFIED:20140919T112229Z
UID:3786-1411948800-1412121599@www.usbormiese.com
SUMMARY:CORSA IN MONTAGNA - A Chiavenna: km verticale Chiavenna/Lagunch
DESCRIPTION:Gara internazionale di corsa in montagna – Chiavenna – Lagùnc\, edizione 2014 \nIl Kilometro Verticale è una specialità della corsa in montagna\, con tracciato di sola salita percorrendo un dislivello di mille metri.\nLa lunghezza del percorso varia in funzione della strada che si percorre. Non sono ammesse opere artificiali per abbreviare il tragitto. Il KILOMETRO VERTICALE CHIAVENNA-LAGÙNC percorre esclusivamente mulattiere e sentieri di montagna abitualmente frequentate da qualsiasi persona\, senza pericoli di alcun genere. Il dislivello dei mille metri è stato certificato dallo Studio Tecnico Maraffio di Chiavenna.\nLa partenza è situata a quota 352 slm e l’arrivo a 1352 slm\, rispettivamente in loc. Loreto in Comune di Chiavenna e loc. Lagùnc in Comune di San Giacomo Filippo. Il percorso ha uno sviluppo di metri 3.298.\nProgramma 2014\nSabato 29 settembre\n– ore 13.00: apertura manifestazione Piazza Bertacchi-Chiavenna;\n– ore 15.00: partenza da Chiavenna Piazza Bertacchi 5° edizione camminata “Una corsa con i campioni …”;\n– ore 15.15: riunione tecnica e sorteggio;\n– ore 17.00: premiazioni camminata;\n– ore 17.30: consegna pettorali e ritiro pacco gara. \nDomenica 28 settembre\n– ore 7.00: ritrovo Chiavenna in Piazza Bertacchi ritiro pacco gara e consegna pettorali;\n– ore 8.45: termine consegna indumenti. Termine consegna pettorali;\n– ore 9.15: partenza 29° Trofeo Amici Madonna della Neve Lagùnc\nXV Kilometro Verticale Gara Internazionale di Corsa in Montagna Chiavenna-Lagùnc\n– ore 12.00: pranzo Crotto al Prato;\n– ore 15.30: premiazioni a Chiavenna P.zza Bertacchi.
URL:https://www.usbormiese.com/event/corsa-in-montagna-a-chiavenna-km-verticale-chiavennalagunch/
CATEGORIES:ATLETICA
END:VEVENT
BEGIN:VEVENT
DTSTART;TZID=Europe/Rome:20140928T153000
DTEND;TZID=Europe/Rome:20140928T173000
DTSTAMP:20260424T193805
CREATED:20140904T221732Z
LAST-MODIFIED:20140904T221732Z
UID:4571-1411918200-1411925400@www.usbormiese.com
SUMMARY:CALCIO\, 2^ Categoria - A Piantedo: Piantedo-Bormiese
DESCRIPTION:Campionato 2^ Categoria – Girone W – 4^ Giornata di Andata\nA Piantedo\, Piantedo-Bormiese
URL:https://www.usbormiese.com/event/calcio-2-categoria-a-piantedo-piantedo-bormiese/
CATEGORIES:CALCIO
END:VEVENT
BEGIN:VEVENT
DTSTART;VALUE=DATE:20140928
DTEND;VALUE=DATE:20140929
DTSTAMP:20260424T193805
CREATED:20140718T085505Z
LAST-MODIFIED:20140905T081925Z
UID:3785-1411862400-1411948799@www.usbormiese.com
SUMMARY:CICLISMO - A Teglio: Trofeo Alpe Teglio\, 6^ prova Tr Scalatore
DESCRIPTION:
URL:https://www.usbormiese.com/event/ciclismo-a-teglio-trofeo-alpe-teglio-6-prova-tr-scalatore/
CATEGORIES:CICLISMO
END:VEVENT
BEGIN:VEVENT
DTSTART;VALUE=DATE:20140928
DTEND;VALUE=DATE:20140929
DTSTAMP:20260424T193805
CREATED:20140718T085421Z
LAST-MODIFIED:20140922T062322Z
UID:3784-1411862400-1411948799@www.usbormiese.com
SUMMARY:ATLETICA - A Piateda: Sentiero Valtellina. Trittico Valtellina 3^ prova
DESCRIPTION:Il 2002 Marathon Club ASD organizza la 12^ edizione del Trofeo Sentiero Valtellina\, prova regionale e campionato provinciale su strada di Mezza Maratona. \n  \nAffiancata alla gara FIDAL ci saranno molte alte iniziative\, raccolte sotto il motto “Adda\, fiume da Correre”\, volte ad avvicinare al mondo della corsa anche i bambini\, le famiglie e tutti i non agonisti.\nPercorsi diversi\, ma tutti con partenza ed arrivo nella stessa area. \nSABATO 27 Settembre 2014 – SONDRIO \n\nOre 14.00 alle ore 18.00 ritiro pettorali (presentare il modulo di iscrizione) c/o Palazzo Martinengo\, sito nei giardinetti vicino al ponte di Piazza Garibaldi\n\nDOMENICA 28 Settembre – PIATEDA \n\nOre 07.30 ritrovo presso il Centro Polifunzionale di Piateda e ultime consegne pettorali (entro le 08.30).\nOre 09.30 partenza mezza maratona FIDAL (21\,097 Km)\nOre 09.31 partenza mezza maratona non agonistica (21\,097 Km)\nOre 09.40 partenza gara 10 Km\nOre 09.41 partenza camminata (5 Km circa)\n\nPossibilità di pranzare presso “La luna nello scrigno” al prezzo convenzionato di € 10\,00.\nLa manifestazione si terrà con qualsiasi condizione meteo.
URL:https://www.usbormiese.com/event/atletica-a-piateda-sentiero-valtellina-trittico-valtellina-3-prova/
CATEGORIES:ATLETICA,IN EVIDENZA
ATTACH;FMTTYPE=image/png:https://www.usbormiese.com/wp-content/uploads/2014/07/sentiero2014.png
END:VEVENT
BEGIN:VEVENT
DTSTART;TZID=Europe/Rome:20140927T173000
DTEND;TZID=Europe/Rome:20140927T193000
DTSTAMP:20260424T193805
CREATED:20140904T213341Z
LAST-MODIFIED:20140904T213341Z
UID:4547-1411839000-1411846200@www.usbormiese.com
SUMMARY:CALCIO\, Allievi - A Grosio: Grosio-Bormiese
DESCRIPTION:Campionato provinciale Allievi – Fase Autunnale – 3^ Giornata di Andata\nA Grosio\, Grosio-Bormiese
URL:https://www.usbormiese.com/event/calcio-allievi-a-grosio-grosio-bormiese/
CATEGORIES:CALCIO
END:VEVENT
END:VCALENDAR