BEGIN:VCALENDAR
VERSION:2.0
PRODID:-//Unione Sportiva Bormiese - ECPv6.8.2.1//NONSGML v1.0//EN
CALSCALE:GREGORIAN
METHOD:PUBLISH
X-WR-CALNAME:Unione Sportiva Bormiese
X-ORIGINAL-URL:https://www.usbormiese.com
X-WR-CALDESC:Eventi per Unione Sportiva Bormiese
REFRESH-INTERVAL;VALUE=DURATION:PT1H
X-Robots-Tag:noindex
X-PUBLISHED-TTL:PT1H
BEGIN:VTIMEZONE
TZID:Europe/Rome
BEGIN:DAYLIGHT
TZOFFSETFROM:+0100
TZOFFSETTO:+0200
TZNAME:CEST
DTSTART:20140330T010000
END:DAYLIGHT
BEGIN:STANDARD
TZOFFSETFROM:+0200
TZOFFSETTO:+0100
TZNAME:CET
DTSTART:20141026T010000
END:STANDARD
END:VTIMEZONE
BEGIN:VEVENT
DTSTART;TZID=Europe/Rome:20140927T170000
DTEND;TZID=Europe/Rome:20140927T183000
DTSTAMP:20260424T235854
CREATED:20140904T215256Z
LAST-MODIFIED:20140904T215256Z
UID:4557-1411837200-1411842600@www.usbormiese.com
SUMMARY:CALCIO\, Giovanissimi - A Ponte: Pontese-Bormiese
DESCRIPTION:Campionato provinciale Giovanissimi – Fase Autunnale – 3^ Giornata di Andata\nA Ponte Valtellina\, Pontese-Bormiese
URL:https://www.usbormiese.com/event/calcio-giovanissimi-a-ponte-pontese-bormiese/
CATEGORIES:CALCIO
END:VEVENT
BEGIN:VEVENT
DTSTART;VALUE=DATE:20140927
DTEND;VALUE=DATE:20141109
DTSTAMP:20260424T235854
CREATED:20140922T062907Z
LAST-MODIFIED:20141003T150417Z
UID:4792-1411776000-1415491199@www.usbormiese.com
SUMMARY:Bormiadi 2014\, 29^ edizione
DESCRIPTION:Iniziata il 21 settembre proseguirà sino all’8 novembre 2014   la 29^ edizione delle Bormiadi\, la spettacolare oktoberfest sportiva dell’Alta Valtellina che coinvolge oltre 500 persone provenienti da Grosio fino a Livigno schierate in 2 squadre\, impegnate in una ventina di specialità proposte su svariati campo\, palestre e paesi sino alla fine di ottobre 2014. \nLE BORMIADI 2014 SONO ON LINE SUL SITO \nwww.bormiadi.com
URL:https://www.usbormiese.com/event/bormiadi-2014-29-edizione/
CATEGORIES:IN EVIDENZA,MANIFESTAZIONI
ATTACH;FMTTYPE=image/jpeg:https://www.usbormiese.com/wp-content/uploads/2014/09/bormiadi2014.jpg
END:VEVENT
BEGIN:VEVENT
DTSTART;TZID=Europe/Rome:20140925T203000
DTEND;TZID=Europe/Rome:20140925T223000
DTSTAMP:20260424T235854
CREATED:20140904T223129Z
LAST-MODIFIED:20140921T150757Z
UID:4581-1411677000-1411684200@www.usbormiese.com
SUMMARY:CALCIO\, 2^ Categoria - A Bormio: Bormiese-Tiranese
DESCRIPTION:Campionato 2^ Categoria – Girone W – 14^ Giornata di Andata\nA Bormio\, Bormiese-Tiranese
URL:https://www.usbormiese.com/event/calcio-2-categoria-a-bormio-bormiese-tiranese/
CATEGORIES:CALCIO,IN EVIDENZA
ATTACH;FMTTYPE=image/jpeg:https://www.usbormiese.com/wp-content/uploads/2014/07/pallone-calcio-1.jpg
END:VEVENT
BEGIN:VEVENT
DTSTART;TZID=Europe/Rome:20140923T180000
DTEND;TZID=Europe/Rome:20140923T193000
DTSTAMP:20260424T235854
CREATED:20140904T220024Z
LAST-MODIFIED:20140904T220024Z
UID:4560-1411495200-1411500600@www.usbormiese.com
SUMMARY:CALCIO\, Giovanissimi - A Grosio: Grosio-Bormiese
DESCRIPTION:Campionato provinciale Giovanissimi – Fase Autunnale – 6^ Giornata di Andata\nA Grosio\, Grosio-Bormiese
URL:https://www.usbormiese.com/event/calcio-giovanissimi-a-grosio-grosio-bormiese/
CATEGORIES:CALCIO
END:VEVENT
BEGIN:VEVENT
DTSTART;TZID=Europe/Rome:20140921T153000
DTEND;TZID=Europe/Rome:20140921T173000
DTSTAMP:20260424T235854
CREATED:20140904T221453Z
LAST-MODIFIED:20140915T064004Z
UID:4569-1411313400-1411320600@www.usbormiese.com
SUMMARY:CALCIO\, 2^ Categoria - A Bormio: Bormiese-Grosio
DESCRIPTION:Campionato 2^ Categoria – Girone W – 3^ Giornata di Andata\nA Bormio\, Bormiese-Grosio
URL:https://www.usbormiese.com/event/calcio-2-categoria-a-bormio-bormiese-grosio/
CATEGORIES:CALCIO,IN EVIDENZA
ATTACH;FMTTYPE=image/jpeg:https://www.usbormiese.com/wp-content/uploads/2014/07/bormiese-calcio-logo.jpg
END:VEVENT
BEGIN:VEVENT
DTSTART;TZID=Europe/Rome:20140921T103000
DTEND;TZID=Europe/Rome:20140921T103000
DTSTAMP:20260424T235854
CREATED:20140904T214949Z
LAST-MODIFIED:20140904T215104Z
UID:4556-1411295400-1411295400@www.usbormiese.com
SUMMARY:CALCIO\, Giovanissimi - A Bormio: Bormiese-Tiranese
DESCRIPTION:Campionato provinciale Giovanissimi – Fase Autunnale – 2^ Giornata di Andata\nA Bormio\, Bormiese-Tiranese
URL:https://www.usbormiese.com/event/calcio-giovanissimi-a-bormio-bormiese-tiranese/
CATEGORIES:CALCIO
END:VEVENT
BEGIN:VEVENT
DTSTART;VALUE=DATE:20140921
DTEND;VALUE=DATE:20140922
DTSTAMP:20260424T235854
CREATED:20140921T150324Z
LAST-MODIFIED:20140921T150504Z
UID:4782-1411257600-1411343999@www.usbormiese.com
SUMMARY:Bormiadi 2014: serata inaugurale
DESCRIPTION:Serata inaugurale della 29^ edizione delle Bormiadi
URL:https://www.usbormiese.com/event/bormiadi-2014-serata-inaugurale/
CATEGORIES:IN EVIDENZA,MANIFESTAZIONI
ATTACH;FMTTYPE=image/jpeg:https://www.usbormiese.com/wp-content/uploads/2014/09/bormiadi2014.jpg
END:VEVENT
BEGIN:VEVENT
DTSTART;VALUE=DATE:20140921
DTEND;VALUE=DATE:20140922
DTSTAMP:20260424T235854
CREATED:20140905T095708Z
LAST-MODIFIED:20140905T095708Z
UID:4592-1411257600-1411343999@www.usbormiese.com
SUMMARY:Manifestazioni: a Valdisotto "Ciao Dantino"\, torneo di calcio
DESCRIPTION:CIAO DANTINO\nGiornata di sport in ricordo di Dante Colturi. \nColleghi\, amici\, appassionati\, simpatizzanti e tutta la popolazione sono inviatati\, presso l’area sportiva di Fumarogo\, domenica 21 settembre 2014 alle ore 14.00\nI ragazzi della scuola calcio alle 14.30 disputeranno una partita a cui seguiranno degli incontri fra adulti.\nLa manifestazione si concluderà con una merenda.\nSaranno raccolti fondi per l’AISLA\, associazione italiana sclerosi laterale amiotrofica.
URL:https://www.usbormiese.com/event/manifestazioni-a-valdisotto-ciao-dantino-torneo-di-calcio/
CATEGORIES:CALCIO,MANIFESTAZIONI
END:VEVENT
BEGIN:VEVENT
DTSTART;VALUE=DATE:20140921
DTEND;VALUE=DATE:20140922
DTSTAMP:20260424T235854
CREATED:20140718T085347Z
LAST-MODIFIED:20140905T082006Z
UID:3783-1411257600-1411343999@www.usbormiese.com
SUMMARY:MOUNTAIN BIKE - A Talamona: Circuito Asso Bike
DESCRIPTION:
URL:https://www.usbormiese.com/event/mountain-bike-a-talamona-circuito-asso-bike/
CATEGORIES:CICLISMO
END:VEVENT
BEGIN:VEVENT
DTSTART;VALUE=DATE:20140921
DTEND;VALUE=DATE:20140922
DTSTAMP:20260424T235854
CREATED:20140718T085250Z
LAST-MODIFIED:20140915T074824Z
UID:3782-1411257600-1411343999@www.usbormiese.com
SUMMARY:CORSA IN MONTAGNA - A Chiavenna: 33° Trofeo Marmitte dei Giganti
DESCRIPTION:Domenica 21 settembre 2014 a Chiavenna (SO)\n33° TROFEO MARMITTE DEI GIGANTI\nGara nazionale di corsa in montagna\nCATEGORIE: Junior/Promesse/Senior/Master m/f\nRitrovo ore 13:00\nInizio gara femminile ore 13:45\nInizio gara maschile ore 14:00\nOrganizzazione: G.P. VALCHIAVENNA\nPer informazioni: tel. 0343/35657\, cell. 347/6076920\, mail: info@gpvalchiavenna.it\, \nInfo su www.gpvalchiavenna.it
URL:https://www.usbormiese.com/event/corsa-in-montagna-a-chiavenna-33-trofeo-marmitte-dei-giganti/
CATEGORIES:ATLETICA
END:VEVENT
BEGIN:VEVENT
DTSTART;VALUE=DATE:20140921
DTEND;VALUE=DATE:20140922
DTSTAMP:20260424T235854
CREATED:20140718T084407Z
LAST-MODIFIED:20140917T081020Z
UID:3777-1411257600-1411343999@www.usbormiese.com
SUMMARY:CICLISMO - A Bormio: Trofeo Zangrando\, cronometro a coppie
DESCRIPTION:Classica cronometro a coppie che segna la chiusura della stagione degli eventi dell’US Bormiese Ciclismo.\nAl termine tradizionale festa di chiusura del settore ciclismo dell’USB \nIscrizioni e informazioni info@usbormiese.com \nLA LOCANDINA CON PROGRAMMA E INFO (aggiornato!) \nMAPPA: DETTAGLIO GIRO DI BOA A TOLA/AQUILONE \nMAPPA: IL PERCORSO DELL’EDIZIONE 2014 \nMAPPA: BORMIO\, INDICAZIONI PER L’EVENTO
URL:https://www.usbormiese.com/event/ciclismo-a-bormio-trofeo-zangrando-cronometro-a-coppie/
CATEGORIES:IN EVIDENZA
ATTACH;FMTTYPE=image/jpeg:https://www.usbormiese.com/wp-content/uploads/2014/07/zangrando2012_201.jpg
END:VEVENT
BEGIN:VEVENT
DTSTART;TZID=Europe/Rome:20140920T173000
DTEND;TZID=Europe/Rome:20140920T193000
DTSTAMP:20260424T235854
CREATED:20140904T213049Z
LAST-MODIFIED:20140904T213354Z
UID:4546-1411234200-1411241400@www.usbormiese.com
SUMMARY:CALCIO\, Allievi - A Bormio: Bormiese-Albosaggia
DESCRIPTION:Campionato provinciale Allievi – Fase Autunnale – 2^ Giornata di Andata\nA Bormio\, Bormiese-Albosaggia
URL:https://www.usbormiese.com/event/calcio-allievi-a-bormio-bormiese-albosaggia/
CATEGORIES:CALCIO
END:VEVENT
BEGIN:VEVENT
DTSTART;VALUE=DATE:20140920
DTEND;VALUE=DATE:20140921
DTSTAMP:20260424T235854
CREATED:20140718T085059Z
LAST-MODIFIED:20140915T064916Z
UID:3781-1411171200-1411257599@www.usbormiese.com
SUMMARY:CICLISMO - Bormio\, Gavia e Mortirolo: rhxdue Contador 2014
DESCRIPTION:Due giorni di grande ciclismo su due passi alpini icone del ciclismo internazionale. Alberto Contador ed il suo Team Under 23 sul Gavia e Mortirolo insieme a rh+ e a migliaia di ciclisti. \nSabato 20 settembre 2014\nsalita al Passo Gavia\nProgramma:\n\n/ ORE 9.00-10.00 \n/  Partenza da Bormio\, piazza del Kuerc\, \n/ Arrivo sul Passo Gavia\, distanza km 26 per 1404 m. di dislivello\, con ristoro per tutti i partecipanti iscritti . \n/ Alberto Contador consegna i premi estratti durante la fase di preiscrizione \nOre 15\,30: Alberto Contador incontra i giovani atleti alla Festa dello Sport a Tirano \n“Il Gavia è la Grande Guerra: un ciclismo da trincea\, fanti e bestie comunque da soma\, bici pesanti come cannoni\, la montagna ostile che respinge e poi rassegnata che si spalanca”
URL:https://www.usbormiese.com/event/ciclismo-bormio-gavia-e-mortirolo-rhxdue-contador-2014/
CATEGORIES:CICLISMO,IN EVIDENZA
ATTACH;FMTTYPE=image/jpeg:https://www.usbormiese.com/wp-content/uploads/2014/07/contador2013_rep.jpg
END:VEVENT
BEGIN:VEVENT
DTSTART;VALUE=DATE:20140920
DTEND;VALUE=DATE:20140921
DTSTAMP:20260424T235854
CREATED:20140718T084935Z
LAST-MODIFIED:20140915T074521Z
UID:3779-1411171200-1411257599@www.usbormiese.com
SUMMARY:ATLETICA - A Chiuro: campionati provinciali giovanili in pista
DESCRIPTION:A CHIURO CAMPIONATI PROVINCIALI GIOVANILI DI ATLETICA LEGGERA SU PISTA\nPROGRAMMA GARE:\nRAGAZZI M/F: 60hs-vortex-alto\nCADETTI M/F: 80hs/100hs-300-lungo-peso\nRitrovo ore 15:00\nChiusura iscrizioni pre 15:30\nInizio gare ore 16:00\nOrganizzazione: PENTACOM\nPer informazioni: cell. 338/3611126\, mail: a.s.pentacom@libero.it\, sito: www.aspentacom.it
URL:https://www.usbormiese.com/event/atletica-a-chiuro-campionati-provinciali-giovanili-in-pista/
CATEGORIES:ATLETICA
END:VEVENT
BEGIN:VEVENT
DTSTART;VALUE=DATE:20140919
DTEND;VALUE=DATE:20140920
DTSTAMP:20260424T235854
CREATED:20140918T143413Z
LAST-MODIFIED:20140918T144231Z
UID:4769-1411084800-1411171199@www.usbormiese.com
SUMMARY:Teoria dell'allenamento: serata divulgativa
DESCRIPTION:Sci club Alta Valtellina e Unione Sportiva Bormiese organizzano\, venerdì 19 settembre 2014\, una serata divulgativa a proposito di “teoria dell’allenamento”. \nTAVOLA ROTONDA SULLO SCIALPINISMO E SULLO SPORT DI RESISTENZA IN GENERALE RESISTENZA IN GENERALE \nSala Bormio Servizi ore 20.30  \nConoscere il proprio fisico\, pianificare l’allenamento\, porsi degli obiettivi\, ottenere risultati.\nCon la partecipazione del preparatore atletico EROS GRAZIOLI Photo: CRISTIAN BORDONI
URL:https://www.usbormiese.com/event/teoria-dellallenamento-serata-divulgativa/
CATEGORIES:IN EVIDENZA
ATTACH;FMTTYPE=image/jpeg:https://www.usbormiese.com/wp-content/uploads/2014/09/allenamento.jpg
END:VEVENT
BEGIN:VEVENT
DTSTART;VALUE=DATE:20140916
DTEND;VALUE=DATE:20140917
DTSTAMP:20260424T235854
CREATED:20140916T082356Z
LAST-MODIFIED:20140916T082442Z
UID:4737-1410825600-1410911999@www.usbormiese.com
SUMMARY:"Teoria dell'allenamento": tavola rotonda a Bormio con Eros Grazioli
DESCRIPTION:Venerdì 19 settembre 2014 alle ore 20.30    presso la sala riunioni Bormio Servizi (di fianco agli uffici dell’Unione Sportiva Bormiese)\, con l’organizzazione curata dal settore SKI ALP dello SCI CLUB ALTA VALTELLINA e con la collaborazione dell’UNIONE SPORTIVA BORMIESE\, verrà organizzata una tavola rotonda sulla TEORIA DELL’ALLENAMENTO.\nLa serata sarà tenuta dal preparatore atletico EROS GRAZIOLI (se cerchi su internet trovi sue referenze – è anche allenatore di PIETRO LANFRANCHI\, lo skialper bergamasco). \nLOCANDINA SERATA TEORIA DELL’ALLENAMENTO
URL:https://www.usbormiese.com/event/teoria-dellallenamento-tavola-rotonda-a-bormio-con-eros-grazioli/
CATEGORIES:IN EVIDENZA,MANIFESTAZIONI
ATTACH;FMTTYPE=image/jpeg:https://www.usbormiese.com/wp-content/uploads/2014/09/ROBERT-ANTO.jpg
END:VEVENT
BEGIN:VEVENT
DTSTART;TZID=Europe/Rome:20140914T153000
DTEND;TZID=Europe/Rome:20140914T173000
DTSTAMP:20260424T235854
CREATED:20140902T152524Z
LAST-MODIFIED:20140908T161852Z
UID:4527-1410708600-1410715800@www.usbormiese.com
SUMMARY:CALCIO\, 2^ Categoria: a Chiesa\, Valmalenco-Bormiese
DESCRIPTION:Valmalenco-Bormiese. Seconda giornata di andata campionato 2^ categoria.\nSi gioca a Chiesa Valmalenco alle ore 15.30
URL:https://www.usbormiese.com/event/calcio-2-categoria-a-chiesa-valmalenco-bormiese/
CATEGORIES:CALCIO,IN EVIDENZA
ATTACH;FMTTYPE=image/jpeg:https://www.usbormiese.com/wp-content/uploads/2014/07/bormiese-calcio-logo.jpg
END:VEVENT
BEGIN:VEVENT
DTSTART;VALUE=DATE:20140914
DTEND;VALUE=DATE:20140915
DTSTAMP:20260424T235854
CREATED:20140908T161028Z
LAST-MODIFIED:20140908T161052Z
UID:4626-1410652800-1410739199@www.usbormiese.com
SUMMARY:ATLETICA - A Casette di Massa\, Campionato mondiale di corsa in montagna
DESCRIPTION:Domenica 14 settembre 2014 a Casette di Massa (MS). XXX Campionati del Mondo di corsa in montagna \nLa squadra italiana/Italian Team \nUOMINI/Men (10) \nSeniores \nAlex BALDACCINI (G.S. Orobie) \nLuca CAGNATI (Atletica Valli Bergamasche) \nXavier CHEVRIER (Atletica Valli Bergamasche) \nBernard DEMATTEIS (Atletica Vallevaraita) \nMartin DEMATTEIS (Atletica Vallevaraita) \nTommaso VACCINA (Cambiaso Risso Running Team) \nJuniores \nHenry AYMONOD (Atletica Sandro Calvesi) \nNadir CAVAGNA (Atletica Vallebrembana) \nDavide MAGNINI (Atletica Valli di Non e Sole) \nAlberto VENDER (S.A. Valchiese) \nDONNE/Women (7) \nSeniores \nAntonella CONFORTOLA (G.S. Forestale) \nElisa DESCO (Atletica Alta Valtellina) \nAlice GAGGI (Runner Team 99) \nRenate RUNGGER (G.S. Forestale) \nJuniores \nAlba DE SILVESTRO (Polisportiva Caprioli) \nSimona PELAMATTI (Atletica Vallecamonica) \nAlessia ZECCA (G.S. Valgerola) \nIL SITO DEI CAMPIONATI MONDIALI: www.wmrc2014-massa.it
URL:https://www.usbormiese.com/event/atletica-a-casette-di-massa-campionato-mondiale-di-corsa-in-montagna/
CATEGORIES:ATLETICA
END:VEVENT
BEGIN:VEVENT
DTSTART;VALUE=DATE:20140914
DTEND;VALUE=DATE:20140915
DTSTAMP:20260424T235854
CREATED:20140718T084839Z
LAST-MODIFIED:20140908T160848Z
UID:3778-1410652800-1410739199@www.usbormiese.com
SUMMARY:CORSA IN MONTAGNA - A Grosio: 29^ Fusino/Malghera
DESCRIPTION:29a FUSINO-MALGHERA \nGara provinciale di corsa in montagna \nCATEGORIE: Junior/Promesse/Senior/Master m/f \nRitrovo ore 07:30 \nInizio gare ore 09:00 \nOrganizzazione: GP RUPE MAGNA \nPer informazioni: Franzini Andrea (347/9955895)
URL:https://www.usbormiese.com/event/corsa-in-montagna-a-grosio-29-fusinomalghera/
CATEGORIES:ATLETICA
END:VEVENT
BEGIN:VEVENT
DTSTART;TZID=Europe/Rome:20140913T173000
DTEND;TZID=Europe/Rome:20140913T193000
DTSTAMP:20260424T235854
CREATED:20140904T212838Z
LAST-MODIFIED:20140904T213124Z
UID:4545-1410629400-1410636600@www.usbormiese.com
SUMMARY:CALCIO\, Allievi - A Bormio: Bormiese-Pontese
DESCRIPTION:Campionato provinciale Allievi – Fase Autunnale – 1^ Giornata di Andata\nA Bormio\, Bormiese-Pontese
URL:https://www.usbormiese.com/event/calcio-allievi-bormiese-pontese/
CATEGORIES:CALCIO
END:VEVENT
BEGIN:VEVENT
DTSTART;TZID=Europe/Rome:20140913T173000
DTEND;TZID=Europe/Rome:20140913T190000
DTSTAMP:20260424T235854
CREATED:20140904T214835Z
LAST-MODIFIED:20140904T214835Z
UID:4555-1410629400-1410634800@www.usbormiese.com
SUMMARY:CALCIO\, Giovanissimi - A Sondrio: Sondrio-Bormiese
DESCRIPTION:Campionato provinciale Giovanissimi – Fase Autunnale – 1^ Giornata di Andata\nA Sondrio\, Sondrio-Bormiese
URL:https://www.usbormiese.com/event/calcio-giovanissimi-a-sondrio-sondrio-bormiese/
CATEGORIES:CALCIO
END:VEVENT
BEGIN:VEVENT
DTSTART;VALUE=DATE:20140913
DTEND;VALUE=DATE:20140914
DTSTAMP:20260424T235854
CREATED:20140905T130553Z
LAST-MODIFIED:20140905T130553Z
UID:4593-1410566400-1410652799@www.usbormiese.com
SUMMARY:Nordic walking: sabato 13 settembre 2014 ecco la "Strafadiga"
DESCRIPTION:E’ in programma sabato 13 settembre 2014\, sul sentiero che dalla “Pedemontana” porta alla Croce di Reit\, l’edizione 2014 della “Strafadiga”.\nSi tratta della 13^ edizione della kermesse di nordic walking che ricorda Federico Valgoi\, giovane promessa dello sport valtellinese\, vittima di un grave incidente in montagna.\nPer ricordare “Valgo” i suoi allenatori\, i suoi amici e l’Unione Sportiva Bormiese organizzano tutti gli anni una manifestazione unica nel suo genere: quasi 6.000 metri\, ben 58 tornanti e 712 metri di dislivello. L’hanno chiamata “strafadiga”. \nSCARICA LA LOCANDINA \nOscrizioni presso gli uffici USB entro il 12 settembre 2014 \n 
URL:https://www.usbormiese.com/event/nordic-walking-sabato-13-settembre-2014-ecco-la-strafadiga/
CATEGORIES:IN EVIDENZA,MANIFESTAZIONI
ATTACH;FMTTYPE=image/jpeg:https://www.usbormiese.com/wp-content/uploads/2014/09/strafadiga2013.jpg
END:VEVENT
BEGIN:VEVENT
DTSTART;VALUE=DATE:20140913
DTEND;VALUE=DATE:20140914
DTSTAMP:20260424T235854
CREATED:20140718T084151Z
LAST-MODIFIED:20140908T160744Z
UID:3776-1410566400-1410652799@www.usbormiese.com
SUMMARY:ATLETICA - A Chiuro: campionato provinciale in pista
DESCRIPTION:Sabato 13 settembre 2014 a Chiuro (SO)  \nCAMPIONATI PROVINCIALI SU PISTA RAGAZZI/CADETTI \nProgramma gare: \nRAGAZZI M/F: 60 – 1000 – peso – alto \nCADETTI M/F: 80 – 1000 – alto – giavellotto \nRitrovo ore 15:00 \nChiusura iscrizioni pre 15:30 \nInizio gare ore 16:00 \nOrganizzazione: PENTACOM \nPer informazioni: 338/3611126\, a.s.pentacom@libero.it\, www.aspentacom.it
URL:https://www.usbormiese.com/event/atletica-a-chiuro-campionato-provinciale-in-pista/
CATEGORIES:ATLETICA
END:VEVENT
BEGIN:VEVENT
DTSTART;TZID=Europe/Rome:20140907T173000
DTEND;TZID=Europe/Rome:20140907T190000
DTSTAMP:20260424T235854
CREATED:20140902T103124Z
LAST-MODIFIED:20140907T173243Z
UID:4523-1410111000-1410116400@www.usbormiese.com
SUMMARY:Calcio\, 2^ categoria: a Bormio\, Bormiese vs Berbenno
DESCRIPTION:Bormiese – Berbenno\, prima giornata del campionato provinciale di seconda categoria.\nSi gioca alle 15.30 presso il campo del centro sportivo comunale in zona Pentagono a Bormio
URL:https://www.usbormiese.com/event/calcio-2-categoria-a-bormio-bormiese-vs-berbenno/
CATEGORIES:CALCIO
ATTACH;FMTTYPE=image/jpeg:https://www.usbormiese.com/wp-content/uploads/2014/09/primaSquadra1415a.jpg
END:VEVENT
BEGIN:VEVENT
DTSTART;VALUE=DATE:20140907
DTEND;VALUE=DATE:20140908
DTSTAMP:20260424T235854
CREATED:20140718T083943Z
LAST-MODIFIED:20140905T082041Z
UID:3775-1410048000-1410134399@www.usbormiese.com
SUMMARY:CORSA IN MONTAGNA - Ad Albosaggia: 22° Trofeo Giugni
DESCRIPTION:
URL:https://www.usbormiese.com/event/corsa-in-montagna-ad-albosaggia-22-trofeo-giugni/
CATEGORIES:ATLETICA
END:VEVENT
BEGIN:VEVENT
DTSTART;VALUE=DATE:20140907
DTEND;VALUE=DATE:20140908
DTSTAMP:20260424T235854
CREATED:20140718T083835Z
LAST-MODIFIED:20140905T082036Z
UID:3774-1410048000-1410134399@www.usbormiese.com
SUMMARY:CICLISMO - In Valmalenco: Gran Fondo delle Alpi
DESCRIPTION:
URL:https://www.usbormiese.com/event/ciclismo-in-valmalenco-gran-fondo-delle-alpi/
CATEGORIES:CICLISMO
END:VEVENT
BEGIN:VEVENT
DTSTART;VALUE=DATE:20140905
DTEND;VALUE=DATE:20140906
DTSTAMP:20260424T235854
CREATED:20140718T083713Z
LAST-MODIFIED:20140822T102602Z
UID:3773-1409875200-1409961599@www.usbormiese.com
SUMMARY:ATLETICA - A Sondalo: Circuito podistico delle Valli 2014\, tappa conclusiva
DESCRIPTION:GIRINPISTA  \nSondalo 6^ e ultima prova del circuito podistico delle valli \nProva di podismo in pista Organizzazione Unione Sportiva Bormiese \nInfo e iscrizioni: Unione Sportiva Bormiese tel. 0342/901482 info@usbormiese.com \n  \nNotizie e Classifiche
URL:https://www.usbormiese.com/event/atletica-a-sondalo-circuito-podistico-delle-valli-2014-tappa-conclusiva/
CATEGORIES:IN EVIDENZA
ATTACH;FMTTYPE=image/jpeg:https://www.usbormiese.com/wp-content/uploads/2014/07/girinpista2013_sondalo.jpg
END:VEVENT
BEGIN:VEVENT
DTSTART;VALUE=DATE:20140904
DTEND;VALUE=DATE:20140905
DTSTAMP:20260424T235854
CREATED:20140718T083528Z
LAST-MODIFIED:20140718T083528Z
UID:3772-1409788800-1409875199@www.usbormiese.com
SUMMARY:ATLETICA - A Chiavenna: serata delle siepi e del mezzofondo
DESCRIPTION:
URL:https://www.usbormiese.com/event/atletica-a-chiavenna-serata-delle-siepi-e-del-mezzofondo/
END:VEVENT
BEGIN:VEVENT
DTSTART;VALUE=DATE:20140831
DTEND;VALUE=DATE:20140901
DTSTAMP:20260424T235854
CREATED:20140825T083103Z
LAST-MODIFIED:20140825T163358Z
UID:3769-1409443200-1409529599@www.usbormiese.com
SUMMARY:ATLETICA - In Valdidentro: Giro dei Laghi di Cancano
DESCRIPTION:Giro dei Laghi di Cancano\nLa mezza maratona in quota\nL’Unione Sportiva Bormiese in collaborazione con A2A\, Comune di Valdidentro e Parco Nazionale dello Stelvio\, organizza domenica 31 agosto 2014 la 9^ edizione del GIRO DEI LAGHI DI CANCANO\, prova podistica a 1900 metri di quota.\n \n\n\nISCRIZIONI AL 25 AGOSTO 2014\n\n\nISCRIZIONI (on line\, vai al link indicato)\nISCRIZIONI (scarica il modulo)\nLocandina 2014 \nInformazioni 2014 \nQuello che c’è da sapere 2014 \nRegolamento Fidal \nAltimetria – Planimetria – Mappa partenza e arrivo \nTrittico Valtellina 2014\n\n********************************************************* \nPERCORSO STRADALE PER RAGGIUNGERE I LAGHI DI CANCANO\nProvenendo da MILANO-LECCO si percorre interamente la Valtellina fino a BORMIO; oppure provenendo da BERGAMO-BRESCIA\, si percorre la Valle Camonica si risale il Passo dell’Aprica e da lì si scende in Valtellina\, risalendo poi fino a BORMIO. Pochi chilometri dopo BORMIO – direzione LIVIGNO – si giunge in località FIORDALPE nel comune di Valdidentro ove\, abbandonata la Strada Statale 301 del Foscagno si prende la strada a destra\, che risale verso i LAGHI DI CANCANO. Superata su strada asfaltata una serie di tornanti e due brevi gallerie\, si giunge alle TORRI DI FRAELE.  Da lì su strada sterrata si percorrono gli ultimi 1500 metri\, costeggiando il LAGO SCALE\, e si raggiunge la località BOCCHETTA DI CANCANO (dove è posizionata la zona di partenza e arrivo della gara del GIRO DEI LAGHI DI CANCANO). \n********************************************************* \nARCHIVIO\n*********************************************************\ninfo@usbormiese.com – 0342.901482 \n*********************************************************
URL:https://www.usbormiese.com/event/atletica-in-valdidentro-giro-dei-laghi-di-cancano/
CATEGORIES:IN EVIDENZA
ATTACH;FMTTYPE=image/jpeg:https://www.usbormiese.com/wp-content/uploads/2014/07/girolaghiCancano.jpg
END:VEVENT
BEGIN:VEVENT
DTSTART;VALUE=DATE:20140831
DTEND;VALUE=DATE:20140901
DTSTAMP:20260424T235854
CREATED:20140718T083442Z
LAST-MODIFIED:20140718T083442Z
UID:3771-1409443200-1409529599@www.usbormiese.com
SUMMARY:MOUNTAIN BIKE - A Grosio: Circuito Asso Bike
DESCRIPTION:
URL:https://www.usbormiese.com/event/mountain-bike-a-grosio-circuito-asso-bike/
END:VEVENT
END:VCALENDAR