BEGIN:VCALENDAR
VERSION:2.0
PRODID:-//Unione Sportiva Bormiese - ECPv6.8.2.1//NONSGML v1.0//EN
CALSCALE:GREGORIAN
METHOD:PUBLISH
X-ORIGINAL-URL:https://www.usbormiese.com
X-WR-CALDESC:Eventi per Unione Sportiva Bormiese
REFRESH-INTERVAL;VALUE=DURATION:PT1H
X-Robots-Tag:noindex
X-PUBLISHED-TTL:PT1H
BEGIN:VTIMEZONE
TZID:Europe/Rome
BEGIN:DAYLIGHT
TZOFFSETFROM:+0100
TZOFFSETTO:+0200
TZNAME:CEST
DTSTART:20140330T010000
END:DAYLIGHT
BEGIN:STANDARD
TZOFFSETFROM:+0200
TZOFFSETTO:+0100
TZNAME:CET
DTSTART:20141026T010000
END:STANDARD
END:VTIMEZONE
BEGIN:VEVENT
DTSTART;VALUE=DATE:20140819
DTEND;VALUE=DATE:20140820
DTSTAMP:20260425T060748
CREATED:20140718T082002Z
LAST-MODIFIED:20140718T082002Z
UID:3762-1408406400-1408492799@www.usbormiese.com
SUMMARY:CICLISMO - A Bormio/Stelvio: evento Haute Route Dolomiti
DESCRIPTION:
URL:https://www.usbormiese.com/event/ciclismo-a-bormiostelvio-evento-haute-route-dolomiti-3/
END:VEVENT
BEGIN:VEVENT
DTSTART;TZID=Europe/Rome:20140818T080000
DTEND;TZID=Europe/Rome:20140901T170000
DTSTAMP:20260425T060748
CREATED:20140729T210407Z
LAST-MODIFIED:20140902T103549Z
UID:3898-1408348800-1409590800@www.usbormiese.com
SUMMARY:Calcio\, prima squadra: raduno estivo
DESCRIPTION:La prima squadra si raduna il 18 agosto per la preparazione del campionato 2014/2015 di seconda categoria \nil ritiro proseguirà a Bormio fino al 25 agosto 2014
URL:https://www.usbormiese.com/event/calcio-prima-squadra-raduno-estivo/
ATTACH;FMTTYPE=image/jpeg:https://www.usbormiese.com/wp-content/uploads/2014/07/bormiese-calcio-logo.jpg
END:VEVENT
BEGIN:VEVENT
DTSTART;TZID=Europe/Rome:20140818T080000
DTEND;TZID=Europe/Rome:20140818T170000
DTSTAMP:20260425T060748
CREATED:20140812T095751Z
LAST-MODIFIED:20140812T095751Z
UID:4111-1408348800-1408381200@www.usbormiese.com
SUMMARY:CALCIO - Scuola calcio Alta Valtellina estate 2014
DESCRIPTION:Dal 4 al 29 agosto 2014\, sul campo sportivo di Santa Lucia in Valdisotto\, è in programma il quarto corso della scuola calcio Alta Valtellina Estate 2014 organizzato dall’US Bormiese con Polisportia Valfurva\, Gruppo Sportivo Rio Scianno e Amici dello Sport di Valdisotto \n  \nLe lezioni si terranno dalle 9.30 alle 11.30 il lunedì\, il mercoledì ed il venerdì. \nVenerdì 29 agosto 2014 è prevista quale giornata di recupero
URL:https://www.usbormiese.com/event/calcio-scuola-calcio-alta-valtellina-estate-2014-6/
END:VEVENT
BEGIN:VEVENT
DTSTART;VALUE=DATE:20140818
DTEND;VALUE=DATE:20140819
DTSTAMP:20260425T060748
CREATED:20140718T081932Z
LAST-MODIFIED:20140718T081932Z
UID:3761-1408320000-1408406399@www.usbormiese.com
SUMMARY:CICLISMO - A Bormio/Stelvio: evento Haute Route Dolomiti
DESCRIPTION:
URL:https://www.usbormiese.com/event/ciclismo-a-bormiostelvio-evento-haute-route-dolomiti-2/
END:VEVENT
BEGIN:VEVENT
DTSTART;VALUE=DATE:20140817
DTEND;VALUE=DATE:20140818
DTSTAMP:20260425T060748
CREATED:20140718T081732Z
LAST-MODIFIED:20140806T150128Z
UID:3760-1408233600-1408319999@www.usbormiese.com
SUMMARY:CICLISMO -  A Bormio/Stelvio: evento Haute Route Dolomiti
DESCRIPTION:
URL:https://www.usbormiese.com/event/ciclismo-a-bormiostelvio-evento-haute-route-dolomiti/
ATTACH;FMTTYPE=image/jpeg:https://www.usbormiese.com/wp-content/uploads/2014/07/restelvio-000.jpg
END:VEVENT
BEGIN:VEVENT
DTSTART;VALUE=DATE:20140814
DTEND;VALUE=DATE:20140815
DTSTAMP:20260425T060748
CREATED:20140718T081401Z
LAST-MODIFIED:20140718T081401Z
UID:3755-1407974400-1408060799@www.usbormiese.com
SUMMARY:ATLETICA - A Valdisotto: Circuito podistico delle Valli 2014 - 4^ tappa
DESCRIPTION:
URL:https://www.usbormiese.com/event/atletica-a-valdisotto-circuito-podistico-delle-valli-2014-4-tappa/
END:VEVENT
BEGIN:VEVENT
DTSTART;TZID=Europe/Rome:20140813T080000
DTEND;TZID=Europe/Rome:20140813T170000
DTSTAMP:20260425T060748
CREATED:20140812T095726Z
LAST-MODIFIED:20140812T095726Z
UID:4110-1407916800-1407949200@www.usbormiese.com
SUMMARY:CALCIO - Scuola calcio Alta Valtellina estate 2014
DESCRIPTION:Dal 4 al 29 agosto 2014\, sul campo sportivo di Santa Lucia in Valdisotto\, è in programma il quarto corso della scuola calcio Alta Valtellina Estate 2014 organizzato dall’US Bormiese con Polisportia Valfurva\, Gruppo Sportivo Rio Scianno e Amici dello Sport di Valdisotto \n  \nLe lezioni si terranno dalle 9.30 alle 11.30 il lunedì\, il mercoledì ed il venerdì. \nVenerdì 29 agosto 2014 è prevista quale giornata di recupero
URL:https://www.usbormiese.com/event/calcio-scuola-calcio-alta-valtellina-estate-2014-5/
END:VEVENT
BEGIN:VEVENT
DTSTART;TZID=Europe/Rome:20140811T080000
DTEND;TZID=Europe/Rome:20140811T170000
DTSTAMP:20260425T060748
CREATED:20140812T095658Z
LAST-MODIFIED:20140812T095658Z
UID:4109-1407744000-1407776400@www.usbormiese.com
SUMMARY:CALCIO - Scuola calcio Alta Valtellina estate 2014
DESCRIPTION:Dal 4 al 29 agosto 2014\, sul campo sportivo di Santa Lucia in Valdisotto\, è in programma il quarto corso della scuola calcio Alta Valtellina Estate 2014 organizzato dall’US Bormiese con Polisportia Valfurva\, Gruppo Sportivo Rio Scianno e Amici dello Sport di Valdisotto \n  \nLe lezioni si terranno dalle 9.30 alle 11.30 il lunedì\, il mercoledì ed il venerdì. \nVenerdì 29 agosto 2014 è prevista quale giornata di recupero
URL:https://www.usbormiese.com/event/calcio-scuola-calcio-alta-valtellina-estate-2014-4/
END:VEVENT
BEGIN:VEVENT
DTSTART;VALUE=DATE:20140810
DTEND;VALUE=DATE:20140811
DTSTAMP:20260425T060748
CREATED:20140718T081036Z
LAST-MODIFIED:20140718T081036Z
UID:3750-1407628800-1407715199@www.usbormiese.com
SUMMARY:ATLETICA - In Valchiavenna: 4^ Maratona delle Alpi
DESCRIPTION:
URL:https://www.usbormiese.com/event/atletica-in-valchiavenna-4-maratona-delle-alpi/
END:VEVENT
BEGIN:VEVENT
DTSTART;TZID=Europe/Rome:20140808T080000
DTEND;TZID=Europe/Rome:20140808T170000
DTSTAMP:20260425T060748
CREATED:20140812T095635Z
LAST-MODIFIED:20140812T095635Z
UID:4108-1407484800-1407517200@www.usbormiese.com
SUMMARY:CALCIO - Scuola calcio Alta Valtellina estate 2014
DESCRIPTION:Dal 4 al 29 agosto 2014\, sul campo sportivo di Santa Lucia in Valdisotto\, è in programma il quarto corso della scuola calcio Alta Valtellina Estate 2014 organizzato dall’US Bormiese con Polisportia Valfurva\, Gruppo Sportivo Rio Scianno e Amici dello Sport di Valdisotto \n  \nLe lezioni si terranno dalle 9.30 alle 11.30 il lunedì\, il mercoledì ed il venerdì. \nVenerdì 29 agosto 2014 è prevista quale giornata di recupero
URL:https://www.usbormiese.com/event/calcio-scuola-calcio-alta-valtellina-estate-2014-3/
END:VEVENT
BEGIN:VEVENT
DTSTART;TZID=Europe/Rome:20140806T080000
DTEND;TZID=Europe/Rome:20140806T170000
DTSTAMP:20260425T060748
CREATED:20140812T095607Z
LAST-MODIFIED:20140812T095607Z
UID:4107-1407312000-1407344400@www.usbormiese.com
SUMMARY:CALCIO - Scuola calcio Alta Valtellina estate 2014
DESCRIPTION:Dal 4 al 29 agosto 2014\, sul campo sportivo di Santa Lucia in Valdisotto\, è in programma il quarto corso della scuola calcio Alta Valtellina Estate 2014 organizzato dall’US Bormiese con Polisportia Valfurva\, Gruppo Sportivo Rio Scianno e Amici dello Sport di Valdisotto \n  \nLe lezioni si terranno dalle 9.30 alle 11.30 il lunedì\, il mercoledì ed il venerdì. \nVenerdì 29 agosto 2014 è prevista quale giornata di recupero \n 
URL:https://www.usbormiese.com/event/calcio-scuola-calcio-alta-valtellina-estate-2014-2/
END:VEVENT
BEGIN:VEVENT
DTSTART;TZID=Europe/Rome:20140804T080000
DTEND;TZID=Europe/Rome:20140804T170000
DTSTAMP:20260425T060748
CREATED:20140812T095436Z
LAST-MODIFIED:20140812T095545Z
UID:4105-1407139200-1407171600@www.usbormiese.com
SUMMARY:CALCIO - Scuola calcio Alta Valtellina estate 2014
DESCRIPTION:Dal 4 al 29 agosto 2014\, sul campo sportivo di Santa Lucia in Valdisotto\, è in programma il quarto corso della scuola calcio Alta Valtellina Estate 2014 organizzato dall’US Bormiese con Polisportia Valfurva\, Gruppo Sportivo Rio Scianno e Amici dello Sport di Valdisotto \n  \nLe lezioni si terranno dalle 9.30 alle 11.30 il lunedì\, il mercoledì ed il venerdì. \nVenerdì 29 agosto 2014 è prevista quale giornata di recupero \n 
URL:https://www.usbormiese.com/event/calcio-scuola-calcio-alta-valtellina-estate-2014/
END:VEVENT
BEGIN:VEVENT
DTSTART;VALUE=DATE:20140804
DTEND;VALUE=DATE:20140824
DTSTAMP:20260425T060748
CREATED:20140806T154221Z
LAST-MODIFIED:20140812T102601Z
UID:4057-1407110400-1408838399@www.usbormiese.com
SUMMARY:BEACH VOLLEY - A Bormio: Tornei dell'estate 2014
DESCRIPTION:Presso il campo realizzato nello ski stadium della Pista Stelvio. \n \nDal 4 al 23 agosto 2004 sono in programma i classici tornei di beach volley \nBORMIO BEACH VOLLEY 2014 – TORNEO ADULTI\nTROFEO BAR GELATERIA GREEN ZETA – CAT.RAGAZZI\nTROFEO CRISTALL BAR PASTA HOUSE – CAT.MISTO/MASCHILE \nRisultati e classifiche
URL:https://www.usbormiese.com/event/beach-volley-a-bormio-tornei-dellestate-2014/
CATEGORIES:IN EVIDENZA
ATTACH;FMTTYPE=image/jpeg:https://www.usbormiese.com/wp-content/uploads/2014/07/beachVolley2013a.jpg
END:VEVENT
BEGIN:VEVENT
DTSTART;VALUE=DATE:20140801
DTEND;VALUE=DATE:20140802
DTSTAMP:20260425T060748
CREATED:20140718T080200Z
LAST-MODIFIED:20140729T125045Z
UID:3737-1406851200-1406937599@www.usbormiese.com
SUMMARY:ATLETICA: si corre a Bormio il Circuito Sprint del Kuerc 2014
DESCRIPTION:L’Unione Sportiva Bormiese organizza venerdì 1° agosto 2014 la manifestazione podistica denominata SPRINT DEL KUERC\, gara su strada\nprovinciale\, valida come 9^ prova del Trofeo Giovanile Credito Valtellinese.\nAlla prova sono ammessi i tesserati FIDAL per l’anno 2014 per tutte le regioni d’Italia.\nLe categorie ammesse saranno le seguenti:\nESORDIENTI B e C M/F 2005/2008\, ESORDIENTI A 2003/2004\, RAGAZZI M/F 2001/2002\, CADETTI M/F\n1999/2000\, ALLIEVI M/F 1998/1997\, JUNIOR M/F 1995/1996\, PROMESSE 1992/1994\, SENIOR M/F\n1991/1980\, SENIOR MASTER M/F 1979 e precedenti. \nIl ritrovo è fissato alle ore 17\,00 in piazza del Kuerc a Bormio (si consiglia di lasciare l’auto o in Piazza V Alpini oppure nelle aree parking sul Lungo Frodolfo o nella zona Funivia\, raggiungibili a piedi in pochi minuti). L’inizio delle prove è fissato alle ore 18\,00. L’ordine di partenza e distanze per le singole categorie è pubblicato sul portale della società organizzatrice: www.usbormiese.com\nLe premiazioni verranno effettuate sempre in piazza del Kuerc al termine della prova Cadetti per le categorie\nESORDIENTI\, RAGAZZI e CADETTI; per le restanti categorie al termine dell’ultima gara. \nLe iscrizioni vanno effettuate entro le ore 22\,00 di mercoledì 30 luglio 2014 direttamente presso la\nsegreteria Unione Sportiva Bormiese in via Manzoni a Bormio\, oppure con e-mail all’indirizzo\ninfo@usbormiese.com. \nPer tutti i dettagli www.usbormiese.com
URL:https://www.usbormiese.com/event/atletica-a-bormio-circuito-sprint-del-kuerc/
CATEGORIES:IN EVIDENZA
ATTACH;FMTTYPE=image/jpeg:https://www.usbormiese.com/wp-content/uploads/2014/07/kuerc2014LOC.jpg
END:VEVENT
BEGIN:VEVENT
DTSTART;VALUE=DATE:20140731
DTEND;VALUE=DATE:20140801
DTSTAMP:20260425T060748
CREATED:20140718T080127Z
LAST-MODIFIED:20140718T080127Z
UID:3736-1406764800-1406851199@www.usbormiese.com
SUMMARY:CALCIO:  A Bormio: Memorial Stefano Cantoni 2014
DESCRIPTION:
URL:https://www.usbormiese.com/event/calcio-a-bormio-memorial-stefano-cantoni-2014-3/
END:VEVENT
BEGIN:VEVENT
DTSTART;TZID=Europe/Rome:20140730T080000
DTEND;TZID=Europe/Rome:20140809T170000
DTSTAMP:20260425T060748
CREATED:20140729T101558Z
LAST-MODIFIED:20140806T154256Z
UID:3835-1406707200-1407603600@www.usbormiese.com
SUMMARY:BOCCE: in programma a Bormio il Trofeo Vito Spechenhauser 2014
DESCRIPTION:Dall’1 al 9 agosto 2014\, presso il bocciodromo di Bormio\, è in programma l’ormai classico torneo dell’estate bormina dedicato alla memoria di Vito Spechenhauser. \nLe iscrizioni si ricevono entro mercoledì 30 luglio 2014. Nella stessa data verranno effettuati i sorteggi. \nIl torneo inizierà il 1° agosto per concludersi sabato 9 agosto 2014. \nhttps://www.facebook.com/bocciofila.bormio \nLA LOCANDINA DELL’EVENTO
URL:https://www.usbormiese.com/event/bocce-a-bormio-trofeo-vito-spechenhauser-2014/
ATTACH;FMTTYPE=image/jpeg:https://www.usbormiese.com/wp-content/uploads/2014/07/bocce2014_02.jpg
END:VEVENT
BEGIN:VEVENT
DTSTART;VALUE=DATE:20140730
DTEND;VALUE=DATE:20140818
DTSTAMP:20260425T060748
CREATED:20140718T075628Z
LAST-MODIFIED:20140811T124853Z
UID:3731-1406678400-1408319999@www.usbormiese.com
SUMMARY:CALCIO: A Bormio si gioca il Memorial Stefano Cantoni 2014
DESCRIPTION:Oratorio di Bormio e Us Bormiese\norganizzano dal 30 luglio al 17 agosto 2014\nil Memorial Stefano Cantoni\n7^ EDIZIONE – BIENNALE NON CONSECUTIVO \nTORNEO DI CALCIO A 6 GIOCATORI\nTrofeo Bee White 2014 \nIl torneo si effettua sul campo sintetico dell’Oratorio di Bormio. \nAGGIORNAMENTI a cura di Gabry \nM O N T E P R E M I\n1a squadra classifi cata – Buono Valore Euro 750\n2a squadra classifi cata – Buono Valore Euro 500\n3a squadra classifi cata – Buono Valore Euro 250\nRiconoscimenti per miglior giocatore\, cannoniere e portiere\nWWW.USBORMIESE.COM – WWW.ALTAREZIANEWS.IT \n 
URL:https://www.usbormiese.com/event/calcio-a-bormio-memorial-stefano-cantoni-2014/
CATEGORIES:IN EVIDENZA
ATTACH;FMTTYPE=image/jpeg:https://www.usbormiese.com/wp-content/uploads/2014/07/torneoOratorioRep2014.jpg
END:VEVENT
BEGIN:VEVENT
DTSTART;VALUE=DATE:20140730
DTEND;VALUE=DATE:20140731
DTSTAMP:20260425T060748
CREATED:20140718T080046Z
LAST-MODIFIED:20140729T102843Z
UID:3735-1406678400-1406764799@www.usbormiese.com
SUMMARY:CALCIO - Scuola Calcio Alta Valtellina
DESCRIPTION:
URL:https://www.usbormiese.com/event/calcio-scuola-calcio-alta-valtellina-7/
ATTACH;FMTTYPE=image/jpeg:https://www.usbormiese.com/wp-content/uploads/2014/07/pallone-calcio-1.jpg
END:VEVENT
BEGIN:VEVENT
DTSTART;VALUE=DATE:20140729
DTEND;VALUE=DATE:20140730
DTSTAMP:20260425T060748
CREATED:20140718T075951Z
LAST-MODIFIED:20140718T075951Z
UID:3734-1406592000-1406678399@www.usbormiese.com
SUMMARY:CALCIO -  A Bormio: Memorial Stefano Cantoni 2014
DESCRIPTION:
URL:https://www.usbormiese.com/event/calcio-a-bormio-memorial-stefano-cantoni-2014-2/
END:VEVENT
BEGIN:VEVENT
DTSTART;VALUE=DATE:20140728
DTEND;VALUE=DATE:20140729
DTSTAMP:20260425T060748
CREATED:20140718T075833Z
LAST-MODIFIED:20140718T075833Z
UID:3733-1406505600-1406591999@www.usbormiese.com
SUMMARY:CALCIO -  Scuola Calcio Alta Valtellina
DESCRIPTION:
URL:https://www.usbormiese.com/event/calcio-scuola-calcio-alta-valtellina-6/
END:VEVENT
BEGIN:VEVENT
DTSTART;VALUE=DATE:20140727
DTEND;VALUE=DATE:20140728
DTSTAMP:20260425T060748
CREATED:20140718T075455Z
LAST-MODIFIED:20140718T075455Z
UID:3730-1406419200-1406505599@www.usbormiese.com
SUMMARY:CICLISMO - Da Morbegno: Trofeo Passo San Marco
DESCRIPTION:
URL:https://www.usbormiese.com/event/ciclismo-da-morbegno-trofeo-passo-san-marco-2/
END:VEVENT
BEGIN:VEVENT
DTSTART;VALUE=DATE:20140727
DTEND;VALUE=DATE:20140728
DTSTAMP:20260425T060748
CREATED:20140718T075429Z
LAST-MODIFIED:20140718T075429Z
UID:3729-1406419200-1406505599@www.usbormiese.com
SUMMARY:ATLETICA - A Livigno: MiniStralivigno 2014
DESCRIPTION:
URL:https://www.usbormiese.com/event/atletica-a-livigno-ministralivigno-2014/
END:VEVENT
BEGIN:VEVENT
DTSTART;VALUE=DATE:20140726
DTEND;VALUE=DATE:20140727
DTSTAMP:20260425T060748
CREATED:20140718T075306Z
LAST-MODIFIED:20140719T150441Z
UID:3728-1406332800-1406419199@www.usbormiese.com
SUMMARY:ATLETICA - A Livigno: Stralivigno 2014
DESCRIPTION:
URL:https://www.usbormiese.com/event/atletica-a-livigno-stralivigno-2014/
CATEGORIES:IN EVIDENZA
ATTACH;FMTTYPE=image/jpeg:https://www.usbormiese.com/wp-content/uploads/2014/07/Stralivigno2012_start.jpg
END:VEVENT
BEGIN:VEVENT
DTSTART;VALUE=DATE:20140725
DTEND;VALUE=DATE:20140726
DTSTAMP:20260425T060748
CREATED:20140718T075210Z
LAST-MODIFIED:20140725T103558Z
UID:3727-1406246400-1406332799@www.usbormiese.com
SUMMARY:PALLAVOLO - Volley Summer Camp Bormio 2014
DESCRIPTION:Adventure Awards Days Un festival dedicato all’avventura: da vivere\, raccontare e condividere dal 22 al 27 luglio 2014. L’appuntamento dell’estate per tutti gli amanti dell’avventura è a Livigno\, dal 22 al 27 luglio 2014. Adventure Awards è un festival che offre a tutti la possibilità di vivere la propria esperienza\, attraverso l’azione o il racconto; è un luogo in cui chiunque può mettersi in gioco e condividere le proprie emozioni. Livigno\, capitale italiana dell’outdoor\, accoglie un altro evento dedicato all’action e all’avventura; negli stessi giorni ci sarà anche la Stralivigno\, celebre gara di running che richiama ogni anno oltre 1.500 partecipanti\, cui saranno proposti degli appuntamenti dedicati\, con grandi atleti italiani e non solo.
URL:https://www.usbormiese.com/event/pallavolo-volley-summer-camp-bormio-2014-6/
END:VEVENT
BEGIN:VEVENT
DTSTART;VALUE=DATE:20140725
DTEND;VALUE=DATE:20140726
DTSTAMP:20260425T060748
CREATED:20140718T075140Z
LAST-MODIFIED:20140718T075140Z
UID:3726-1406246400-1406332799@www.usbormiese.com
SUMMARY:CALCIO - Scuola Calcio Alta Valtellina
DESCRIPTION:
URL:https://www.usbormiese.com/event/calcio-scuola-calcio-alta-valtellina-5/
END:VEVENT
BEGIN:VEVENT
DTSTART;VALUE=DATE:20140724
DTEND;VALUE=DATE:20140725
DTSTAMP:20260425T060748
CREATED:20140718T075103Z
LAST-MODIFIED:20140718T075103Z
UID:3725-1406160000-1406246399@www.usbormiese.com
SUMMARY:PALLAVOLO - Volley Summer Camp Bormio 2014
DESCRIPTION:
URL:https://www.usbormiese.com/event/pallavolo-volley-summer-camp-bormio-2014-5/
END:VEVENT
BEGIN:VEVENT
DTSTART;VALUE=DATE:20140724
DTEND;VALUE=DATE:20140725
DTSTAMP:20260425T060748
CREATED:20140718T074524Z
LAST-MODIFIED:20140729T102612Z
UID:3716-1406160000-1406246399@www.usbormiese.com
SUMMARY:A Fusino: 2^ Fusino/Redasco/Eita
DESCRIPTION:
URL:https://www.usbormiese.com/event/corsa-in-montagna-a-fusino-2-fusinoredascoeita/
ATTACH;FMTTYPE=image/jpeg:https://www.usbormiese.com/wp-content/uploads/2014/07/salita.jpg
END:VEVENT
BEGIN:VEVENT
DTSTART;VALUE=DATE:20140723
DTEND;VALUE=DATE:20140724
DTSTAMP:20260425T060748
CREATED:20140718T075034Z
LAST-MODIFIED:20140718T075034Z
UID:3724-1406073600-1406159999@www.usbormiese.com
SUMMARY:PALLAVOLO - Volley Summer Camp Bormio 2014
DESCRIPTION:
URL:https://www.usbormiese.com/event/pallavolo-volley-summer-camp-bormio-2014-4/
END:VEVENT
BEGIN:VEVENT
DTSTART;VALUE=DATE:20140723
DTEND;VALUE=DATE:20140724
DTSTAMP:20260425T060748
CREATED:20140718T075004Z
LAST-MODIFIED:20140728T083805Z
UID:3723-1406073600-1406159999@www.usbormiese.com
SUMMARY:CALCIO - Scuola Calcio Alta Valtellina
DESCRIPTION:
URL:https://www.usbormiese.com/event/calcio-scuola-calcio-alta-valtellina-4/
CATEGORIES:IN EVIDENZA
END:VEVENT
BEGIN:VEVENT
DTSTART;VALUE=DATE:20140722
DTEND;VALUE=DATE:20140723
DTSTAMP:20260425T060748
CREATED:20140718T074932Z
LAST-MODIFIED:20140718T074932Z
UID:3722-1405987200-1406073599@www.usbormiese.com
SUMMARY:PALLAVOLO - Volley Summer Camp Bormio 2014
DESCRIPTION:
URL:https://www.usbormiese.com/event/pallavolo-volley-summer-camp-bormio-2014-3/
END:VEVENT
END:VCALENDAR